Workbook

Sheet Danh sach
A1: DANH SÁCH BIỂU MẪU THỐNG KÊ NGÀNH KIỂM TRA ĐẢNG
A2: STT | B2: Tên biểu | C2: Nội dung | D2: Đường dẫn | E2: Biểu chứa dữ liệu
A3: 1 | B3: Biểu 01 | C3: Kiểm tra tổ chức đảng cấp dưới theo Điều 30 Điều lệ Đảng | D3: B01 | E3: Không
A4: 2 | B4: Biểu 02 | C4: Kiểm tra đảng viên theo Điều 30 Điều lệ Đảng | D4: B02 | E4: Không
A5: 3 | B5: Biểu 03 | C5: Kiểm tra tổ chức đảng khi có dấu hiệu vi phạm của cấp uỷ, ban thường vụ cấp uỷ | D5: B03 | E5: Không
A6: 4 | B6: Biểu 04 | C6: Kiểm tra đảng viên khi có dấu hiệu vi phạm của cấp uỷ, ban thường vụ cấp uỷ và chi bộ | D6: B04 | E6: Không
A7: 5 | B7: Biểu 05 | C7: Giám sát tổ chức đảng theo Điều 30 Điều lệ Đảng | D7: B05 | E7: Không
A8: 6 | B8: Biểu 06 | C8: Giám sát đảng viên theo Điều 30 Điều lệ Đảng | D8: B06 | E8: Không
A9: 7 | B9: Biểu 07 | C9: Thi hành kỷ luật tổ chức đảng của cấp uỷ các cấp | D9: B07 | E9: Không
A10: 8 | B10: Biểu 08 | C10: Thi hành kỷ luật đảng viên của cấp uỷ các cấp và chi bộ | D10: B08 | E10: Không
A11: 9 | B11: Biểu 09 | C11: Giải quyết tố cáo tổ chức đảng của cấp ủy các cấp | D11: B09 | E11: Không
A12: 10 | B12: Biểu 10 | C12: Giải quyết tố cáo đảng viên của cấp ủy các cấp và chi bộ | D12: B10 | E12: Không
A13: 11 | B13: Biểu 11 | C13: Giải quyết khiếu nại kỷ luật tổ chức đảng của cấp uỷ các cấp | D13: B11 | E13: Không
A14: 12 | B14: Biểu 12 | C14: Giải quyết khiếu nại kỷ luật đảng viên của cấp uỷ các cấp | D14: B12 | E14: Không
... A32: 30 | B32: Biểu 30 | C32: Tình hình đào tạo, bồi dưỡng cán bộ, công chức làm công tác kiểm tra | D32: B30 | E32: Không

Sheet DOCT
A1: BIỂU THỐNG KÊ TÌNH HÌNH THỰC HIỆN NHIỆM VỤ KIỂM TRA, GIÁM SÁT VÀ KỶ LUẬT ĐẢNG
A2: Kỳ báo cáo tháng 09 năm 2026
A3: TT | B3: Nội dung | C3: Tổng cộng
D4: Cấp trung ương | E4: Cấp tỉnh và tương đương | F4: Cấp trên trực tiếp cơ sở và tương đương | G4: Cấp cơ sở
G5: Đảng ủy cơ sở | H5: Đảng ủy bộ phận | I5: Chi bộ cơ sở | J5: Chi bộ trực thuộc
A6: 1 | B6: 2 | C6: 3 | D6: 4 | E6: 5 | F6: 6 | G6: 7 | H6: 8 | I6: 9 | J6: 10
A7: I | B7: KIỂM TRA, GIÁM SÁT CỦA CẤP ỦY CÁC CẤP VÀ CHI BỘ
A8: 1 | B8: Kiểm tra theo Điều 30 Điều lệ Đảng
A9: 1.1 | B9: Số tổ chức đảng cấp dưới được kiểm tra | C9: =SUM(C10:C11) -> 0 | D9: =SUM(D10:D11) -> 0 | E9: =SUM(E10:E11) -> 0 | F9: =SUM(F10:F11) -> 0 | G9: =SUM(G10:G11) -> 0 | H9: =SUM(H10:H11) -> 0 | I9: =SUM(I10:I11) -> 0 | J9: =SUM(J10:J11) -> 0
B10: Kết luận: Thực hiện tốt | C10: =SUM(D10:J10) -> 0 | D10: ='B01'!D18+'B01'!E18 -> 0 | E10: ='B01'!F18+'B01'!G18 -> 0 | F10: ='B01'!H18+'B01'!I18 -> 0 | G10: ='B01'!J18 -> 0 | H10: ='B01'!K18 -> 0
B11: Thực hiện chưa tốt | C11: =SUM(D11:J11) -> 0 | D11: ='B01'!D19+'B01'!E19 -> 0 | E11: ='B01'!F19+'B01'!G19 -> 0 | F11: ='B01'!H19+'B01'!I19 -> 0 | G11: ='B01'!J19 -> 0 | H11: ='B01'!K19 -> 0
B12: Trong đó: Có vi phạm, khuyết điểm | C12: =SUM(D12:J12) -> 0 | D12: ='B01'!D20+'B01'!E20 -> 0 | E12: ='B01'!F20+'B01'!G20 -> 0 | F12: ='B01'!H20+'B01'!I20 -> 0 | G12: ='B01'!J20 -> 0 | H12: ='B01'!K20 -> 0
B13: Phải thi hành kỷ luật | C13: =SUM(D13:J13) -> 0 | D13: ='B01'!D21+'B01'!E21 -> 0 | E13: ='B01'!F21+'B01'!G21 -> 0 | F13: ='B01'!H21+'B01'!I21 -> 0 | G13: ='B01'!J21 -> 0 | H13: ='B01'!K21 -> 0
B14: Đã thi hành kỷ luật | C14: =SUM(D14:J14) -> 0 | D14: ='B01'!D22+'B01'!E22 -> 0 | E14: ='B01'!F22+'B01'!G22 -> 0 | F14: ='B01'!H22+'B01'!I22 -> 0 | G14: ='B01'!J22 -> 0 | H14: ='B01'!K22 -> 0
A15: 1.2 | B15: Số đảng viên được kiểm tra | C15: =C17+C18 -> 0 | D15: =D17+D18 -> 0 | E15: =E17+E18 -> 0 | F15: =F17+F18 -> 0 | G15: =G17+G18 -> 0 | H15: =H17+H18 -> 0 | I15: =I17+I18 -> 0 | J15: =J17+J18 -> 0
B16: Là cấp ủy viên các cấp | C16: =SUM(D16:J16) -> 0 | D16: ='B02'!D12+'B02'!E12 -> 0 | E16: ='B02'!F12+'B02'!G12 -> 0 | F16: ='B02'!H12+'B02'!I12 -> 0 | G16: ='B02'!J12 -> 0 | H16: ='B02'!K12 -> 0 | I16: ='B02'!L12 -> 0 | J16: ='B02'!M12 -> 0
B17: Kết luận: Thực hiện tốt | C17: =SUM(D17:J17) -> 0 | D17: ='B02'!D28+'B02'!E28 -> 0 | E17: ='B02'!F28+'B02'!G28 -> 0 | F17: ='B02'!H28+'B02'!I28 -> 0 | G17: ='B02'!J28 -> 0 | H17: ='B02'!K28 -> 0 | I17: ='B02'!L28 -> 0 | J17: ='B02'!M28 -> 0
B18: Thực hiện chưa tốt | C18: =SUM(D18:J18) -> 0 | D18: ='B02'!D29+'B02'!E29 -> 0 | E18: ='B02'!F29+'B02'!G29 -> 0 | F18: ='B02'!H29+'B02'!I29 -> 0 | G18: ='B02'!J29 -> 0 | H18: ='B02'!K29 -> 0 | I18: ='B02'!L29 -> 0 | J18: ='B02'!M29 -> 0
B19: Trong đó: Có vi phạm, khuyết điểm | C19: =SUM(D19:J19) -> 0 | D19: ='B02'!D30+'B02'!E30 -> 0 | E19: ='B02'!F30+'B02'!G30 -> 0 | F19: ='B02'!H30+'B02'!I30 -> 0 | G19: ='B02'!J30 -> 0 | H19: ='B02'!K30 -> 0 | I19: ='B02'!L30 -> 0 | J19: ='B02'!M30 -> 0
B20: Phải thi hành kỷ luật | C20: =SUM(D20:J20) -> 0 | D20: ='B02'!D31+'B02'!E31 -> 0 | E20: ='B02'!F31+'B02'!G31 -> 0 | F20: ='B02'!H31+'B02'!I31 -> 0 | G20: ='B02'!J31 -> 0 | H20: ='B02'!K31 -> 0 | I20: ='B02'!L31 -> 0 | J20: ='B02'!M31 -> 0
B21: Đã thi hành kỷ luật | C21: =SUM(D21:J21) -> 0 | D21: ='B02'!D32+'B02'!E32 -> 0 | E21: ='B02'!F32+'B02'!G32 -> 0 | F21: ='B02'!H32+'B02'!I32 -> 0 | G21: ='B02'!J32 -> 0 | H21: ='B02'!K32 -> 0 | I21: ='B02'!L32 -> 0 | J21: ='B02'!M32 -> 0
A22: 2 | B22: Kiểm tra khi có dấu hiệu vi phạm
A23: 2.1 | B23: Số tổ chức đảng được kiểm tra | C23: =SUM(D23:J23) -> 0 | D23: ='B03'!D7 -> 0 | E23: ='B03'!E7 -> 0 | F23: ='B03'!F7 -> 0 | G23: ='B03'!G7 -> 0
B24: Kết luận: Tổ chức đảng có vi phạm | C24: =SUM(D24:J24) -> 0 | D24: ='B03'!D18 -> 0 | E24: ='B03'!E18 -> 0 | F24: ='B03'!F18 -> 0 | G24: ='B03'!G18 -> 0
B25: Phải thi hành kỷ luật | C25: =SUM(D25:J25) -> 0 | D25: ='B03'!D19 -> 0 | E25: ='B03'!E19 -> 0 | F25: ='B03'!F19 -> 0 | G25: ='B03'!G19 -> 0
B26: Đã thi hành kỷ luật | C26: =SUM(D26:J26) -> 0 | D26: ='B03'!D20 -> 0 | E26: ='B03'!E20 -> 0 | F26: ='B03'!F20 -> 0 | G26: ='B03'!G20 -> 0
B27: Đề nghị cấp có thẩm quyền thi hành kỷ luật | C27: =SUM(D27:J27) -> 0 | D27: ='B03'!D21 -> 0 | E27: ='B03'!E21 -> 0 | F27: ='B03'!F21 -> 0 | G27: ='B03'!G21 -> 0
A28: 2.2 | B28: Số đảng viên được kiểm tra | C28: =SUM(D28:J28) -> 0 | D28: ='B04'!D7 -> 0 | E28: ='B04'!E7 -> 0 | F28: ='B04'!F7 -> 0 | G28: ='B04'!G7 -> 0 | H28: ='B04'!H7 -> 0 | I28: ='B04'!I7 -> 0 | J28: ='B04'!J7 -> 0
B29: Là cấp ủy viên các cấp | C29: =SUM(D29:J29) -> 0 | D29: ='B04'!D12 -> 0 | E29: ='B04'!E12 -> 0 | F29: ='B04'!F12 -> 0 | G29: ='B04'!G12 -> 0 | H29: ='B04'!H12 -> 0 | I29: ='B04'!I12 -> 0 | J29: ='B04'!J12 -> 0
B30: Kết luận: Đảng viên có vi phạm | C30: =SUM(D30:J30) -> 0 | D30: ='B04'!D28 -> 0 | E30: ='B04'!E28 -> 0 | F30: ='B04'!F28 -> 0 | G30: ='B04'!G28 -> 0 | H30: ='B04'!H28 -> 0 | I30: ='B04'!I28 -> 0 | J30: ='B04'!J28 -> 0
B31: Phải thi hành kỷ luật | C31: =SUM(D31:J31) -> 0 | D31: ='B04'!D29 -> 0 | E31: ='B04'!E29 -> 0 | F31: ='B04'!F29 -> 0 | G31: ='B04'!G29 -> 0 | H31: ='B04'!H29 -> 0 | I31: ='B04'!I29 -> 0 | J31: ='B04'!J29 -> 0
B32: Đã thi hành kỷ luật | C32: =SUM(D32:J32) -> 0 | D32: ='B04'!D30 -> 0 | E32: ='B04'!E30 -> 0 | F32: ='B04'!F30 -> 0 | G32: ='B04'!G30 -> 0 | H32: ='B04'!H30 -> 0 | I32: ='B04'!I30 -> 0 | J32: ='B04'!J30 -> 0
B33: Đề nghị cấp có thẩm quyền thi hành kỷ luật | C33: =SUM(D33:J33) -> 0 | D33: ='B04'!D31 -> 0 | E33: ='B04'!E31 -> 0 | F33: ='B04'!F31 -> 0 | G33: ='B04'!G31 -> 0 | H33: ='B04'!H31 -> 0 | I33: ='B04'!I31 -> 0 | J33: ='B04'!J31 -> 0
A34: 3 | B34: Giám sát chuyên đề
A35: 3.1 | B35: Số tổ chức đảng được giám sát | C35: =C36+C37 -> 0 | D35: =D36+D37 -> 0 | E35: =E36+E37 -> 0 | F35: =F36+F37 -> 0 | G35: =G36+G37 -> 0 | H35: =H36+H37 -> 0 | I35: =I36+I37 -> 0 | J35: =J36+J37 -> 0
B36: Kết luận: Số thực hiện tốt | C36: =SUM(D36:J36) -> 0 | D36: ='B05'!D17+'B05'!E17 -> 0 | E36: ='B05'!F17+'B05'!G17 -> 0 | F36: ='B05'!H17+'B05'!I17 -> 0 | G36: ='B05'!J17 -> 0 | H36: ='B05'!K17 -> 0
B37: Số có hạn chế, khuyết điểm | C37: =SUM(D37:J37) -> 0 | D37: ='B05'!D18+'B05'!E18 -> 0 | E37: ='B05'!F18+'B05'!G18 -> 0 | F37: ='B05'!H18+'B05'!I18 -> 0 | G37: ='B05'!J18 -> 0 | H37: ='B05'!K18 -> 0
B38: Số chuyển kiểm tra khi có dấu hiệu vi phạm | C38: =SUM(D38:J38) -> 0 | D38: ='B05'!D19+'B05'!E19 -> 0 | E38: ='B05'!F19+'B05'!G19 -> 0 | F38: ='B05'!H19+'B05'!I19 -> 0 | G38: ='B05'!J19 -> 0 | H38: ='B05'!K19 -> 0
A39: 3.2 | B39: Số đảng viên được giám sát | C39: =C41+C42 -> 0 | D39: =D41+D42 -> 0 | E39: =E41+E42 -> 0 | F39: =F41+F42 -> 0 | G39: =G41+G42 -> 0 | H39: =H41+H42 -> 0 | I39: =I41+I42 -> 0 | J39: =J41+J42 -> 0
B40: Là cấp ủy viên các cấp | C40: =SUM(D40:J40) -> 0 | D40: ='B06'!D11+'B06'!E11 -> 0 | E40: ='B06'!F11+'B06'!G11 -> 0 | F40: ='B06'!H11+'B06'!I11 -> 0 | G40: ='B06'!J11 -> 0 | H40: ='B06'!K11 -> 0 | I40: ='B06'!L11 -> 0 | J40: ='B06'!M11 -> 0
...

Sheet B01
A1: KIỂM TRA TỔ CHỨC ĐẢNG CẤP DƯỚI THEO ĐIỀU 30 ĐIỀU LỆ ĐẢNG | Z1: Biểu 01
X2: (ĐVT: Tổ chức đảng)
A3: TT | B3: Tổ chức đảng được kiểm tra | C3: Tổng số tổ chức đảng được kiểm tra | D3: Cấp kiểm tra | L3: Nội dung kiểm tra | X3: Kết luận
D4: BCH Trung ương, BCT, BBT | E4: Các CQ tham mưu của Trung ương | F4: Tỉnh ủy, BTV Tỉnh uỷ và tương đương | G4: Các CQ tham mưu của cấp ủy tỉnh và tương đương | H4: Đảng ủy, BTV ĐU cấp trên trực tiếp cơ sở và tương đương | I4: Các CQ tham mưu của cấp ủy cấp trên trực tiếp cơ sở và tương đương | J4: Đảng ủy cơ sở, BTV Đảng ủy cơ sở | K4: Đảng uỷ bộ phận | L4: Việc chấp hành Cương lĩnh chính trị, Điều lệ Đảng, chủ trương, nghị quyết, chỉ thị, quy định, quyết định, quy chế, kết luận, hướng dẫn của Đảng | M4: Việc chấp hành chính sách, pháp luật của Nhà nước | N4: Việc chấp hành các nguyên tắc tổ chức và hoạt động của Đảng, giữ gìn đoàn kết nội bộ, quy chế làm việc, chế độ công tác, thực hiện dân chủ trong Đảng | O4: Việc lãnh đạo, chỉ đạo thực hành tiết kiệm; phòng, chống tham nhũng, lãng phí, tiêu cực | P4: Việc quản lý, rèn luyện phẩm chất, đạo đức, lối sống của đảng viên | Q4: Việc lãnh đạo, chỉ đạo và tổ chức thực hiện cải cách hành chính, cải cách pháp luật và tư pháp | R4: Việc lãnh đạo, chỉ đạo các cơ quan bảo vệ pháp luật trong công tác điều tra, truy tố, xét xử, thi hành án | S4: Công tác cán bộ | T4: Giải quyết khiếu nại, tố cáo | U4: Việc thực hiện các thông báo kết luận kiểm tra, giám sát, thanh tra, kiểm toán | V4: Việc lãnh đạo, chỉ đạo và tổ chức thực hiện kê khai, công khai tài sản, thu nhập | W4: Khác | X4: Thực hiện tốt | Y4: Thực hiện chưa tốt | Z4: Trong đó
Z5: Có vi phạm, khuyết điểm chưa đến mức phải kỷ luật | AA5: Phải thi hành kỷ luật | AB5: Đã thi hành kỷ luật
A6: 1 | B6: 2 | C6: 3 | D6: 4 | E6: 5 | F6: 6 | G6: 7 | H6: 8 | I6: 9 | J6: 10 | K6: 11 | L6: 12 | M6: 13 | N6: 14 | O6: 15 | P6: 16 | Q6: 17 | R6: 18 | S6: 19 | T6: 20 | U6: 21 | V6: 22 | W6: 23 | X6: 24 | Y6: 25 | Z6: 26 | AA6: 27 | AB6: 28
A7: I | B7: Tổ chức đảng được kiểm tra | C7: =SUM(C8:C16) -> 0 | D7: =SUM(D8:D16) -> 0 | E7: =SUM(E8:E16) -> 0 | F7: =SUM(F8:F16) -> 0 | G7: =SUM(G8:G16) -> 0 | H7: =SUM(H8:H16) -> 0 | I7: =SUM(I8:I16) -> 0 | J7: =SUM(J8:J16) -> 0 | ... AB7: =SUM(AB8:AB16) -> 0
B8: Các CQ tham mưu của Trung ương | C8: =SUM(D8:K8) -> 0
B9: Tỉnh uỷ, BTV tỉnh uỷ và tương đương | C9: =SUM(D9:K9) -> 0
B10: Các CQ tham mưu của cấp ủy tỉnh và tương đương | C10: =SUM(D10:K10) -> 0
B11: Đảng ủy, BTV ĐU cấp trên trực tiếp cơ sở và tương đương | C11: =SUM(D11:K11) -> 0
B12: Các CQ tham mưu của cấp ủy cấp trên trực tiếp cơ sở và tương đương | C12: =SUM(D12:K12) -> 0
B13: Đảng ủy cơ sở, BTV Đảng ủy cơ sở | C13: =SUM(D13:K13) -> 0
B14: Đảng ủy bộ phận | C14: =SUM(D14:K14) -> 0
B15: Chi bộ, Chi ủy | C15: =SUM(D15:K15) -> 0
B16: Khác (ban chỉ đạo, tiểu ban, hội đồng...) | C16: =SUM(D16:K16) -> 0
A17: II | B17: Kết luận | C17: =C18+C19 -> 0 | D17: =D18+D19 -> 0 | E17: =E18+E19 -> 0 | F17: =F18+F19 -> 0 | G17: =G18+G19 -> 0 | H17: =H18+H19 -> 0 | I17: =I18+I19 -> 0 | J17: =J18+J19 -> 0 | ... W17: =W18+W19 -> 0
B18: Thực hiện tốt | C18: =SUM(D18:K18) -> 0
B19: Thực hiện chưa tốt | C19: =SUM(D19:K19) -> 0
B20: Có vi phạm, khuyết điểm chưa đến mức phải kỷ luật | C20: =SUM(D20:K20) -> 0
B21: Phải thi hành kỷ luật | C21: =SUM(D21:K21) -> 0
B22: Đã thi hành kỷ luật | C22: =SUM(D22:K22) -> 0

Sheet B02
A1: KIỂM TRA ĐẢNG VIÊN THEO ĐIỀU 30 ĐIỀU LỆ ĐẢNG | Z1: Biểu 02
W2: (ĐVT: Đảng viên)
A3: TT | B3: Đảng viên được kiểm tra | C3: Tổng số đảng viên được kiểm tra | D3: Cấp kiểm tra | N3: Nội dung kiểm tra | W3: Kết luận
D4: BCHTW, BCT, Ban Bí thư | E4: Các CQ tham mưu của TW | F4: Tỉnh ủy, BTV tỉnh uỷ và tương đương | G4: Các CQ tham mưu của cấp ủy tỉnh và tương đương | H4: Đảng ủy, BTV ĐU cấp trên trực tiếp cơ sở và tương đương | I4: Các CQ tham mưu của cấp ủy cấp trên trực tiếp cơ sở và tương đương | J4: Đảng ủy cơ sở, BTV Đảng ủy cơ sở | K4: Đảng ủy bộ phận | L4: Chi bộ cơ sở | M4: Chi bộ trực thuộc | N4: Việc thực hiện những điều đảng viên không được làm | O4: Tiêu chuẩn đảng viên, tiêu chuẩn cấp ủy viên | P4: Việc thực hiện nhiệm vụ đảng viên, nhiệm vụ cấp ủy viên | Q4: Việc chấp hành nghị quyết, chỉ thị, quy định, kết luận của Đảng; chính sách, pháp luật của Nhà nước | R4: Việc chấp hành quy chế làm việc, nguyên tắc tập trung dân chủ, chế độ công tác | S4: Tư tưởng chính trị, đạo đức, lối sống, trách nhiệm nêu gương | T4: Việc thực hiện các thông báo kết luận kiểm tra, giám sát, thanh tra, kiểm toán | U4: Kê khai, công khai tài sản, thu nhập | V4: Khác | W4: Thực hiện tốt | X4: Thực hiện chưa tốt | Y4: Trong đó
Y5: Có vi phạm, khuyết điểm chưa đến mức phải kỷ luật | Z5: Phải thi hành kỷ luật | AA5: Đã thi hành kỷ luật
A6: 1 | B6: 2 | C6: 3 | D6: 4 | E6: 5 | F6: 6 | G6: 7 | H6: 8 | I6: 9 | J6: 10 | K6: 11 | L6: 12 | M6: 13 | N6: 14 | O6: 15 | P6: 16 | Q6: 17 | R6: 18 | S6: 19 | T6: 20 | U6: 21 | V6: 22 | W6: 23 | X6: 24 | Y6: 25 | Z6: 26 | AA6: 27
A7: I | B7: Cấp quản lý đảng viên | C7: =SUM(C8:C11) -> 0 | D7: =SUM(D8:D11) -> 0 | E7: =SUM(E8:E11) -> 0 | F7: =SUM(F8:F11) -> 0 | G7: =SUM(G8:G11) -> 0 | H7: =SUM(H8:H11) -> 0 | I7: =SUM(I8:I11) -> 0 | J7: =SUM(J8:J11) -> 0 | ... AA7: =SUM(AA8:AA11) -> 0
B8: Trung ương | C8: =SUM(D8:M8) -> 0
B9: Cấp tỉnh và tương đương | C9: =SUM(D9:M9) -> 0
B10: Cấp trên trực tiếp cơ sở và tương đương | C10: =SUM(D10:M10) -> 0
B11: Cấp cơ sở | C11: =SUM(D11:M11) -> 0
A12: II | B12: Là cấp uỷ viên các cấp | C12: =SUM(C13:C18) -> 0 | D12: =SUM(D13:D18) -> 0 | E12: =SUM(E13:E18) -> 0 | F12: =SUM(F13:F18) -> 0 | G12: =SUM(G13:G18) -> 0 | H12: =SUM(H13:H18) -> 0 | I12: =SUM(I13:I18) -> 0 | J12: =SUM(J13:J18) -> 0 | ... AA12: =SUM(AA13:AA18) -> 0
B13: Uỷ viên Trung ương | C13: =SUM(D13:M13) -> 0
B14: Tỉnh ủy viên và tương đương | C14: =SUM(D14:M14) -> 0
B15: Đảng ủy viên ĐU cấp trên trực tiếp cơ sở và tương đương | C15: =SUM(D15:M15) -> 0
B16: Đảng ủy viên đảng ủy cơ sở | C16: =SUM(D16:M16) -> 0
B17: Đảng ủy viên đảng ủy bộ phận | C17: =SUM(D17:M17) -> 0
B18: Chi ủy viên | C18: =SUM(D18:M18) -> 0
A19: III | B19: Đảng viên ở các lĩnh vực | C19: =SUM(C20:C26) -> 0 | D19: =SUM(D20:D26) -> 0 | E19: =SUM(E20:E26) -> 0 | F19: =SUM(F20:F26) -> 0 | G19: =SUM(G20:G26) -> 0 | H19: =SUM(H20:H26) -> 0 | I19: =SUM(I20:I26) -> 0 | J19: =SUM(J20:J26) -> 0 | ... AA19: =SUM(AA20:AA26) -> 0
B20: Đảng | C20: =SUM(D20:M20) -> 0
B21: Hành chính, Nhà nước | C21: =SUM(D21:M21) -> 0
B22: Đoàn thể | C22: =SUM(D22:M22) -> 0
B23: Lực lượng vũ trang | C23: =SUM(D23:M23) -> 0
B24: Sự nghiệp công lập | C24: =SUM(D24:M24) -> 0
B25: Sản xuất kinh doanh, dịch vụ | C25: =SUM(D25:M25) -> 0
B26: Các lĩnh vực khác | C26: =SUM(D26:M26) -> 0
A27: IV | B27: Kết luận | C27: =C28+C29 -> 0 | D27: =D28+D29 -> 0 | E27: =E28+E29 -> 0 | F27: =F28+F29 -> 0 | G27: =G28+G29 -> 0 | H27: =H28+H29 -> 0 | I27: =I28+I29 -> 0 | J27: =J28+J29 -> 0 | ... V27: =V28+V29 -> 0
B28: Thực hiện tốt | C28: =SUM(D28:M28) -> 0
B29: Thực hiện chưa tốt | C29: =SUM(D29:M29) -> 0
B30: Có vi phạm, khuyết điểm chưa đến mức phải kỷ luật | C30: =SUM(D30:M30) -> 0
B31: Phải thi hành kỷ luật | C31: =SUM(D31:M31) -> 0
B32: Đã thi hành kỷ luật | C32: =SUM(D32:M32) -> 0

Sheet B03
A1: KIỂM TRA TỔ CHỨC ĐẢNG KHI CÓ DẤU HIỆU VI PHẠM CỦA CẤP ỦY, BAN THƯỜNG VỤ CẤP ỦY | T1: Biểu 03
A3: TT | B3: Tổ chức đảng được kiểm tra | C3: Tổng số tổ chức đảng được kiểm tra | D3: Cấp kiểm tra | H3: Nội dung kiểm tra | R3: Kết luận
D4: BCHTW, Bộ Chính trị, Ban Bí thư | E4: Tỉnh ủy, BTV tỉnh ủy và tương đương | F4: Đảng ủy, BTV ĐU cấp trên trực tiếp cơ sở và tương đương | G4: Đảng ủy cơ sở, BTV đảng ủy cơ sở | H4: Việc chấp hành Cương lĩnh chính trị, Điều lệ Đảng, chủ trương, nghị quyết, chỉ thị, quy định, quyết định, quy chế, kết luận, hướng dẫn của Đảng | I4: Việc chấp hành chính sách, pháp luật của Nhà nước | J4: Việc chấp hành các nguyên tắc tổ chức và hoạt động của Đảng, giữ gìn đoàn kết nội bộ, quy chế làm việc, chế độ công tác, thực hiện dân chủ trong Đảng | K4: Việc lãnh đạo, chỉ đạo thực hành tiết kiệm; phòng, chống tham nhũng, lãng phí, tiêu cực | L4: Việc quản lý, rèn luyện phẩm chất, đạo đức, lối sống của đảng viên | M4: Việc lãnh đạo, chỉ đạo và tổ chức thực hiện cải cách hành chính, cải cách tư pháp | N4: Việc lãnh đạo, chỉ đạo các cơ quan bảo vệ pháp luật trong công tác điều tra, truy tố, xét xử, thi hành án | O4: Công tác cán bộ | P4: Giải quyết khiếu nại, tố cáo | Q4: Khác | R4: Số có vi phạm | S4: Trong đó
S5: Phải thi hành kỷ luật | T5: Đã thi hành kỷ luật | U5: Đề nghị cấp có thẩm quyền thi hành kỷ luật
A6: 1 | B6: 2 | C6: 3 | D6: 4 | E6: 5 | F6: 6 | G6: 7 | H6: 8 | I6: 9 | J6: 10 | K6: 11 | L6: 12 | M6: 13 | N6: 14 | O6: 15 | P6: 16 | Q6: 17 | R6: 18 | S6: 19 | T6: 20 | U6: 21
A7: I | B7: Tổ chức đảng được kiểm tra | C7: =SUM(C8:C16) -> 0 | D7: =SUM(D8:D16) -> 0 | E7: =SUM(E8:E16) -> 0 | F7: =SUM(F8:F16) -> 0 | G7: =SUM(G8:G16) -> 0 | H7: =SUM(H8:H16) -> 0 | I7: =SUM(I8:I16) -> 0 | J7: =SUM(J8:J16) -> 0 | ... U7: =SUM(U8:U16) -> 0
B8: Các CQ tham mưu của Trung ương | C8: =SUM(D8:G8) -> 0
B9: Tỉnh ủy, BTV, Thường trực tỉnh ủy và tương đương | C9: =SUM(D9:G9) -> 0
B10: Các CQ tham mưu của cấp ủy tỉnh và tương đương | C10: =SUM(D10:G10) -> 0
B11: Đảng ủy, BTV ĐU cấp trên trực tiếp cơ sở và tương đương | C11: =SUM(D11:G11) -> 0
B12: Các CQ tham mưu của cấp ủy cấp trên trực tiếp cơ sở và tương đương | C12: =SUM(D12:G12) -> 0
B13: Đảng ủy cơ sở, BTV đảng ủy cơ sở | C13: =SUM(D13:G13) -> 0
B14: Đảng ủy bộ phận | C14: =SUM(D14:G14) -> 0
B15: Chi bộ, Chi ủy | C15: =SUM(D15:G15) -> 0
B16: Khác (ban chỉ đạo, tiểu ban, hội đồng, tổ đảng,...) | C16: =SUM(D16:G16) -> 0
A17: II | B17: Kết luận
B18: Số có vi phạm | C18: =SUM(D18:G18) -> 0
B19: Phải thi hành kỷ luật | C19: =SUM(D19:G19) -> 0
B20: Đã thi hành kỷ luật | C20: =SUM(D20:G20) -> 0
B21: Đề nghị cấp có thẩm quyền thi hành kỷ luật | C21: =SUM(D21:G21) -> 0

Sheet B04
A1: KIỂM TRA ĐẢNG VIÊN KHI CÓ DẤU HIỆU VI PHẠM CỦA CẤP ỦY, BAN THƯỜNG VỤ CẤP ỦY VÀ CHI BỘ | U1: Biểu 04
A3: TT | B3: Đảng viên được kiểm tra | C3: Tổng số đảng viên được kiểm tra | D3: Cấp kiểm tra | K3: Nội dung kiểm tra | T3: Kết luận
D4: BCHTW, Bộ Chính trị, Ban Bí thư | E4: Tỉnh ủy, BTV tỉnh ủy và tương đương | F4: Đảng ủy, BTV ĐU cấp trên trực tiếp cơ sở và tương đương | G4: Đảng ủy cơ sở, BTV đảng ủy cơ sở | H4: Đảng uy bộ phận | I4: Chi bộ cơ sở | J4: Chi bộ trực thuộc | K4: Việc thực hiện những điều đảng viên không được làm | L4: Tiêu chuẩn đảng viên, tiêu chuẩn cấp ủy viên | M4: Việc thực hiện nhiệm vụ đảng viên, cấp ủy viên | N4: Việc chấp hành nghị quyết, chỉ thị, quy định, kết luận của Đảng; chính sách, pháp luật của Nhà nước | O4: Việc chấp hành quy chế làm việc, nguyên tắc tập trung dân chủ, chế độ công tác | P4: Tư tưởng chính trị, đạo đức, lối sống, trách nhiệm nêu gương | Q4: Tham nhũng, tiêu cực, lãng phí | R4: Kê khai, công khai tài sản, thu nhập | S4: Khác | T4: Số có vi phạm | U4: Trong đó
O5: Việc chấp hành nghị quyết, chỉ thị, quy định của Đảng, pháp luật của Nhà nước | U5: Phải thi hành kỷ luật | V5: Đã thi hành kỷ luật | W5: Đề nghị cấp có thẩm quyền thi hành kỷ luật
A6: 1 | B6: 2 | C6: 3 | D6: 4 | E6: 5 | F6: 6 | G6: 7 | H6: 8 | I6: 9 | J6: 10 | K6: 11 | L6: 12 | M6: 13 | N6: 14 | O6: 15 | P6: 16 | Q6: 17 | R6: 18 | S6: 19 | T6: 20 | U6: 21 | V6: 22 | W6: 23
A7: I | B7: Cấp quản lý đảng viên | C7: =SUM(C8:C11) -> 0 | D7: =SUM(D8:D11) -> 0 | E7: =SUM(E8:E11) -> 0 | F7: =SUM(F8:F11) -> 0 | G7: =SUM(G8:G11) -> 0 | H7: =SUM(H8:H11) -> 0 | I7: =SUM(I8:I11) -> 0 | J7: =SUM(J8:J11) -> 0 | ... W7: =SUM(W8:W11) -> 0
B8: Trung ương | C8: =SUM(D8:J8) -> 0
B9: Cấp tỉnh và tương đương | C9: =SUM(D9:J9) -> 0
B10: Cấp trên trực tiếp cơ sở và tương đương | C10: =SUM(D10:J10) -> 0
B11: Cấp cơ sở | C11: =SUM(D11:J11) -> 0
A12: II | B12: Là cấp uỷ viên các cấp | C12: =SUM(C13:C18) -> 0 | D12: =SUM(D13:D18) -> 0 | E12: =SUM(E13:E18) -> 0 | F12: =SUM(F13:F18) -> 0 | G12: =SUM(G13:G18) -> 0 | H12: =SUM(H13:H18) -> 0 | I12: =SUM(I13:I18) -> 0 | J12: =SUM(J13:J18) -> 0 | ... W12: =SUM(W13:W18) -> 0
B13: Uỷ viên Trung ương | C13: =SUM(D13:J13) -> 0
B14: Tỉnh uỷ viên và tương đương | C14: =SUM(D14:J14) -> 0
B15: Đảng ủy viên ĐU cấp trên trực tiếp cơ sở và tương đương | C15: =SUM(D15:J15) -> 0
B16: Đảng uỷ viên đảng ủy cơ sở | C16: =SUM(D16:J16) -> 0
B17: Đảng ủy viên đảng ủy bộ phận | C17: =SUM(D17:J17) -> 0
B18: Chi uỷ viên | C18: =SUM(D18:J18) -> 0
A19: III | B19: Đảng viên ở các lĩnh vực | C19: =SUM(C20:C26) -> 0 | D19: =SUM(D20:D26) -> 0 | E19: =SUM(E20:E26) -> 0 | F19: =SUM(F20:F26) -> 0 | G19: =SUM(G20:G26) -> 0 | H19: =SUM(H20:H26) -> 0 | I19: =SUM(I20:I26) -> 0 | J19: =SUM(J20:J26) -> 0 | ... W19: =SUM(W20:W26) -> 0
B20: Đảng | C20: =SUM(D20:J20) -> 0
B21: Hành chính, Nhà nước | C21: =SUM(D21:J21) -> 0
B22: Đoàn thể | C22: =SUM(D22:J22) -> 0
B23: Lực lượng vũ trang | C23: =SUM(D23:J23) -> 0
B24: Sự nghiệp công lập | C24: =SUM(D24:J24) -> 0
B25: Sản xuất kinh doanh, dịch vụ | C25: =SUM(D25:J25) -> 0
B26: Lĩnh vực khác | C26: =SUM(D26:J26) -> 0
A27: IV | B27: Kết luận
B28: Số có vi phạm | C28: =SUM(D28:J28) -> 0
B29: Phải thi hành kỷ luật | C29: =SUM(D29:J29) -> 0
B30: Đã thi hành kỷ luật | C30: =SUM(D30:J30) -> 0
B31: Đề nghị cấp có thẩm quyền thi hành kỷ luật | C31: =SUM(D31:J31) -> 0

Sheet B05
A1: GIÁM SÁT TỔ CHỨC ĐẢNG THEO ĐIỀU 30 ĐIỀU LỆ ĐẢNG | Z1: Biểu 05
A2: (Giám sát theo chuyên đề) | W2: (ĐVT: Tổ chức đảng)
A3: TT | B3: Tổ chức đảng được giám sát | C3: Tổng số tổ chức đảng được giám sát | D3: Cấp giám sát | L3: Nội dung | Y3: Kết quả
D4: BCH Trung ương, Bộ Chính trị, BBT | E4: Các CQ tham mưu của Trung ương | F4: Tỉnh uỷ, BTV tỉnh uỷ và tương đương | G4: Các CQ tham mưu của cấp ủy tỉnh và tương đương | H4: Đảng ủy, BTV ĐU cấp trên trực tiếp cơ sở và tương đương | I4: Các CQ tham mưu của cấp ủy cấp trên trực tiếp cơ sở và tương đương | J4: Đảng ủy cơ sở, BTV Đảng ủy cơ sở | K4: Đảng ủy bộ phận | L4: Việc chấp hành Cương lĩnh chính trị, Điều lệ Đảng, chủ trương, nghị quyết, chỉ thị, quy định, quyết định, quy chế, kết luận, hướng dẫn của Đảng | M4: Việc chấp hành chính sách, pháp luật của Nhà nước | N4: Việc chấp hành các nguyên tắc tổ chức và hoạt động của Đảng, giữ gìn đoàn kết nội bộ, quy chế làm việc, chế độ công tác, thực hiện dân chủ trong Đảng | O4: Việc lãnh đạo, chỉ đạo thực hành tiết kiệm; phòng, chống tham nhũng, lãng phí, tiêu cực | P4: Việc quản lý, rèn luyện phẩm chất, đạo đức, lối sống của đảng viên | Q4: Việc lãnh đạo, chỉ đạo và tổ chức thực hiện cải cách hành chính, cải cách tư pháp | R4: Việc lãnh đạo, chỉ đạo các cơ quan bảo vệ pháp luật trong công tác điều tra, truy tố, xét xử, thi hành án | S4: Việc thực hiện chức năng, nhiệm vụ, quyền hạn thuộc lĩnh vực phụ trách và những nội dung do cấp ủy giao | T4: Việc thực hiện các thông báo kết luận kiểm tra, giám sát, thanh tra, kiểm toán | U4: Việc lãnh đạo, chỉ đạo và tổ chức thực hiện kê khai, công khai tài sản, thu nhập | V4: Công tác cán bộ | W4: Giải quyết khiếu nại, tố cáo | X4: Khác | Y4: Số tổ chức đảng thực hiện tốt | Z4: Số tổ chức đảng có hạn chế, khuyết điểm | AA4: Số tổ chức đảng chuyển kiểm tra khi có dấu hiệu vi phạm
A5: 1 | B5: 2 | C5: 3 | D5: 4 | E5: 5 | F5: 6 | G5: 7 | H5: 8 | I5: 9 | J5: 10 | K5: 11 | L5: 12 | M5: 13 | N5: 14 | O5: 15 | P5: 16 | Q5: 17 | R5: 18 | S5: 19 | T5: 20 | U5: 21 | V5: 22 | W5: 23 | X5: 24 | Y5: 25 | Z5: 26 | AA5: 27
A6: I | B6: Cộng | C6: =SUM(C7:C15) -> 0 | D6: =SUM(D7:D15) -> 0 | E6: =SUM(E7:E15) -> 0 | F6: =SUM(F7:F15) -> 0 | G6: =SUM(G7:G15) -> 0 | H6: =SUM(H7:H15) -> 0 | I6: =SUM(I7:I15) -> 0 | J6: =SUM(J7:J15) -> 0 | ... AA6: =SUM(AA7:AA15) -> 0
B7: Các CQ tham mưu của Trung ương | C7: =SUM(D7:K7) -> 0
B8: Tỉnh ủy, BTV tỉnh ủy và tương đương | C8: =SUM(D8:K8) -> 0
B9: Các CQ tham mưu của cấp ủy tỉnh và tương đương | C9: =SUM(D9:K9) -> 0
B10: Đảng ủy, BTV ĐU cấp trên trực tiếp cơ sở và tương đương | C10: =SUM(D10:K10) -> 0
B11: Các CQ tham mưu của cấp ủy cấp trên trực tiếp cơ sở và tương đương | C11: =SUM(D11:K11) -> 0
B12: Đảng ủy cơ sở, BTV Đảng ủy cơ sở | C12: =SUM(D12:K12) -> 0
B13: Đảng ủy bộ phận | C13: =SUM(D13:K13) -> 0
B14: Chi bộ, Chi ủy | C14: =SUM(D14:K14) -> 0
B15: Khác (Ban Chỉ đạo, tiểu ban, hội đồng, tổ đảng...) | C15: =SUM(D15:K15) -> 0
A16: II | B16: Kết quả | C16: =SUM(C17:C18) -> 0 | D16: =SUM(D17:D18) -> 0 | E16: =SUM(E17:E18) -> 0 | F16: =SUM(F17:F18) -> 0 | G16: =SUM(G17:G18) -> 0 | H16: =SUM(H17:H18) -> 0 | I16: =SUM(I17:I18) -> 0 | J16: =SUM(J17:J18) -> 0 | K16: =SUM(K17:K18) -> 0
B17: Số tổ chức đảng thực hiện tốt | C17: =SUM(D17:K17) -> 0
B18: Số tổ chức đảng có hạn chế, khuyết điểm | C18: =SUM(D18:K18) -> 0
B19: Số tổ chức đảng chuyển kiểm tra khi có DHVP | C19: =SUM(D19:K19) -> 0

Sheet B06
A1: GIÁM SÁT ĐẢNG VIÊN THEO ĐIỀU 30 ĐIỀU LỆ ĐẢNG | X1: Biểu 06
A2: (Giám sát theo chuyên đề) | X2: (ĐVT: đảng viên)
A3: TT | B3: Đảng viên được giám sát | C3: Tổng số đảng viên được giám sát | D3: Cấp giám sát | N3: Nội dung | W3: Kết quả
D4: BCH TW, Bộ Chính trị, Ban Bí thư | E4: Các CQ tham mưu của Trung ương | F4: Tỉnh ủy, BTV tỉnh uỷ và tương đương | G4: Các CQ tham mưu của cấp ủy tỉnh và tương đương | H4: Đảng ủy, BTV ĐU cấp trên trực tiếp cơ sở và tương đương | I4: Các CQ tham mưu của cấp ủy cấp trên trực tiếp cơ sở và tương đương | J4: Đảng ủy cơ sở, BTV đảng ủy cơ sở | K4: Đảng ủy bộ phận | L4: Chi bộ cơ sở | M4: Chi bộ trực thuộc | N4: Việc thực hiện những điều đảng viên không được làm | O4: Tiêu chuẩn đảng viên, tiêu chuẩn cấp ủy viên | P4: Việc thực hiện nhiệm vụ đảng viên, nhiệm vụ cấp ủy viên | Q4: Việc chấp hành nghị quyết, chỉ thị, quy định, kết luận của Đảng; chính sách, pháp luật của Nhà nước | R4: Việc chấp hành quy chế làm việc, nguyên tắc tập trung dân chủ, chế độ công tác | S4: Tư tưởng chính trị, giữ gìn đạo đức, lối sống, trách nhiệm nêu gương | T4: Việc thực hiện các thông báo kết luận kiểm tra, giám sát, thanh tra, kiểm toán | U4: Kê khai tài sản, thu nhập | V4: Khác | W4: Số đảng viên thực hiện tốt | X4: Số đảng viên có hạn chế, khuyết điểm | Y4: Số đảng viên chuyển kiểm tra khi có dấu hiệu vi phạm
A5: 1 | B5: 2 | C5: 3 | D5: 4 | E5: 5 | F5: 6 | G5: 7 | H5: 8 | I5: 9 | J5: 10 | K5: 11 | L5: 12 | M5: 13 | N5: 14 | O5: 15 | P5: 16 | Q5: 17 | R5: 18 | S5: 19 | T5: 20 | U5: 21 | V5: 22 | W5: 23 | X5: 24 | Y5: 25
A6: I | B6: Cấp quản lý đảng viên | C6: =SUM(C7:C10) -> 0 | D6: =SUM(D7:D10) -> 0 | E6: =SUM(E7:E10) -> 0 | F6: =SUM(F7:F10) -> 0 | G6: =SUM(G7:G10) -> 0 | H6: =SUM(H7:H10) -> 0 | I6: =SUM(I7:I10) -> 0 | J6: =SUM(J7:J10) -> 0 | ... Y6: =SUM(Y7:Y10) -> 0
B7: Trung ương | C7: =SUM(D7:M7) -> 0
B8: Cấp tỉnh và tương đương | C8: =SUM(D8:M8) -> 0
B9: Cấp trên trực tiếp cơ sở và tương đương | C9: =SUM(D9:M9) -> 0
B10: Cấp cơ sở | C10: =SUM(D10:M10) -> 0
A11: II | B11: Cấp ủy viên các cấp | C11: =C12+C13+C16+C19+C20+C21 -> 0 | D11: =D12+D13+D16+D19+D20+D21 -> 0 | E11: =E12+E13+E16+E19+E20+E21 -> 0 | F11: =F12+F13+F16+F19+F20+F21 -> 0 | G11: =G12+G13+G16+G19+G20+G21 -> 0 | H11: =H12+H13+H16+H19+H20+H21 -> 0 | I11: =I12+I13+I16+I19+I20+I21 -> 0 | J11: =J12+J13+J16+J19+J20+J21 -> 0 | ... Y11: =Y12+Y13+Y16+Y19+Y20+Y21 -> 0
B12: Uỷ viên Trung ương | C12: =SUM(D12:M12) -> 0
B13: Tỉnh ủy viên và tương đương | C13: =SUM(D13:M13) -> 0
B14: Trong đó: Bí thư | C14: =SUM(D14:M14) -> 0
B15: Phó Bí thư | C15: =SUM(D15:M15) -> 0
B16: Đảng ủy viên ĐU cấp trên trực tiếp cơ sở và tương đương | C16: =SUM(D16:M16) -> 0
B17: Trong đó: Bí thư | C17: =SUM(D17:M17) -> 0
B18: Phó Bí thư | C18: =SUM(D18:M18) -> 0
B19: Đảng uỷ viên đảng ủy cơ sở | C19: =SUM(D19:M19) -> 0
B20: Đảng ủy viên đảng ủy bộ phận | C20: =SUM(D20:M20) -> 0
B21: Chi uỷ viên | C21: =SUM(D21:M21) -> 0
A22: III | B22: Đảng viên ở các lĩnh vực | C22: =SUM(C23:C29) -> 0 | D22: =SUM(D23:D29) -> 0 | E22: =SUM(E23:E29) -> 0 | F22: =SUM(F23:F29) -> 0 | G22: =SUM(G23:G29) -> 0 | H22: =SUM(H23:H29) -> 0 | I22: =SUM(I23:I29) -> 0 | J22: =SUM(J23:J29) -> 0 | ... Y22: =SUM(Y23:Y29) -> 0
B23: Đảng | C23: =SUM(D23:M23) -> 0
B24: Hành chính, Nhà nước | C24: =SUM(D24:M24) -> 0
B25: Đoàn thể | C25: =SUM(D25:M25) -> 0
B26: Lực lượng vũ trang | C26: =SUM(D26:M26) -> 0
B27: Sự nghiệp công lập | C27: =SUM(D27:M27) -> 0
B28: Sản xuất kinh doanh, dịch vụ | C28: =SUM(D28:M28) -> 0
B29: Các lĩnh vực khác | C29: =SUM(D29:M29) -> 0
A30: IV | B30: Kết quả | C30: =SUM(C31:C32) -> 0 | D30: =SUM(D31:D32) -> 0 | E30: =SUM(E31:E32) -> 0 | F30: =SUM(F31:F32) -> 0 | G30: =SUM(G31:G32) -> 0 | H30: =SUM(H31:H32) -> 0 | I30: =SUM(I31:I32) -> 0 | J30: =SUM(J31:J32) -> 0 | ... M30: =SUM(M31:M32) -> 0
B31: Số đảng viên thực hiện tốt | C31: =SUM(D31:M31) -> 0
B32: Số đảng viên có hạn chế, khuyết điểm | C32: =SUM(D32:M32) -> 0
B33: Số đảng viên chuyển kiểm tra DHVP | C33: =SUM(D33:M33) -> 0

Sheet B07
A1: THI HÀNH KỶ LUẬT TỔ CHỨC ĐẢNG CỦA CẤP ỦY CÁC CẤP | R1: Biểu 07
Q2: (ĐVT: Tổ chức đảng)
A3: TT | B3: Tổ chức đảng bị thi hành kỷ luật | C3: Tổng số tổ chức đảng bị thi hành kỷ luật | D3: Hình thức kỷ luật | G3: Cấp thi hành kỷ luật | K3: Nội dung vi phạm
D4: Khiển trách | E4: Cảnh cáo | F4: Giải tán | G4: BCHTW, Bộ Chính trị, Ban Bí thư | H4: Tỉnh uỷ, BTV tỉnh uỷ và tương đương | I4: Đảng ủy, BTV ĐU cấp trên trực tiếp cơ sở và tương đương | J4: Đảng uỷ cơ sở, BTV Đảng uỷ cơ sở | K4: Việc chấp hành Cương lĩnh chính trị, Điều lệ Đảng, chủ trương, nghị quyết, chỉ thị, quy định, quyết định, quy chế, kết luận, hướng dẫn của Đảng | L4: Việc chấp hành chính sách, pháp luật của Nhà nước | M4: Việc chấp hành các nguyên tắc tổ chức và hoạt động của Đảng, giữ gìn đoàn kết nội bộ, quy chế làm việc, chế độ công tác, thực hiện dân chủ trong Đảng | N4: Việc lãnh đạo, chỉ đạo thực hành tiết kiệm; phòng, chống tham nhũng, lãng phí; quản lý, tèn luyện phẩm chất, đạo đức, lối sống của đảng viên | O4: Việc lãnh đạo, chỉ đạo và tổ chức thực hiện cải cách hành chính, cải cách tư pháp | P4: Việc lãnh đạo, chỉ đạo các cơ quan bảo vệ pháp luật trong công tác điều tra, truy tố, xét xử, thi hành án | Q4: Công tác cán bộ | R4: Giải quyết khiếu nại, tố cáo | S4: Khác
A5: 1 | B5: 2 | C5: 3 | D5: 4 | E5: 5 | F5: 6 | G5: 7 | H5: 8 | I5: 9 | J5: 10 | K5: 11 | L5: 12 | M5: 13 | N5: 14 | O5: 15 | P5: 16 | Q5: 17 | R5: 18 | S5: 19
A6: I | B6: Tổ chức đảng bị THKL | C6: =SUM(C7:C15) -> 0 | D6: =SUM(D7:D15) -> 0 | E6: =SUM(E7:E15) -> 0 | F6: =SUM(F7:F15) -> 0 | G6: =SUM(G7:G15) -> 0 | H6: =SUM(H7:H15) -> 0 | I6: =SUM(I7:I15) -> 0 | J6: =SUM(J7:J15) -> 0 | ... S6: =SUM(S7:S15) -> 0
B7: Các CQ tham mưu của Trung ương | C7: =SUM(D7:F7) -> 0
B8: Tỉnh uỷ, BTV tỉnh uỷ và tương đương | C8: =SUM(D8:F8) -> 0
B9: Các CQ tham mưu của cấp ủy tỉnh và tương đương | C9: =SUM(D9:F9) -> 0
B10: Đảng ủy, BTV ĐU cấp trên trực tiếp cơ sở và tương đương | C10: =SUM(D10:F10) -> 0
B11: Các CQ tham mưu của cấp ủy cấp trên trực tiếp cơ sở và tương đương | C11: =SUM(D11:F11) -> 0
B12: Đảng uỷ cơ sở, BTV đảng ủy cơ sở | C12: =SUM(D12:F12) -> 0
B13: Đảng uỷ bộ phận | C13: =SUM(D13:F13) -> 0
B14: Chi bộ, Chi ủy | C14: =SUM(D14:F14) -> 0
B15: Khác (ban chỉ đạo, tiểu ban, hội đồng,..) | C15: =SUM(D15:F15) -> 0
A16: II | B16: Bị THKT từ nhiệm vụ | C16: =SUM(C17:C20) -> 0 | D16: =SUM(D17:D20) -> 0 | E16: =SUM(E17:E20) -> 0 | F16: =SUM(F17:F20) -> 0 | G16: =SUM(G17:G20) -> 0 | H16: =SUM(H17:H20) -> 0 | I16: =SUM(I17:I20) -> 0 | J16: =SUM(J17:J20) -> 0 | ... S16: =SUM(S17:S20) -> 0
B17: Kiểm tra theo Điều 30 của ĐLĐ | C17: =SUM(D17:F17) -> 0
B18: Kiểm tra khi có DHVP của BTV cấp ủy và chi bộ | C18: =SUM(D18:F18) -> 0
B19: Giải quyết tố cáo của cấp ủy các cấp | C19: =SUM(D19:F19) -> 0
B20: Khác (từ đề nghị của TCĐ, UBKT cấp dưới, từ chỉ đạo của cấp trên giao...) | C20: =SUM(D20:F20) -> 0
A21: III | B21: Cấp thi hành kỷ luật | C21: =SUM(C22:C25) -> 0 | D21: =SUM(D22:D25) -> 0 | E21: =SUM(E22:E25) -> 0 | F21: =SUM(F22:F25) -> 0
B22: BCHTW, Bộ Chính trị, Ban Bí thư | C22: =SUM(D22:F22) -> 0
B23: Tỉnh uỷ, BTV tỉnh uỷ và tương đương | C23: =SUM(D23:F23) -> 0
B24: Đảng ủy, BTV ĐU cấp trên trực tiếp cơ sở và tương đương | C24: =SUM(D24:F24) -> 0
B25: Đảng uỷ cơ sở, BTV Đảng uỷ cơ sở | C25: =SUM(D25:F25) -> 0

Sheet B08
A1: THI HÀNH KỶ LUẬT ĐẢNG VIÊN CỦA CẤP ỦY CÁC CẤP VÀ CHI BỘ | AB1: Biểu 08
Z2: (ĐVT: lượt đảng viên)
A3: TT | B3: Đảng viên bị thi hành kỷ luật | C3: Tổng số đảng viên bị THKL | D3: Hình thức kỷ luật | H3: Đình chỉ sinh hoạt đảng | I3: Đình chỉ sinh hoạt cấp ủy viên | J3: Xóa tên, cho rút | K3: Cấp thi hành kỷ luật | Q3: Nội dung vi phạm | Z3: Xử lý pháp luật | AC3: Xử lý hành chính | AD3: Xử lý đoàn thể
D4: Khiển trách | E4: Cảnh cáo | F4: Cách chức | G4: Khai trừ | K4: BCHTW, Bộ Chính trị, Ban Bí thư | L4: Tỉnh uỷ, BTV tỉnh uỷ và tương đương | M4: Đảng ủy, BTV ĐU cấp trên trực tiếp cơ sở và tương đương | N4: Đảng uỷ cơ sở , BTV đảng ủy cơ sở | O4: Chi bộ cơ sở | P4: Chi bộ trực thuộc | Q4: Những điều đảng viên không được làm | R4: Tiêu chuẩn đảng viên, tiêu chuẩn cấp ủy viên | S4: Việc thực hiện nhiệm vụ đảng viên, cấp ủy viên | T4: Việc chấp hành nghị quyết, chỉ thị, quy định, kết luận của Đảng; chính sách, pháp luật của Nhà nước | U4: Việc chấp hành quy chế làm việc, nguyên tắc tập trung dân chủ, chế độ công tác | V4: Tư tưởng chính trị, đạo đức, lối sống, trách nhiệm nêu gương | W4: Tham nhũng, tiêu cực, lãng phí | X4: Kê khai tài sản, thu nhập | Y4: Khác | Z4: Số lượng | AA4: Trong đó
AA5: Bị phạt tù (kể cả án treo) | AB5: Hình thức khác
A6: 1 | B6: 2 | C6: 3 | D6: 4 | E6: 5 | F6: 6 | G6: 7 | H6: 8 | I6: 9 | J6: 10 | K6: 11 | L6: 12 | M6: 13 | N6: 14 | O6: 15 | P6: 16 | Q6: 17 | R6: 18 | S6: 19 | T6: 20 | U6: 21 | V6: 22 | W6: 23 | X6: 24 | Y6: 25 | Z6: 26 | AA6: 27 | AB6: 28 | AC6: 29 | AD6: 30
A7: I | B7: Cấp quản lý đảng viên | C7: =SUM(C8:C11) -> 0 | D7: =SUM(D8:D11) -> 0 | E7: =SUM(E8:E11) -> 0 | F7: =SUM(F8:F11) -> 0 | G7: =SUM(G8:G11) -> 0 | H7: =SUM(H8:H11) -> 0 | I7: =SUM(I8:I11) -> 0 | J7: =SUM(J8:J11) -> 0 | ... AD7: =SUM(AD8:AD11) -> 0
B8: Trung ương | C8: =SUM(D8:G8) -> 0 | Z8: =SUM(AA8:AB8) -> 0
B9: Cấp tỉnh và tương đương | C9: =SUM(D9:G9) -> 0 | Z9: =SUM(AA9:AB9) -> 0
B10: Cấp trên trực tiếp cơ sở và tương đương | C10: =SUM(D10:G10) -> 0 | Z10: =SUM(AA10:AB10) -> 0
B11: Cấp cơ sở | C11: =SUM(D11:G11) -> 0 | Z11: =SUM(AA11:AB11) -> 0
A12: II | B12: Là cấp uỷ viên các cấp | C12: =SUM(C13:C18) -> 0 | D12: =SUM(D13:D18) -> 0 | E12: =SUM(E13:E18) -> 0 | F12: =SUM(F13:F18) -> 0 | G12: =SUM(G13:G18) -> 0 | H12: =SUM(H13:H18) -> 0 | I12: =SUM(I13:I18) -> 0 | J12: =SUM(J13:J18) -> 0 | ... AD12: =SUM(AD13:AD18) -> 0
B13: Uỷ viên Trung ương | C13: =SUM(D13:G13) -> 0 | Z13: =SUM(AA13:AB13) -> 0
B14: Tỉnh ủy viên và tương đương | C14: =SUM(D14:G14) -> 0 | Z14: =SUM(AA14:AB14) -> 0
B15: Đảng ủy viên ĐU cấp trên trực tiếp cơ sở và tương đương | C15: =SUM(D15:G15) -> 0 | Z15: =SUM(AA15:AB15) -> 0
B16: Đảng ủy viên đảng ủy cơ sở | C16: =SUM(D16:G16) -> 0 | Z16: =SUM(AA16:AB16) -> 0
B17: Đảng ủy viên đảng ủy bộ phận | C17: =SUM(D17:G17) -> 0 | Z17: =SUM(AA17:AB17) -> 0
B18: Chi ủy viên | C18: =SUM(D18:G18) -> 0 | Z18: =SUM(AA18:AB18) -> 0
A19: III | B19: Đảng viên ở các lĩnh vực | C19: =SUM(C20:C26) -> 0 | D19: =SUM(D20:D26) -> 0 | E19: =SUM(E20:E26) -> 0 | F19: =SUM(F20:F26) -> 0 | G19: =SUM(G20:G26) -> 0 | H19: =SUM(H20:H26) -> 0 | I19: =SUM(I20:I26) -> 0 | J19: =SUM(J20:J26) -> 0 | ... AD19: =SUM(AD20:AD26) -> 0
B20: Đảng | C20: =SUM(D20:G20) -> 0 | Z20: =SUM(AA20:AB20) -> 0
B21: Hành chính, Nhà nước | C21: =SUM(D21:G21) -> 0 | Z21: =SUM(AA21:AB21) -> 0
B22: Đoàn thể | C22: =SUM(D22:G22) -> 0 | Z22: =SUM(AA22:AB22) -> 0
B23: Lực lượng vũ trang | C23: =SUM(D23:G23) -> 0 | Z23: =SUM(AA23:AB23) -> 0
B24: Sự nghiệp công lập | C24: =SUM(D24:G24) -> 0 | Z24: =SUM(AA24:AB24) -> 0
B25: SXKD, dịch vụ | C25: =SUM(D25:G25) -> 0 | Z25: =SUM(AA25:AB25) -> 0
B26: Lĩnh vực khác | C26: =SUM(D26:G26) -> 0 | Z26: =SUM(AA26:AB26) -> 0
A27: IV | B27: Đảng viên bị THKT từ nhiệm vụ | C27: =SUM(C28:C31) -> 0 | D27: =SUM(D28:D31) -> 0 | E27: =SUM(E28:E31) -> 0 | F27: =SUM(F28:F31) -> 0 | G27: =SUM(G28:G31) -> 0 | K27: =SUM(K28:K31) -> 0 | L27: =SUM(L28:L31) -> 0 | M27: =SUM(M28:M31) -> 0 | N27: =SUM(N28:N31) -> 0 | O27: =SUM(O28:O31) -> 0 | P27: =SUM(P28:P31) -> 0 | Q27: =SUM(Q28:Q31) -> 0 | R27: =SUM(R28:R31) -> 0 | ... AD27: =SUM(AD28:AD31) -> 0
B28: Kiểm tra theo Điều 30 của ĐLĐ | C28: =SUM(D28:G28) -> 0 | Z28: =SUM(AA28:AB28) -> 0
B29: Kiểm tra khi có DHVP của BTV cấp ủy và chi bộ | C29: =SUM(D29:G29) -> 0 | Z29: =SUM(AA29:AB29) -> 0
B30: Giải quyết tố cáo của cấp ủy các cấp | C30: =SUM(D30:G30) -> 0 | Z30: =SUM(AA30:AB30) -> 0
B31: Khác (từ đề nghị của TCĐ, UBKT cấp dưới, từ chỉ đạo của cấp trên giao...) | C31: =SUM(D31:G31) -> 0 | Z31: =SUM(AA31:AB31) -> 0
A32: V | B32: Cấp thi hành kỷ luật | C32: =SUM(C33:C38) -> 0 | D32: =SUM(D33:D38) -> 0 | E32: =SUM(E33:E38) -> 0 | F32: =SUM(F33:F38) -> 0 | G32: =SUM(G33:G38) -> 0 | H32: =SUM(H33:H38) -> 0 | I32: =SUM(I33:I38) -> 0 | J32: =SUM(J33:J38) -> 0
B33: BCHTW, Bộ Chính trị, Ban Bí thư | C33: =SUM(D33:G33) -> 0
B34: Tỉnh uỷ, BTV tỉnh uỷ và tương đương | C34: =SUM(D34:G34) -> 0
B35: Đảng ủy, BTV ĐU cấp trên trực tiếp cơ sở và tương đương | C35: =SUM(D35:G35) -> 0
B36: Đảng uỷ cơ sở , BTV đảng ủy cơ sở | C36: =SUM(D36:G36) -> 0
B37: Chi bộ cơ sở | C37: =SUM(D37:G37) -> 0
B38: Chi bộ trực thuộc | C38: =SUM(D38:G38) -> 0
A39: VI | B39: Số liệu lấy thêm: | C39: 1 - Tổng số đảng viên của đảng bộ | P39: 2 - Số đảng viên là người dân tộc thiểu số bị thi hành kỷ luật

Sheet B09
A1: GIẢI QUYẾT TỐ CÁO TỔ CHỨC ĐẢNG CỦA CẤP ỦY CÁC CẤP | S1: Biểu 09
O2: (ĐVT: Lượt giải quyết tố cáo Tổ chức đảng)
A3: TT | B3: Tổ chức đảng bị tố cáo | C3: Tổng số tổ chức đảng bị tố cáo đã giải quyết xong | D3: Cấp giải quyết | H3: Nội dung tố cáo | O3: Kết luận
D4: BCHTW, Bộ Chính trị, Ban Bí thư | E4: Tỉnh ủy, BTV tỉnh ủy và tương đương | F4: Đảng ủy, BTV ĐU cấp trên trực tiếp cơ sở và tương đương | G4: Đảng ủy cơ sở, BTV đảng ủy cơ sở | H4: Việc chấp hành Cương lĩnh chính trị, Điều lệ Đảng, chủ trương, nghị quyết, chỉ thị, quy định, quy chế, kết luận của Đảng | I4: Việc chấp hành chính sách, pháp luật của Nhà nước | J4: Các nguyên tắc tổ chức và hoạt động của Đảng | K4: Đoàn kết nội bộ | L4: Việc thực hành tiết kiệm, phòng, chống tham nhũng, lãng phí, tiêu cực | M4: Công tác cán bộ | N4: Khác | O4: Cho rút đơn, không xem xét giải quyết | P4: Chưa có cơ sở kết luận | Q4: Tố sai | R4: Tố đúng và đúng một phần | S4: Trong đó
S5: Tố đúng, có vi phạm chưa đến mức phải kỷ luật | T5: Phải thi hành kỷ luật | U5: Đã thi hành kỷ luật
A6: 1 | B6: 2 | C6: 3 | D6: 4 | E6: 5 | F6: 6 | G6: 7 | H6: 8 | I6: 9 | J6: 10 | K6: 11 | L6: 12 | M6: 13 | N6: 14 | O6: 15 | P6: 16 | Q6: 17 | R6: 18 | S6: 19 | T6: 20 | U6: 21
A7: I | B7: Tổ chức đảng bị tố cáo | C7: =SUM(C8:C17) -> 0 | D7: =SUM(D8:D17) -> 0 | E7: =SUM(E8:E17) -> 0 | F7: =SUM(F8:F17) -> 0 | G7: =SUM(G8:G17) -> 0 | H7: =SUM(H8:H17) -> 0 | I7: =SUM(I8:I17) -> 0 | J7: =SUM(J8:J17) -> 0 | ... U7: =SUM(U8:U17) -> 0
B8: UBKT Trung ương | C8: =SUM(D8:G8) -> 0
B9: Tỉnh ủy, BTV tỉnh ủy và tương đương | C9: =SUM(D9:G9) -> 0
B10: UBKT tỉnh ủy và tương đương | C10: =SUM(D10:G10) -> 0
B11: Đảng ủy, BTV ĐU cấp trên trực tiếp cơ sở và tương đương | C11: =SUM(D11:G11) -> 0
B12: UBKT cấp trên trực tiếp cơ sở và tương đương | C12: =SUM(D12:G12) -> 0
B13: Đảng ủy, BTV đảng ủy cơ sở | C13: =SUM(D13:G13) -> 0
B14: UBKT đảng ủy cơ sở | C14: =SUM(D14:G14) -> 0
B15: Đảng ủy bộ phận | C15: =SUM(D15:G15) -> 0
B16: Chi bộ, Chi ủy | C16: =SUM(D16:G16) -> 0
B17: Khác (tiểu ban, hội đồng, tổ đảng...) | C17: =SUM(D17:G17) -> 0
A18: II | B18: Kết luận giải quyết tố cáo | C18: =SUM(D18:G18) -> 0 | D18: =SUM(D19:D22) -> 0 | E18: =SUM(E19:E22) -> 0 | F18: =SUM(F19:F22) -> 0 | G18: =SUM(G19:G22) -> 0 | H18: =SUM(H19:H22) -> 0 | I18: =SUM(I19:I22) -> 0 | J18: =SUM(J19:J22) -> 0 | K18: =SUM(K19:K22) -> 0 | ... N18: =SUM(N19:N22) -> 0
B19: Cho rút đơn, không xem xét giải quyết | C19: =SUM(D19:G19) -> 0
B20: Chưa có cơ sở kết luận | C20: =SUM(D20:G20) -> 0
B21: Tố sai | C21: =SUM(D21:G21) -> 0
B22: Tố đúng và đúng một phần | C22: =SUM(D22:G22) -> 0
B23: Đúng có vi phạm chưa đến mức phải kỷ luật | C23: =SUM(D23:G23) -> 0
B24: Phải thi hành kỷ luật | C24: =SUM(D24:G24) -> 0
B25: Đã thi hành kỷ luật | C25: =SUM(D25:G25) -> 0
B26: Giải quyết đúng thời gian quy định | C26: =SUM(D26:G26) -> 0

Sheet B10
A1: GIẢI QUYẾT TỐ CÁO ĐẢNG VIÊN CỦA CẤP ỦY CÁC CẤP VÀ CHI BỘ | X1: Biểu 10
T2: (ĐVT: lượt giải quyết tố cáo đảng viên)
A3: TT | B3: Đảng viên bị tố cáo | C3: Đã giải quyết xong | D3: Cấp giải quyết | J3: Nội dung tố cáo | T3: Kết luận
D4: BCHTW, Bộ Chính trị, Ban Bí thư | E4: Tỉnh ủy, BTV tỉnh ủy và tương đương | F4: Đảng ủy, BTV ĐU cấp trên trực tiếp cơ sở và tương đương | G4: Đảng ủy cơ sở, BTV đảng ủy cơ sở | H4: Chi bộ cơ sở | I4: Chi bộ trực thuộc | J4: Tiêu chuẩn đảng viên, tiêu chuẩn cấp ủy viên | K4: Việc chấp hành Cương lĩnh chính trị, Điều lệ Đảng, chủ trương, nghị quyết, chỉ thị, quy định, quy chế, kết luận của Đảng | L4: Về nguyên tắc tổ chức và sinh hoạt đảng | M4: Về thực hiện chức trách, nhiệm vụ được giao | N4: Về phẩm chất đạo đức, lối sống và trách nhiệm nêu gương | O4: Tham nhũng, cố ý làm trái | P4: Đất đai, tài nguyên, khoáng sản, nhà ở, môi trường | Q4: Tài chính, ngân hàng, đầu tư,xây dựng, y tế, khoa học công nghệ | R4: Kê khai tài sản, thu nhập cá nhân | S4: Khác | T4: Cho rút đơn, không xem xét giải quyết | U4: Chưa có cơ sở kết luận | V4: Tố sai | W4: Tố đúng và đúng một phần | X4: Trong đó
X5: Tố đúng, có vi phạm nhưng chưa đến mức phải kỷ luật | Y5: Phải thi hành kỷ luật | Z5: Đã thi hành kỷ luật
A6: 1 | B6: 2 | C6: 3 | D6: 4 | E6: 5 | F6: 6 | G6: 7 | H6: 8 | I6: 9 | J6: 10 | K6: 11 | L6: 12 | M6: 13 | N6: 14 | O6: 15 | P6: 16 | Q6: 17 | R6: 18 | S6: 19 | T6: 20 | U6: 21 | V6: 22 | W6: 23 | X6: 24 | Y6: 25 | Z6: 26
A7: I | B7: Cấp quản lý đảng viên | C7: =SUM(C8:C11) -> 0 | D7: =SUM(D8:D11) -> 0 | E7: =SUM(E8:E11) -> 0 | F7: =SUM(F8:F11) -> 0 | G7: =SUM(G8:G11) -> 0 | H7: =SUM(H8:H11) -> 0 | I7: =SUM(I8:I11) -> 0 | J7: =SUM(J8:J11) -> 0 | ... Z7: =SUM(Z8:Z11) -> 0
B8: Trung ương | C8: =SUM(D8:I8) -> 0
B9: Cấp tỉnh và tương đương | C9: =SUM(D9:I9) -> 0
B10: Cấp trên trực tiếp cơ sở và tương đương | C10: =SUM(D10:I10) -> 0
B11: Cấp cơ sở | C11: =SUM(D11:I11) -> 0
A12: II | B12: Là cấp uỷ viên các cấp | C12: =SUM(C13:C18) -> 0 | D12: =SUM(D13:D18) -> 0 | E12: =SUM(E13:E18) -> 0 | F12: =SUM(F13:F18) -> 0 | G12: =SUM(G13:G18) -> 0 | H12: =SUM(H13:H18) -> 0 | I12: =SUM(I13:I18) -> 0 | J12: =SUM(J13:J18) -> 0 | ... Z12: =SUM(Z13:Z18) -> 0
B13: Uỷ viên Trung ương | C13: =SUM(D13:I13) -> 0
B14: Tỉnh uỷ viên và tương đương | C14: =SUM(D14:I14) -> 0
B15: Đảng ủy viên ĐU cấp trên trực tiếp cơ sở và tương đương | C15: =SUM(D15:I15) -> 0
B16: Đảng uỷ viên đảng ủy cơ sở | C16: =SUM(D16:I16) -> 0
B17: Đảng ủy viên đảng ủy bộ phận | C17: =SUM(D17:I17) -> 0
B18: Chi uỷ viên | C18: =SUM(D18:I18) -> 0
A19: III | B19: Đảng viên ở các lĩnh vực | C19: =SUM(C20:C26) -> 0 | D19: =SUM(D20:D26) -> 0 | E19: =SUM(E20:E26) -> 0 | F19: =SUM(F20:F26) -> 0 | G19: =SUM(G20:G26) -> 0 | H19: =SUM(H20:H26) -> 0 | I19: =SUM(I20:I26) -> 0 | J19: =SUM(J20:J26) -> 0 | ... Z19: =SUM(Z20:Z26) -> 0
B20: Đảng | C20: =SUM(D20:I20) -> 0
B21: Hành chính, Nhà nước | C21: =SUM(D21:I21) -> 0
B22: Đoàn thể | C22: =SUM(D22:I22) -> 0
B23: Lực lượng vũ trang | C23: =SUM(D23:I23) -> 0
B24: Sự nghiệp công lập | C24: =SUM(D24:I24) -> 0
B25: Sản xuất kinh doanh, dịch vụ | C25: =SUM(D25:I25) -> 0
B26: Các lĩnh vực khác | C26: =SUM(D26:I26) -> 0
A27: IV | B27: Kết luận | C27: =SUM(C28:C31) -> 0 | D27: =SUM(D28:D31) -> 0 | E27: =SUM(E28:E31) -> 0 | F27: =SUM(F28:F31) -> 0 | G27: =SUM(G28:G31) -> 0 | H27: =SUM(H28:H31) -> 0 | I27: =SUM(I28:I31) -> 0 | J27: =SUM(J28:J31) -> 0 | ... S27: =SUM(S28:S31) -> 0
B28: Cho rút đơn, không xem xét giải quyết | C28: =SUM(D28:I28) -> 0
B29: Chưa có cơ sở kết luận | C29: =SUM(D29:I29) -> 0
B30: Tố sai | C30: =SUM(D30:I30) -> 0
B31: Tố đúng và đúng một phần | C31: =SUM(D31:I31) -> 0
B32: Đúng có vi phạm nhưng chưa đến mức phải kỷ luật | C32: =SUM(D32:I32) -> 0
B33: Phải thi hành kỷ luật | C33: =SUM(D33:I33) -> 0
B34: Đã thi hành kỷ luật | C34: =SUM(D34:I34) -> 0
B35: GQ đúng thời gian quy định | C35: =SUM(D35:I35) -> 0

Sheet B11
A1: GIẢI QUYẾT KHIẾU NẠI KỶ LUẬT TỔ CHỨC ĐẢNG CỦA CẤP ỦY CÁC CẤP | V1: Biểu 11
V2: (ĐVT: Tổ chức đảng)
A3: TT | B3: Tổ chức đảng khiếu nại kỷ luật đảng | C3: Đã giải quyết xong | D3: Cấp giải quyết khiếu nại | M3: Nội dung khiếu nại | P3: Kết luận
D4: Ban Chấp hành Trung ương | E4: Bộ Chính trị | F4: Ban Bí thư | G4: Tỉnh ủy và tương đương | H4: BTV tỉnh uỷ và tương đương | I4: Đảng ủy cấp trên trực tiếp cơ sở và tương đương | J4: BTV đảng ủy cấp trên trực tiếp cơ sở và tương đương | K4: Đảng ủy cơ sở | L4: BTV Đảng ủy cơ sở | M4: Nội dung vi phạm | N4: Hình thức kỷ luật | O4: Nguyên tắc, thủ tục, quy trình, thẩm quyền | P4: Cho rút đơn, không xem xét giải quyết | Q4: Giữ nguyên hình thức kỷ luật | R4: Thay đổi hình thức kỷ luật | S4: Trong đó | V4: Nguyên nhân thay đổi hình thức kỷ luật
S5: Tăng hình thức kỷ luật | T5: Giảm hình thức kỷ luật | U5: Xoá kỷ luật | V5: Vận dụng phương hướng, phương châm THKL | W5: Thẩm tra, xác minh | X5: Khác
A6: 1 | B6: 2 | C6: 3 | D6: 4 | E6: 5 | F6: 6 | G6: 7 | H6: 8 | I6: 9 | J6: 10 | K6: 11 | L6: 12 | M6: 13 | N6: 14 | O6: 15 | P6: 16 | Q6: 17 | R6: 18 | S6: 19 | T6: 20 | U6: 21 | V6: 22 | W6: 23 | X6: 24
A7: I | B7: Tổ chức đảng khiếu nại | C7: =SUM(C8:C18) -> 0 | D7: =SUM(D8:D18) -> 0 | E7: =SUM(E8:E18) -> 0 | F7: =SUM(F8:F18) -> 0 | G7: =SUM(G8:G18) -> 0 | H7: =SUM(H8:H18) -> 0 | I7: =SUM(I8:I18) -> 0 | J7: =SUM(J8:J18) -> 0 | ... X7: =SUM(X8:X18) -> 0
B8: Các CQ tham mưu của Trung ương | C8: =SUM(D8:L8) -> 0
B9: Tỉnh uỷ và tương đương | C9: =SUM(D9:L9) -> 0
B10: Ban Thường vụ tỉnh uỷ và tương đương | C10: =SUM(D10:L10) -> 0
B11: Các CQ tham mưu của cấp ủy tỉnh và tương đương | C11: =SUM(D11:L11) -> 0
B12: Đảng ủy cấp trên trực tiếp cơ sở và tương đương | C12: =SUM(D12:L12) -> 0
B13: BTV đảng ủy cấp trên trực tiếp cơ sở và tương đương | C13: =SUM(D13:L13) -> 0
B14: Các CQ tham mưu của cấp ủy cấp trên trực tiếp cơ sở và tương đương | C14: =SUM(D14:L14) -> 0
B15: Đảng uỷ cơ sở, BTV đảng ủy cơ sở | C15: =SUM(D15:L15) -> 0
B16: Đảng uỷ bộ phận | C16: =SUM(D16:L16) -> 0
B17: Chi bộ, Chi ủy | C17: =SUM(D17:L17) -> 0
B18: Khác (ban chỉ đạo, tiểu ban, hội đồng, tổ đảng,...) | C18: =SUM(D18:L18) -> 0
A19: II | B19: Kết luận | C19: =SUM(C20:C22) -> 0 | D19: =SUM(D20:D22) -> 0 | E19: =SUM(E20:E22) -> 0 | F19: =SUM(F20:F22) -> 0 | G19: =SUM(G20:G22) -> 0 | H19: =SUM(H20:H22) -> 0 | I19: =SUM(I20:I22) -> 0 | J19: =SUM(J20:J22) -> 0 | ... L19: =SUM(L20:L22) -> 0
B20: Cho rút đơn, không xem xét giải quyết | C20: =SUM(D20:L20) -> 0
B21: Giữ nguyên hình thức kỷ luật | C21: =SUM(D21:L21) -> 0
B22: Thay đổi hình thức kỷ luật | C22: =SUM(D22:L22) -> 0
B23: Tăng hình thức kỷ luật | C23: =SUM(D23:L23) -> 0
B24: Giảm hình thức kỷ luật | C24: =SUM(D24:L24) -> 0
B25: Xoá kỷ luật | C25: =SUM(D25:L25) -> 0
B26: GQ đúng thời gian quy định | C26: =SUM(D26:L26) -> 0

Sheet B12
A1: GIẢI QUYẾT KHIẾU NẠI KỶ LUẬT ĐẢNG VIÊN CỦA CẤP ỦY CÁC CẤP | T1: Biểu 12
T2: (ĐVT: Đảng viên)
A3: TT | B3: Đảng viên khiếu nại kỷ luật đảng | C3: Đã giải quyết xong | D3: Cấp giải quyết khiếu nại | K3: Nội dung khiếu nại | N3: Kết luận
D4: BCHTW, Bộ Chính trị, Ban Bí thư | E4: Tỉnh ủy và tương đương | F4: BTV tỉnh uỷ và tương đương | G4: Đảng ủy cấp trên trực tiếp cơ sở và tương đương | H4: BTV đảng ủy cấp trên trực tiếp cơ sở và tương đương | I4: Đảng uỷ cơ sở | J4: BTV đảng uỷ cơ sở | K4: Nội dung vi phạm | L4: Hình thức kỷ luật | M4: Nguyên tắc, thủ tục, quy trình, thẩm quyền | N4: Cho rút đơn, không xem xét giải quyết | O4: Giữ nguyên hình thức kỷ luật | P4: Thay đổi hình thức kỷ luật | Q4: Trong đó | T4: Nguyên nhân thay đổi hình thức kỷ luật
Q5: Tăng hình thức kỷ luật | R5: Giảm hình thức kỷ luật | S5: Xoá kỷ luật | T5: Vận dụng phương hướng, phương châm THKL | U5: Thẩm tra, xác minh | V5: Khác
A6: 1 | B6: 2 | C6: 3 | D6: 4 | E6: 5 | F6: 6 | G6: 7 | H6: 8 | I6: 9 | J6: 10 | K6: 11 | L6: 12 | M6: 13 | N6: 14 | O6: 15 | P6: 16 | Q6: 17 | R6: 18 | S6: 19 | T6: 20 | U6: 21 | V6: 22
A7: I | B7: Cấp quản lý đảng viên | C7: =SUM(C8:C11) -> 0 | D7: =SUM(D8:D11) -> 0 | E7: =SUM(E8:E11) -> 0 | F7: =SUM(F8:F11) -> 0 | G7: =SUM(G8:G11) -> 0 | H7: =SUM(H8:H11) -> 0 | I7: =SUM(I8:I11) -> 0 | J7: =SUM(J8:J11) -> 0 | ... V7: =SUM(V8:V11) -> 0
B8: Trung ương | C8: =SUM(D8:J8) -> 0
B9: Cấp tỉnh và tương đương | C9: =SUM(D9:J9) -> 0
B10: Cấp trên trực tiếp cơ sở và tương đương | C10: =SUM(D10:J10) -> 0
B11: Cấp cơ sở | C11: =SUM(D11:J11) -> 0
A12: II | B12: Cấp quyết định kỷ luật | C12: =SUM(C13:C24) -> 0 | D12: =SUM(D13:D24) -> 0 | E12: =SUM(E13:E24) -> 0 | F12: =SUM(F13:F24) -> 0 | G12: =SUM(G13:G24) -> 0 | H12: =SUM(H13:H24) -> 0 | I12: =SUM(I13:I24) -> 0 | J12: =SUM(J13:J24) -> 0 | ... V12: =SUM(V13:V24) -> 0
B13: BCHTW, Bộ Chính trị, BBT | C13: =SUM(D13:J13) -> 0
B14: UBKT Trung ương | C14: =SUM(D14:J14) -> 0
B15: Tỉnh ủy và tương đương | C15: =SUM(D15:J15) -> 0
B16: BTV tỉnh ủy và tương đương | C16: =SUM(D16:J16) -> 0
B17: UBKT tỉnh uỷ và tương đương | C17: =SUM(D17:J17) -> 0
B18: Đảng ủy cấp trên trực tiếp cơ sở và tương đương | C18: =SUM(D18:J18) -> 0
B19: BTV đảng ủy cấp trên trực tiếp cơ sở và tương đương | C19: =SUM(D19:J19) -> 0
B20: UBKT đảng ủy cấp trên trực tiếp cơ sở và tương đương | C20: =SUM(D20:J20) -> 0
B21: Đảng ủy cơ sở | C21: =SUM(D21:J21) -> 0
B22: BTV đảng ủy cơ sở | C22: =SUM(D22:J22) -> 0
B23: UBKT đảng ủy cơ sở | C23: =SUM(D23:J23) -> 0
B24: Chi bộ | C24: =SUM(D24:J24) -> 0
A25: III | B25: Kết luận | C25: =SUM(C26:C28) -> 0 | D25: =SUM(D26:D28) -> 0 | E25: =SUM(E26:E28) -> 0 | F25: =SUM(F26:F28) -> 0 | G25: =SUM(G26:G28) -> 0 | H25: =SUM(H26:H28) -> 0 | I25: =SUM(I26:I28) -> 0 | J25: =SUM(J26:J28) -> 0
B26: Cho rút đơn, không xem xét giải quyết | C26: =SUM(D26:J26) -> 0
B27: Giữ nguyên hình thức kỷ luật | C27: =SUM(D27:J27) -> 0
B28: Thay đổi hình thức kỷ luật | C28: =SUM(D28:J28) -> 0
B29: Tăng hình thức kỷ luật | C29: =SUM(D29:J29) -> 0
B30: Giảm hình thức kỷ luật | C30: =SUM(D30:J30) -> 0
B31: Xoá kỷ luật | C31: =SUM(D31:J31) -> 0
B32: GQ đúng thời gian quy định | C32: =SUM(D32:J32) -> 0

Sheet B13
A1: KIỂM TRA TỔ CHỨC ĐẢNG KHI CÓ DẤU HIỆU VI PHẠM CỦA ỦY BAN KIỂM TRA CÁC CẤP | P1: Biểu 13
O2: (ĐVT: Tổ chức đảng)
A3: TT | B3: Tổ chức đảng được kiểm tra | C3: Tổng số tổ chức đảng được kiểm tra | D3: Cấp kiểm tra | H3: Nội dung kiểm tra | O3: Kết luận
D4: UBKT Trung ương | E4: UBKT tỉnh uỷ và tương đương | F4: UBKT đảng ủy cấp trên trực tiếp cơ sở và tương đương | G4: UBKT đảng uỷ cơ sở | H4: Việc chấp hành Cương lĩnh chính trị, Điều lệ Đảng, chủ trương, nghị quyết, chỉ thị, quy định, quyết định, quy chế, kết luận của Đảng | I4: Việc chấp hành chính sách, pháp luật của Nhà nước | J4: Việc chấp hành các nguyên tắc, tổ chức và hoạt động của Đảng, giữ gìn đoàn kết nội bộ, quy chế làm việc, chế độ công tác, thực hiện dân chủ trong Đảng | K4: Việc thực hành tiết kiệm, phòng, chống tham nhũng, lãng phí, tiêu cực | L4: Quản lý, rèn luyện phẩm chất, đạo đức, lối sống của cán bộ, đảng viên | M4: Công tác cán bộ | N4: Khác | O4: Tổ chức đảng có vi phạm | P4: Trong đó
P5: Phải thi hành kỷ luật | Q5: Đã thi hành kỷ luật | R5: Đề nghị cấp có thẩm quyền thi hành kỷ luật
A6: 1 | B6: 2 | C6: 3 | D6: 4 | E6: 5 | F6: 6 | G6: 7 | H6: 8 | I6: 9 | J6: 10 | K6: 11 | L6: 12 | M6: 13 | N6: 14 | O6: 15 | P6: 16 | Q6: 17 | R6: 18
A7: I | B7: Tổ chức đảng được kiểm tra | C7: =SUM(C8:C16) -> 0 | D7: =SUM(D8:D16) -> 0 | E7: =SUM(E8:E16) -> 0 | F7: =SUM(F8:F16) -> 0 | G7: =SUM(G8:G16) -> 0 | H7: =SUM(H8:H16) -> 0 | I7: =SUM(I8:I16) -> 0 | J7: =SUM(J8:J16) -> 0 | ... R7: =SUM(R8:R16) -> 0
B8: Các CQ tham mưu của Trung ương | C8: =SUM(D8:G8) -> 0
B9: Tỉnh ủy, BTV tỉnh ủy và tương đương | C9: =SUM(D9:G9) -> 0
B10: Các CQ tham mưu của cấp ủy tỉnh và tương đương | C10: =SUM(D10:G10) -> 0
B11: Đảng ủy, BTV ĐU cấp trên trực tiếp cơ sở và tương đương | C11: =SUM(D11:G11) -> 0
B12: Các CQ tham mưu của cấp ủy cấp trên trực tiếp cơ sở và tương đương | C12: =SUM(D12:G12) -> 0
B13: Đảng ủy cơ sở, BTV đảng ủy cơ sở | C13: =SUM(D13:G13) -> 0
B14: Đảng ủy bộ phận | C14: =SUM(D14:G14) -> 0
B15: Chi bộ, Chi ủy | C15: =SUM(D15:G15) -> 0
B16: Khác (ban chỉ đạo, tiểu ban, hội đồng, tổ đảng,...) | C16: =SUM(D16:G16) -> 0
A17: II | B17: Kết luận
B18: Tổ chức đảng có vi phạm | C18: =SUM(D18:G18) -> 0
B19: Phải thi hành kỷ luật | C19: =SUM(D19:G19) -> 0
B20: Đã thi hành kỷ luật | C20: =SUM(D20:G20) -> 0
B21: Đề nghị cấp có thẩm quyền thi hành kỷ luật | C21: =SUM(D21:G21) -> 0

Sheet B14
A1: KIỂM TRA ĐẢNG VIÊN KHI CÓ DẤU HIỆU VI PHẠM CỦA ỦY BAN KIỂM TRA CÁC CẤP | R1: Biểu 14
Q2: (ĐVT: Đảng viên)
A3: TT | B3: Đảng viên được kiểm tra | C3: Tổng số đảng viên được kiểm tra | D3: Cấp kiểm tra | H3: Nội dung kiểm tra | Q3: Kết luận
D4: UBKT Trung ương | E4: UBKT tỉnh uỷ và tương đương | F4: UBKT đảng ủy cấp trên trực tiếp cơ sở và tương đương | G4: UBKT đảng uỷ cơ sở | H4: Những điều đảng viên không được làm | I4: Tiêu chuẩn đảng viên, tiêu chuẩn cấp ủy viên | J4: Việc thực hiện nhiệm vụ đảng viên, cấp ủy viên | K4: Việc chấp hành nghị quyết, chỉ thị, quy định, kết luận của Đảng; chính sách, pháp luật của Nhà nước | L4: Việc chấp hành quy chế làm việc, nguyên tắc tập trung dân chủ, chế độ công tác | M4: Tư tưởng chính trị, đạo đức, lối sống, trách nhiệm nêu gương | N4: Tham nhũng, cố ý làm trái | O4: Kê khai tài sản, thu nhập | P4: Khác | Q4: Có vi phạm | R4: Trong đó
R5: Phải thi hành kỷ luật | S5: Đã thi hành kỷ luật | T5: Đề nghị cấp có thẩm quyền thi hành kỷ luật
A6: 1 | B6: 2 | C6: 3 | D6: 4 | E6: 5 | F6: 6 | G6: 7 | H6: 8 | I6: 9 | J6: 10 | K6: 11 | L6: 12 | M6: 13 | N6: 14 | O6: 15 | P6: 16 | Q6: 17 | R6: 18 | S6: 19 | T6: 20
A7: I | B7: Cấp quản lý đảng viên | C7: =SUM(C8:C11) -> 0 | D7: =SUM(D8:D11) -> 0 | E7: =SUM(E8:E11) -> 0 | F7: =SUM(F8:F11) -> 0 | G7: =SUM(G8:G11) -> 0 | H7: =SUM(H8:H11) -> 0 | I7: =SUM(I8:I11) -> 0 | J7: =SUM(J8:J11) -> 0 | ... T7: =SUM(T8:T11) -> 0
B8: Trung ương | C8: =SUM(D8:G8) -> 0
B9: Cấp tỉnh và tương đương | C9: =SUM(D9:G9) -> 0
B10: Cấp trên trực tiếp cơ sở và tương đương | C10: =SUM(D10:G10) -> 0
B11: Cấp cơ sở | C11: =SUM(D11:G11) -> 0
A12: II | B12: Là cấp uỷ viên các cấp | C12: =SUM(C13:C18) -> 0 | D12: =SUM(D13:D18) -> 0 | E12: =SUM(E13:E18) -> 0 | F12: =SUM(F13:F18) -> 0 | G12: =SUM(G13:G18) -> 0 | H12: =SUM(H13:H18) -> 0 | I12: =SUM(I13:I18) -> 0 | J12: =SUM(J13:J18) -> 0 | ... T12: =SUM(T13:T18) -> 0
B13: Uỷ viên Trung ương | C13: =SUM(D13:G13) -> 0
B14: Tỉnh uỷ viên và tương đương | C14: =SUM(D14:G14) -> 0
B15: Đảng ủy viên ĐU cấp trên trực tiếp cơ sở và tương đương | C15: =SUM(D15:G15) -> 0
B16: Đảng uỷ viên đảng ủy cơ sở | C16: =SUM(D16:G16) -> 0
B17: Đảng ủy viên đảng ủy bộ phận | C17: =SUM(D17:G17) -> 0
B18: Chi uỷ viên | C18: =SUM(D18:G18) -> 0
A19: III | B19: Đảng viên ở các lĩnh vực | C19: =SUM(C20:C26) -> 0 | D19: =SUM(D20:D26) -> 0 | E19: =SUM(E20:E26) -> 0 | F19: =SUM(F20:F26) -> 0 | G19: =SUM(G20:G26) -> 0 | H19: =SUM(H20:H26) -> 0 | I19: =SUM(I20:I26) -> 0 | J19: =SUM(J20:J26) -> 0 | ... T19: =SUM(T20:T26) -> 0
B20: Đảng | C20: =SUM(D20:G20) -> 0
B21: Hành chính, Nhà nước | C21: =SUM(D21:G21) -> 0
B22: Đoàn thể | C22: =SUM(D22:G22) -> 0
B23: Lực lượng vũ trang | C23: =SUM(D23:G23) -> 0
B24: Sự nghiệp công lập | C24: =SUM(D24:G24) -> 0
B25: Sản xuất kinh doanh, dịch vụ | C25: =SUM(D25:G25) -> 0
B26: Lĩnh vực khác | C26: =SUM(D26:G26) -> 0
A27: IV | B27: Kết luận
B28: Có vi phạm | C28: =SUM(D28:G28) -> 0
B29: Phải thi hành kỷ luật | C29: =SUM(D29:G29) -> 0
B30: Đã thi hành kỷ luật | C30: =SUM(D30:G30) -> 0
B31: Đề nghị cấp có thẩm quyền thi hành kỷ luật | C31: =SUM(D31:G31) -> 0

Sheet B15
A1: ỦY BAN KIỂM TRA CÁC CẤP KIỂM TRA TỔ CHỨC ĐẢNG, ỦY BAN KIỂM TRA CẤP DƯỚI THỰC HIỆN NHIỆM VỤ KIỂM TRA, GIÁM SÁT | Q1: Biểu 15
L3: (ĐVT: Tổ chức đảng)
A4: TT | B4: Nội dung | C4: Tổng số tổ chức đảng được kiểm tra | D4: Cấp kiểm tra | H4: Kết luận
D5: UBKT Trung ương | E5: UBKT tỉnh uỷ và tương đương | F5: UBKT đảng ủy cấp trên trực tiếp cơ sở và tương đương | G5: UBKT đảng uỷ cơ sở | H5: Số tổ chức đảng thực hiện tốt nhiệm vụ kiểm tra, giám sát | I5: Số tổ chức đảng thực hiện chưa tốt nhiệm vụ kiểm tra, giám sát | J5: Trong đó
J6: Số không có chương trình, kế hoạch kiểm tra, giám sát | K6: Số chưa làm tốt công tác lãnh đạo, chỉ đạo thực hiện nhiệm vụ kiểm tra, giám sát | L6: Số chưa thực hiện tốt nhiệm vụ kiểm tra, giám sát | M6: Số chưa làm tốt việc lãnh đạo, chỉ đạo, tổ chức hoạt động của UBKT | N6: Số chưa làm tốt việc lãnh đạo, chỉ đạo, xây dựng tổ chức bộ máy, đội ngũ cán bộ của cơ quan UBKT cấp dưới | O6: Số vụ việc bị cấp kiểm tra rút hồ sơ để kiểm tra trực tiếp | P6: Số số vụ việc bị cấp kiểm tra yêu cầu: kiểm điểm; kiểm tra; giám sát | Q6: Số vụ việc bị cấp kiểm tra yêu cầu xem xét thi hành kỷ luật | R6: Số vụ việc bị cấp kiểm tra yêu cầu hoàn thành kiểm tra, giám sát
A7: 1 | B7: 2 | C7: 3 | D7: 4 | E7: 5 | F7: 6 | G7: 7 | H7: 8 | I7: 9 | J7: 10 | K7: 11 | L7: 12 | M7: 13 | N7: 14 | O7: 15 | P7: 16 | Q7: 17 | R7: 18
A8: I | B8: Tổ chức đảng được kiểm tra | C8: =SUM(C9:C16) -> 0 | D8: =SUM(D9:D16) -> 0 | E8: =SUM(E9:E16) -> 0 | F8: =SUM(F9:F16) -> 0 | G8: =SUM(G9:G16) -> 0 | H8: =SUM(H9:H16) -> 0 | I8: =SUM(I9:I16) -> 0 | J8: =SUM(J9:J16) -> 0 | ... R8: =SUM(R9:R16) -> 0
B9: Tỉnh ủy, BTV tỉnh ủy và tương đương | C9: =SUM(D9:G9) -> 0
B10: UBKT tỉnh ủy và tương đương | C10: =SUM(D10:G10) -> 0
B11: Đảng ủy, BTV ĐU cấp trên trực tiếp cơ sở và tương đương | C11: =SUM(D11:G11) -> 0
B12: UBKT đảng ủy cấp trên trực tiếp cơ sở và tương đương | C12: =SUM(D12:G12) -> 0
B13: Đảng ủy cơ sở, BTV Đảng ủy cơ sở | C13: =SUM(D13:G13) -> 0
B14: UBKT đảng ủy cơ sở | C14: =SUM(D14:G14) -> 0
B15: Đảng ủy bộ phận | C15: =SUM(D15:G15) -> 0
B16: Chi bộ, Chi ủy | C16: =SUM(D16:G16) -> 0
A17: II | B17: Cấp kiểm tra | H17: =SUM(H18:H21) -> 0 | I17: =SUM(I18:I21) -> 0 | J17: =SUM(J18:J21) -> 0 | K17: =SUM(K18:K21) -> 0 | L17: =SUM(L18:L21) -> 0 | M17: =SUM(M18:M21) -> 0 | N17: =SUM(N18:N21) -> 0 | O17: =SUM(O18:O21) -> 0 | ... R17: =SUM(R18:R21) -> 0
B18: UBKT Trung ương
B19: UBKT tỉnh uỷ và tương đương
B20: UBKT đảng ủy cấp trên trực tiếp cơ sở và tương đương
B21: UBKT đảng uỷ cơ sở

Sheet B16
A1: ỦY BAN KIỂM TRA CÁC CẤP KIỂM TRA VIỆC THI HÀNH KỶ LUẬT CỦA TỔ CHỨC ĐẢNG CẤP DƯỚI | Z1: Biểu 16
A3: TT | B3: Nội dung | C3: Tổng số tổ chức đảng được kiểm tra | D3: Cấp kiểm tra (tổ chức đảng) | H3: Số ĐV bị THKL trong mốc thời gian kiểm tra | J3: Đảng viên bị THKL do từng cấp quản lý | N3: Số TCĐ bị THKL trong mốc thời gian kiểm tra | P3: Kết luận | V3: Kiến nghị sau kiểm tra
D4: UBKT Trung ương | E4: UBKT tỉnh uỷ và tương đương | F4: UBKT đảng ủy cấp trên trực tiếp cơ sở và tương đương | G4: UBKT đảng uỷ cơ sở | H4: Tổng số đảng viên | I4: Trong đó số ĐV có khiếu nại sau khi bị THKL | J4: Cấp tỉnh và tương đương | K4: Cấp trên trực tiếp cơ sở và tương đương | L4: Cấp cơ sở và tương đương | M4: Chi bộ | N4: Tổng số tổ chức đảng | O4: Trong đó số TCĐ có khiếu nại sau khi bị THKL | P4: Số tổ chức đảng làm tốt công tác THKL | Q4: Số tổ chức đảng chưa làm tốt công tác THKL | R4: Số bị THKL không đúng thẩm quyền, nguyên tắc, thủ tục | T4: Số bị THKL không đúng hình thức; vi phạm đến mức kỷ luật mà không THKL; bị oan, sai | V4: Tăng hình thức kỷ luật | X4: Giảm hình thức kỷ luật | Z4: Xóa kỷ luật
R5: Đảng viên | S5: TCĐ | T5: Đảng viên | U5: TCĐ | V5: Đảng viên | W5: TCĐ | X5: Đảng viên | Y5: TCĐ | Z5: Đảng viên | AA5: TCĐ
