Workbook

Sheet Danh sach
A1: DANH SÁCH BIỂU MẪU THỐNG KÊ NGÀNH KIỂM TRA ĐẢNG
A2: STT | B2: Tên biểu | C2: Nội dung | D2: Đường dẫn | E2: Biểu chứa dữ liệu
A3: 1 | B3: Biểu 01 | C3: Kiểm tra tổ chức đảng cấp dưới theo Điều 30 Điều lệ Đảng | D3: B01 | E3: Không
A4: 2 | B4: Biểu 02 | C4: Kiểm tra đảng viên theo Điều 30 Điều lệ Đảng | D4: B02 | E4: Không
A5: 3 | B5: Biểu 03 | C5: Kiểm tra tổ chức đảng khi có dấu hiệu vi phạm của cấp uỷ, ban thường vụ cấp uỷ | D5: B03 | E5: Không
A6: 4 | B6: Biểu 04 | C6: Kiểm tra đảng viên khi có dấu hiệu vi phạm của cấp uỷ, ban thường vụ cấp uỷ và chi bộ | D6: B04 | E6: Không
A7: 5 | B7: Biểu 05 | C7: Giám sát tổ chức đảng theo Điều 30 Điều lệ Đảng | D7: B05 | E7: Không
A8: 6 | B8: Biểu 06 | C8: Giám sát đảng viên theo Điều 30 Điều lệ Đảng | D8: B06 | E8: Không
A9: 7 | B9: Biểu 07 | C9: Thi hành kỷ luật tổ chức đảng của cấp uỷ các cấp | D9: B07 | E9: Không
A10: 8 | B10: Biểu 08 | C10: Thi hành kỷ luật đảng viên của cấp uỷ các cấp và chi bộ | D10: B08 | E10: Không
A11: 9 | B11: Biểu 09 | C11: Giải quyết tố cáo tổ chức đảng của cấp ủy các cấp | D11: B09 | E11: Không
A12: 10 | B12: Biểu 10 | C12: Giải quyết tố cáo đảng viên của cấp ủy các cấp và chi bộ | D12: B10 | E12: Không
A13: 11 | B13: Biểu 11 | C13: Giải quyết khiếu nại kỷ luật tổ chức đảng của cấp uỷ các cấp | D13: B11 | E13: Không
A14: 12 | B14: Biểu 12 | C14: Giải quyết khiếu nại kỷ luật đảng viên của cấp uỷ các cấp | D14: B12 | E14: Không
... A32: 30 | B32: Biểu 30 | C32: Tình hình đào tạo, bồi dưỡng cán bộ, công chức làm công tác kiểm tra | D32: B30 | E32: Không

Sheet DOCT
A1: BIỂU THỐNG KÊ TÌNH HÌNH THỰC HIỆN NHIỆM VỤ KIỂM TRA, GIÁM SÁT VÀ KỶ LUẬT ĐẢNG
A2: Kỳ báo cáo tháng 09 năm 2026
A3: TT | B3: Nội dung | C3: Tổng cộng
D4: Cấp trung ương | E4: Cấp tỉnh và tương đương | F4: Cấp trên trực tiếp cơ sở và tương đương | G4: Cấp cơ sở
G5: Đảng ủy cơ sở | H5: Đảng ủy bộ phận | I5: Chi bộ cơ sở | J5: Chi bộ trực thuộc
A6: 1 | B6: 2 | C6: 3 | D6: 4 | E6: 5 | F6: 6 | G6: 7 | H6: 8 | I6: 9 | J6: 10
A7: I | B7: KIỂM TRA, GIÁM SÁT CỦA CẤP ỦY CÁC CẤP VÀ CHI BỘ
A8: 1 | B8: Kiểm tra theo Điều 30 Điều lệ Đảng
A9: 1.1 | B9: Số tổ chức đảng cấp dưới được kiểm tra | C9: =SUM(C10:C11) -> 0 | D9: =SUM(D10:D11) -> 0 | E9: =SUM(E10:E11) -> 0 | F9: =SUM(F10:F11) -> 0 | G9: =SUM(G10:G11) -> 0 | H9: =SUM(H10:H11) -> 0 | I9: =SUM(I10:I11) -> 0 | J9: =SUM(J10:J11) -> 0
B10: Kết luận: Thực hiện tốt | C10: =SUM(D10:J10) -> 0 | D10: ='B01'!D18+'B01'!E18 -> 0 | E10: ='B01'!F18+'B01'!G18 -> 0 | F10: ='B01'!H18+'B01'!I18 -> 0 | G10: ='B01'!J18 -> 0 | H10: ='B01'!K18 -> 0
B11: Thực hiện chưa tốt | C11: =SUM(D11:J11) -> 0 | D11: ='B01'!D19+'B01'!E19 -> 0 | E11: ='B01'!F19+'B01'!G19 -> 0 | F11: ='B01'!H19+'B01'!I19 -> 0 | G11: ='B01'!J19 -> 0 | H11: ='B01'!K19 -> 0
B12: Trong đó: Có vi phạm, khuyết điểm | C12: =SUM(D12:J12) -> 0 | D12: ='B01'!D20+'B01'!E20 -> 0 | E12: ='B01'!F20+'B01'!G20 -> 0 | F12: ='B01'!H20+'B01'!I20 -> 0 | G12: ='B01'!J20 -> 0 | H12: ='B01'!K20 -> 0
B13: Phải thi hành kỷ luật | C13: =SUM(D13:J13) -> 0 | D13: ='B01'!D21+'B01'!E21 -> 0 | E13: ='B01'!F21+'B01'!G21 -> 0 | F13: ='B01'!H21+'B01'!I21 -> 0 | G13: ='B01'!J21 -> 0 | H13: ='B01'!K21 -> 0
B14: Đã thi hành kỷ luật | C14: =SUM(D14:J14) -> 0 | D14: ='B01'!D22+'B01'!E22 -> 0 | E14: ='B01'!F22+'B01'!G22 -> 0 | F14: ='B01'!H22+'B01'!I22 -> 0 | G14: ='B01'!J22 -> 0 | H14: ='B01'!K22 -> 0
A15: 1.2 | B15: Số đảng viên được kiểm tra | C15: =C17+C18 -> 0 | D15: =D17+D18 -> 0 | E15: =E17+E18 -> 0 | F15: =F17+F18 -> 0 | G15: =G17+G18 -> 0 | H15: =H17+H18 -> 0 | I15: =I17+I18 -> 0 | J15: =J17+J18 -> 0
B16: Là cấp ủy viên các cấp | C16: =SUM(D16:J16) -> 0 | D16: ='B02'!D12+'B02'!E12 -> 0 | E16: ='B02'!F12+'B02'!G12 -> 0 | F16: ='B02'!H12+'B02'!I12 -> 0 | G16: ='B02'!J12 -> 0 | H16: ='B02'!K12 -> 0 | I16: ='B02'!L12 -> 0 | J16: ='B02'!M12 -> 0
B17: Kết luận: Thực hiện tốt | C17: =SUM(D17:J17) -> 0 | D17: ='B02'!D28+'B02'!E28 -> 0 | E17: ='B02'!F28+'B02'!G28 -> 0 | F17: ='B02'!H28+'B02'!I28 -> 0 | G17: ='B02'!J28 -> 0 | H17: ='B02'!K28 -> 0 | I17: ='B02'!L28 -> 0 | J17: ='B02'!M28 -> 0
B18: Thực hiện chưa tốt | C18: =SUM(D18:J18) -> 0 | D18: ='B02'!D29+'B02'!E29 -> 0 | E18: ='B02'!F29+'B02'!G29 -> 0 | F18: ='B02'!H29+'B02'!I29 -> 0 | G18: ='B02'!J29 -> 0 | H18: ='B02'!K29 -> 0 | I18: ='B02'!L29 -> 0 | J18: ='B02'!M29 -> 0
B19: Trong đó: Có vi phạm, khuyết điểm | C19: =SUM(D19:J19) -> 0 | D19: ='B02'!D30+'B02'!E30 -> 0 | E19: ='B02'!F30+'B02'!G30 -> 0 | F19: ='B02'!H30+'B02'!I30 -> 0 | G19: ='B02'!J30 -> 0 | H19: ='B02'!K30 -> 0 | I19: ='B02'!L30 -> 0 | J19: ='B02'!M30 -> 0
B20: Phải thi hành kỷ luật | C20: =SUM(D20:J20) -> 0 | D20: ='B02'!D31+'B02'!E31 -> 0 | E20: ='B02'!F31+'B02'!G31 -> 0 | F20: ='B02'!H31+'B02'!I31 -> 0 | G20: ='B02'!J31 -> 0 | H20: ='B02'!K31 -> 0 | I20: ='B02'!L31 -> 0 | J20: ='B02'!M31 -> 0
B21: Đã thi hành kỷ luật | C21: =SUM(D21:J21) -> 0 | D21: ='B02'!D32+'B02'!E32 -> 0 | E21: ='B02'!F32+'B02'!G32 -> 0 | F21: ='B02'!H32+'B02'!I32 -> 0 | G21: ='B02'!J32 -> 0 | H21: ='B02'!K32 -> 0 | I21: ='B02'!L32 -> 0 | J21: ='B02'!M32 -> 0
A22: 2 | B22: Kiểm tra khi có dấu hiệu vi phạm
A23: 2.1 | B23: Số tổ chức đảng được kiểm tra | C23: =SUM(D23:J23) -> 0 | D23: ='B03'!D7 -> 0 | E23: ='B03'!E7 -> 0 | F23: ='B03'!F7 -> 0 | G23: ='B03'!G7 -> 0
B24: Kết luận: Tổ chức đảng có vi phạm | C24: =SUM(D24:J24) -> 0 | D24: ='B03'!D18 -> 0 | E24: ='B03'!E18 -> 0 | F24: ='B03'!F18 -> 0 | G24: ='B03'!G18 -> 0
B25: Phải thi hành kỷ luật | C25: =SUM(D25:J25) -> 0 | D25: ='B03'!D19 -> 0 | E25: ='B03'!E19 -> 0 | F25: ='B03'!F19 -> 0 | G25: ='B03'!G19 -> 0
B26: Đã thi hành kỷ luật | C26: =SUM(D26:J26) -> 0 | D26: ='B03'!D20 -> 0 | E26: ='B03'!E20 -> 0 | F26: ='B03'!F20 -> 0 | G26: ='B03'!G20 -> 0
B27: Đề nghị cấp có thẩm quyền thi hành kỷ luật | C27: =SUM(D27:J27) -> 0 | D27: ='B03'!D21 -> 0 | E27: ='B03'!E21 -> 0 | F27: ='B03'!F21 -> 0 | G27: ='B03'!G21 -> 0
A28: 2.2 | B28: Số đảng viên được kiểm tra | C28: =SUM(D28:J28) -> 0 | D28: ='B04'!D7 -> 0 | E28: ='B04'!E7 -> 0 | F28: ='B04'!F7 -> 0 | G28: ='B04'!G7 -> 0 | H28: ='B04'!H7 -> 0 | I28: ='B04'!I7 -> 0 | J28: ='B04'!J7 -> 0
B29: Là cấp ủy viên các cấp | C29: =SUM(D29:J29) -> 0 | D29: ='B04'!D12 -> 0 | E29: ='B04'!E12 -> 0 | F29: ='B04'!F12 -> 0 | G29: ='B04'!G12 -> 0 | H29: ='B04'!H12 -> 0 | I29: ='B04'!I12 -> 0 | J29: ='B04'!J12 -> 0
B30: Kết luận: Đảng viên có vi phạm | C30: =SUM(D30:J30) -> 0 | D30: ='B04'!D28 -> 0 | E30: ='B04'!E28 -> 0 | F30: ='B04'!F28 -> 0 | G30: ='B04'!G28 -> 0 | H30: ='B04'!H28 -> 0 | I30: ='B04'!I28 -> 0 | J30: ='B04'!J28 -> 0
B31: Phải thi hành kỷ luật | C31: =SUM(D31:J31) -> 0 | D31: ='B04'!D29 -> 0 | E31: ='B04'!E29 -> 0 | F31: ='B04'!F29 -> 0 | G31: ='B04'!G29 -> 0 | H31: ='B04'!H29 -> 0 | I31: ='B04'!I29 -> 0 | J31: ='B04'!J29 -> 0
B32: Đã thi hành kỷ luật | C32: =SUM(D32:J32) -> 0 | D32: ='B04'!D30 -> 0 | E32: ='B04'!E30 -> 0 | F32: ='B04'!F30 -> 0 | G32: ='B04'!G30 -> 0 | H32: ='B04'!H30 -> 0 | I32: ='B04'!I30 -> 0 | J32: ='B04'!J30 -> 0
B33: Đề nghị cấp có thẩm quyền thi hành kỷ luật | C33: =SUM(D33:J33) -> 0 | D33: ='B04'!D31 -> 0 | E33: ='B04'!E31 -> 0 | F33: ='B04'!F31 -> 0 | G33: ='B04'!G31 -> 0 | H33: ='B04'!H31 -> 0 | I33: ='B04'!I31 -> 0 | J33: ='B04'!J31 -> 0
A34: 3 | B34: Giám sát chuyên đề
A35: 3.1 | B35: Số tổ chức đảng được giám sát | C35: =C36+C37 -> 0 | D35: =D36+D37 -> 0 | E35: =E36+E37 -> 0 | F35: =F36+F37 -> 0 | G35: =G36+G37 -> 0 | H35: =H36+H37 -> 0 | I35: =I36+I37 -> 0 | J35: =J36+J37 -> 0
B36: Kết luận: Số thực hiện tốt | C36: =SUM(D36:J36) -> 0 | D36: ='B05'!D17+'B05'!E17 -> 0 | E36: ='B05'!F17+'B05'!G17 -> 0 | F36: ='B05'!H17+'B05'!I17 -> 0 | G36: ='B05'!J17 -> 0 | H36: ='B05'!K17 -> 0
B37: Số có hạn chế, khuyết điểm | C37: =SUM(D37:J37) -> 0 | D37: ='B05'!D18+'B05'!E18 -> 0 | E37: ='B05'!F18+'B05'!G18 -> 0 | F37: ='B05'!H18+'B05'!I18 -> 0 | G37: ='B05'!J18 -> 0 | H37: ='B05'!K18 -> 0
B38: Số chuyển kiểm tra khi có dấu hiệu vi phạm | C38: =SUM(D38:J38) -> 0 | D38: ='B05'!D19+'B05'!E19 -> 0 | E38: ='B05'!F19+'B05'!G19 -> 0 | F38: ='B05'!H19+'B05'!I19 -> 0 | G38: ='B05'!J19 -> 0 | H38: ='B05'!K19 -> 0
A39: 3.2 | B39: Số đảng viên được giám sát | C39: =C41+C42 -> 0 | D39: =D41+D42 -> 0 | E39: =E41+E42 -> 0 | F39: =F41+F42 -> 0 | G39: =G41+G42 -> 0 | H39: =H41+H42 -> 0 | I39: =I41+I42 -> 0 | J39: =J41+J42 -> 0
B40: Là cấp ủy viên các cấp | C40: =SUM(D40:J40) -> 0 | D40: ='B06'!D11+'B06'!E11 -> 0 | E40: ='B06'!F11+'B06'!G11 -> 0 | F40: ='B06'!H11+'B06'!I11 -> 0 | G40: ='B06'!J11 -> 0 | H40: ='B06'!K11 -> 0 | I40: ='B06'!L11 -> 0 | J40: ='B06'!M11 -> 0
B41: Kết luận: Số thực hiện tốt | C41: =SUM(D41:J41) -> 0 | D41: ='B06'!D31+'B06'!E31 -> 0 | E41: ='B06'!F31+'B06'!G31 -> 0 | F41: ='B06'!H31+'B06'!I31 -> 0 | G41: ='B06'!J31 -> 0 | H41: ='B06'!K31 -> 0 | I41: ='B06'!L31 -> 0 | J41: ='B06'!M31 -> 0
B42: Số có hạn chế, khuyết điểm | C42: =SUM(D42:J42) -> 0 | D42: ='B06'!D32+'B06'!E32 -> 0 | E42: ='B06'!F32+'B06'!G32 -> 0 | F42: ='B06'!H32+'B06'!I32 -> 0 | G42: ='B06'!J32 -> 0 | H42: ='B06'!K32 -> 0 | I42: ='B06'!L32 -> 0 | J42: ='B06'!M32 -> 0
B43: Số chuyển kiểm tra khi có dấu hiệu vi phạm | C43: =SUM(D43:J43) -> 0 | D43: ='B06'!D33+'B06'!E33 -> 0 | E43: ='B06'!F33+'B06'!G33 -> 0 | F43: ='B06'!H33+'B06'!I33 -> 0 | G43: ='B06'!J33 -> 0 | H43: ='B06'!K33 -> 0 | I43: ='B06'!L33 -> 0 | J43: ='B06'!M33 -> 0
A44: 4 | B44: Thi hành kỷ luật
A45: 4.1 | B45: Số tổ chức đảng bị thi hành kỷ luật | C45: =SUM(C46:C48) -> 0 | D45: =SUM(D46:D48) -> 0 | E45: =SUM(E46:E48) -> 0 | F45: =SUM(F46:F48) -> 0 | G45: =SUM(G46:G48) -> 0 | H45: =SUM(H46:H48) -> 0 | I45: =SUM(I46:I48) -> 0 | J45: =SUM(J46:J48) -> 0
B46: Hình thức kỷ luật: Khiển trách | C46: =SUM(D46:J46) -> 0 | D46: ='B07'!D22 -> 0 | E46: ='B07'!D23 -> 0 | F46: ='B07'!D24 -> 0 | G46: ='B07'!D25 -> 0
B47: Cảnh cáo | C47: =SUM(D47:J47) -> 0 | D47: ='B07'!E22 -> 0 | E47: ='B07'!E23 -> 0 | F47: ='B07'!E24 -> 0 | G47: ='B07'!E25 -> 0
B48: Giải tán | C48: =SUM(D48:J48) -> 0 | D48: ='B07'!F22 -> 0 | E48: ='B07'!F23 -> 0 | F48: ='B07'!F24 -> 0 | G48: ='B07'!F25 -> 0
A49: 4.2 | B49: Số đảng viên bị thi hành kỷ luật | C49: =SUM(C51:C54) -> 0 | D49: =SUM(D51:D54) -> 0 | E49: =SUM(E51:E54) -> 0 | F49: =SUM(F51:F54) -> 0 | G49: =SUM(G51:G54) -> 0 | H49: =SUM(H51:H54) -> 0 | I49: =SUM(I51:I54) -> 0 | J49: =SUM(J51:J54) -> 0
B50: Là cấp ủy viên các cấp | C50: =SUM(D50:J50) -> 0 | D50: ='B08'!K12 -> 0 | E50: ='B08'!L12 -> 0 | F50: ='B08'!M12 -> 0 | G50: ='B08'!N12 -> 0 | I50: ='B08'!O12 -> 0 | J50: ='B08'!P12 -> 0
B51: Hình thức kỷ luật: Khiển trách | C51: =SUM(D51:J51) -> 0 | D51: ='B08'!D33 -> 0 | E51: ='B08'!D34 -> 0 | F51: ='B08'!D35 -> 0 | G51: ='B08'!D36 -> 0 | I51: ='B08'!D37 -> 0 | J51: ='B08'!D38 -> 0
B52: Cảnh cáo | C52: =SUM(D52:J52) -> 0 | D52: ='B08'!E33 -> 0 | E52: ='B08'!E34 -> 0 | F52: ='B08'!E35 -> 0 | G52: ='B08'!E36 -> 0 | I52: ='B08'!E37 -> 0 | J52: ='B08'!E38 -> 0
B53: Cách chức | C53: =SUM(D53:J53) -> 0 | D53: ='B08'!F33 -> 0 | E53: ='B08'!F34 -> 0 | F53: ='B08'!F35 -> 0 | G53: ='B08'!F36 -> 0
B54: Khai trừ | C54: =SUM(D54:J54) -> 0 | D54: ='B08'!G33 -> 0 | E54: ='B08'!G34 -> 0 | F54: ='B08'!G35 -> 0 | G54: ='B08'!G36 -> 0
A55: 4.3 | B55: Xử lý khác đối với đảng viên | C55: =SUM(C56:C58) -> 0 | D55: =SUM(D56:D58) -> 0 | E55: =SUM(E56:E58) -> 0 | F55: =SUM(F56:F58) -> 0 | G55: =SUM(G56:G58) -> 0 | H55: =SUM(H56:H58) -> 0 | I55: =SUM(I56:I58) -> 0 | J55: =SUM(J56:J58) -> 0
B56: Đình chỉ sinh hoạt đảng | C56: =SUM(D56:J56) -> 0 | D56: ='B08'!H33 -> 0 | E56: ='B08'!H34 -> 0 | F56: ='B08'!H35 -> 0 | G56: ='B08'!H36 -> 0 | I56: ='B08'!H37 -> 0 | J56: ='B08'!H38 -> 0
B57: Đình chỉ sinh hoạt cấp ủy | C57: =SUM(D57:J57) -> 0 | D57: ='B08'!I33 -> 0 | E57: ='B08'!I34 -> 0 | F57: ='B08'!I35 -> 0 | G57: ='B08'!I36 -> 0 | I57: ='B08'!I37 -> 0 | J57: ='B08'!I38 -> 0
B58: Xóa tên, cho rút | C58: =SUM(D58:J58) -> 0 | D58: ='B08'!J33 -> 0 | E58: ='B08'!J34 -> 0 | F58: ='B08'!J35 -> 0 | G58: ='B08'!J36 -> 0 | I58: ='B08'!J37 -> 0 | J58: ='B08'!J38 -> 0
A59: 5 | B59: Giải quyết tố cáo
A60: 5.1 | B60: Số giải quyết tố cáo tổ chức đảng | C60: =SUM(C61:C64) -> 0 | D60: =SUM(D61:D64) -> 0 | E60: =SUM(E61:E64) -> 0 | F60: =SUM(F61:F64) -> 0 | G60: =SUM(G61:G64) -> 0 | H60: =SUM(H61:H64) -> 0 | I60: =SUM(I61:I64) -> 0 | J60: =SUM(J61:J64) -> 0
B61: Kết luận: Cho rút đơn, không xem xét giải quyết | C61: =SUM(D61:J61) -> 0 | D61: ='B09'!D19 -> 0 | E61: ='B09'!E19 -> 0 | F61: ='B09'!F19 -> 0 | G61: ='B09'!G19 -> 0
B62: Chưa có cơ sở kết luận | C62: =SUM(D62:J62) -> 0 | D62: ='B09'!D20 -> 0 | E62: ='B09'!E20 -> 0 | F62: ='B09'!F20 -> 0 | G62: ='B09'!G20 -> 0
B63: Tố sai | C63: =SUM(D63:J63) -> 0 | D63: ='B09'!D21 -> 0 | E63: ='B09'!E21 -> 0 | F63: ='B09'!F21 -> 0 | G63: ='B09'!G21 -> 0
B64: Tố đúng và đúng một phần | C64: =SUM(D64:J64) -> 0 | D64: ='B09'!D22 -> 0 | E64: ='B09'!E22 -> 0 | F64: ='B09'!F22 -> 0 | G64: ='B09'!G22 -> 0
B65: Trong đó: Đúng, có vi phạm | C65: =SUM(D65:J65) -> 0 | D65: ='B09'!D23 -> 0 | E65: ='B09'!E23 -> 0 | F65: ='B09'!F23 -> 0 | G65: ='B09'!G23 -> 0
B66: Phải thi hành kỷ luật | C66: =SUM(D66:J66) -> 0 | D66: ='B09'!D24 -> 0 | E66: ='B09'!E24 -> 0 | F66: ='B09'!F24 -> 0 | G66: ='B09'!G24 -> 0
B67: Đã thi hành kỷ luật | C67: =SUM(D67:J67) -> 0 | D67: ='B09'!D25 -> 0 | E67: ='B09'!E25 -> 0 | F67: ='B09'!F25 -> 0 | G67: ='B09'!G25 -> 0
A68: 5.2 | B68: Số giải quyết tố cáo đảng viên | C68: =SUM(C69:C72) -> 0 | D68: =SUM(D69:D72) -> 0 | E68: =SUM(E69:E72) -> 0 | F68: =SUM(F69:F72) -> 0 | G68: =SUM(G69:G72) -> 0 | H68: =SUM(H69:H72) -> 0 | I68: =SUM(I69:I72) -> 0 | J68: =SUM(J69:J72) -> 0
B69: Kết luận: Cho rút đơn, không xem xét giải quyết | C69: =SUM(D69:J69) -> 0 | D69: ='B10'!D28 -> 0 | E69: ='B10'!E28 -> 0 | F69: ='B10'!F28 -> 0 | G69: ='B10'!G28 -> 0 | I69: ='B10'!H28 -> 0 | J69: ='B10'!I28 -> 0
B70: Chưa có cơ sở kết luận | C70: =SUM(D70:J70) -> 0 | D70: ='B10'!D29 -> 0 | E70: ='B10'!E29 -> 0 | F70: ='B10'!F29 -> 0 | G70: ='B10'!G29 -> 0 | I70: ='B10'!H29 -> 0 | J70: ='B10'!I29 -> 0
B71: Tố sai | C71: =SUM(D71:J71) -> 0 | D71: ='B10'!D30 -> 0 | E71: ='B10'!E30 -> 0 | F71: ='B10'!F30 -> 0 | G71: ='B10'!G30 -> 0 | I71: ='B10'!H30 -> 0 | J71: ='B10'!I30 -> 0
B72: Tố đúng và đúng một phần | C72: =SUM(D72:J72) -> 0 | D72: ='B10'!D31 -> 0 | E72: ='B10'!E31 -> 0 | F72: ='B10'!F31 -> 0 | G72: ='B10'!G31 -> 0 | I72: ='B10'!H31 -> 0 | J72: ='B10'!I31 -> 0
B73: Trong đó: Đúng, có vi phạm | C73: =SUM(D73:J73) -> 0 | D73: ='B10'!D32 -> 0 | E73: ='B10'!E32 -> 0 | F73: ='B10'!F32 -> 0 | G73: ='B10'!G32 -> 0 | I73: ='B10'!H32 -> 0 | J73: ='B10'!I32 -> 0
B74: Phải thi hành kỷ luật | C74: =SUM(D74:J74) -> 0 | D74: ='B10'!D33 -> 0 | E74: ='B10'!E33 -> 0 | F74: ='B10'!F33 -> 0 | G74: ='B10'!G33 -> 0 | I74: ='B10'!H33 -> 0 | J74: ='B10'!I33 -> 0
B75: Đã thi hành kỷ luật | C75: =SUM(D75:J75) -> 0 | D75: ='B10'!D34 -> 0 | E75: ='B10'!E34 -> 0 | F75: ='B10'!F34 -> 0 | G75: ='B10'!G34 -> 0 | I75: ='B10'!H34 -> 0 | J75: ='B10'!I34 -> 0
A76: 6 | B76: Giải quyết khiếu nại kỷ luật đảng
A77: 6.1 | B77: Số giải quyết khiếu nại kỷ luật tổ chức đảng | C77: =SUM(C78:C80) -> 0 | D77: =SUM(D78:D80) -> 0 | E77: =SUM(E78:E80) -> 0 | F77: =SUM(F78:F80) -> 0 | G77: =SUM(G78:G80) -> 0 | H77: =SUM(H78:H80) -> 0 | I77: =SUM(I78:I80) -> 0 | J77: =SUM(J78:J80) -> 0
B78: Kết quả: Cho rút đơn, không xem xét giải quyết | C78: =SUM(D78:J78) -> 0 | D78: ='B11'!D20+'B11'!E20+'B11'!F20 -> 0 | E78: ='B11'!G20+'B11'!H20 -> 0 | F78: ='B11'!I20+'B11'!J20 -> 0 | G78: ='B11'!K20+'B11'!L20 -> 0
B79: Giữ nguyên mức kỷ luật | C79: =SUM(D79:J79) -> 0 | D79: ='B11'!D21+'B11'!E21+'B11'!F21 -> 0 | E79: ='B11'!G21+'B11'!H21 -> 0 | F79: ='B11'!I21+'B11'!J21 -> 0 | G79: ='B11'!K21+'B11'!L21 -> 0
B80: Thay đổi mức kỷ luật | C80: =SUM(D80:J80) -> 0 | D80: ='B11'!D22+'B11'!E22+'B11'!F22 -> 0 | E80: ='B11'!G22+'B11'!H22 -> 0 | F80: ='B11'!I22+'B11'!J22 -> 0 | G80: ='B11'!K22+'B11'!L22 -> 0
B81: Trong đó: Tăng mức kỷ luật | C81: =SUM(D81:J81) -> 0 | D81: ='B11'!D23+'B11'!E23+'B11'!F23 -> 0 | E81: ='B11'!G23+'B11'!H23 -> 0 | F81: ='B11'!I23+'B11'!J23 -> 0 | G81: ='B11'!K23+'B11'!L23 -> 0
B82: Giảm mức kỷ luật | C82: =SUM(D82:J82) -> 0 | D82: ='B11'!D24+'B11'!E24+'B11'!F24 -> 0 | E82: ='B11'!G24+'B11'!H24 -> 0 | F82: ='B11'!I24+'B11'!J24 -> 0 | G82: ='B11'!K24+'B11'!L24 -> 0
B83: Xóa kỷ luật | C83: =SUM(D83:J83) -> 0 | D83: ='B11'!D25+'B11'!E25+'B11'!F25 -> 0 | E83: ='B11'!G25+'B11'!H25 -> 0 | F83: ='B11'!I25+'B11'!J25 -> 0 | G83: ='B11'!K25+'B11'!L25 -> 0
A84: 6.2 | B84: Số giải quyết khiếu nại kỷ luật đảng viên | C84: =SUM(C85:C87) -> 0 | D84: =SUM(D85:D87) -> 0 | E84: =SUM(E85:E87) -> 0 | F84: =SUM(F85:F87) -> 0 | G84: =SUM(G85:G87) -> 0 | H84: =SUM(H85:H87) -> 0 | I84: =SUM(I85:I87) -> 0 | J84: =SUM(J85:J87) -> 0
B85: Kết quả: Cho rút đơn, không xem xét giải quyết | C85: =SUM(D85:J85) -> 0 | D85: ='B12'!D26 -> 0 | E85: ='B12'!E26+'B12'!F26 -> 0 | F85: ='B12'!G26+'B12'!H26 -> 0 | G85: ='B12'!I26+'B12'!J26 -> 0
B86: Giữ nguyên mức kỷ luật | C86: =SUM(D86:J86) -> 0 | D86: ='B12'!D27 -> 0 | E86: ='B12'!E27+'B12'!F27 -> 0 | F86: ='B12'!G27+'B12'!H27 -> 0 | G86: ='B12'!I27+'B12'!J27 -> 0
B87: Thay đổi mức kỷ luật | C87: =SUM(D87:J87) -> 0 | D87: ='B12'!D28 -> 0 | E87: ='B12'!E28+'B12'!F28 -> 0 | F87: ='B12'!G28+'B12'!H28 -> 0 | G87: ='B12'!I28+'B12'!J28 -> 0
B88: Trong đó: Tăng mức kỷ luật | C88: =SUM(D88:J88) -> 0 | D88: ='B12'!D29 -> 0 | E88: ='B12'!E29+'B12'!F29 -> 0 | F88: ='B12'!G29+'B12'!H29 -> 0 | G88: ='B12'!I29+'B12'!J29 -> 0
B89: Giảm mức kỷ luật | C89: =SUM(D89:J89) -> 0 | D89: ='B12'!D30 -> 0 | E89: ='B12'!E30+'B12'!F30 -> 0 | F89: ='B12'!G30+'B12'!H30 -> 0 | G89: ='B12'!I30+'B12'!J30 -> 0
B90: Xóa kỷ luật | C90: =SUM(D90:J90) -> 0 | D90: ='B12'!D31 -> 0 | E90: ='B12'!E31+'B12'!F31 -> 0 | F90: ='B12'!G31+'B12'!H31 -> 0 | G90: ='B12'!I31+'B12'!J31 -> 0
A91: II | B91: KIỂM TRA, GIÁM SÁT CỦA UBKT CÁC CẤP
A92: 1 | B92: Kiểm tra khi có dấu hiệu vi phạm
A93: 1.1 | B93: Số tổ chức đảng được kiểm tra | C93: =SUM(D93:J93) -> 0 | D93: ='B13'!D7 -> 0 | E93: ='B13'!E7 -> 0 | F93: ='B13'!F7 -> 0 | G93: ='B13'!G7 -> 0
B94: Kết luận: Số có vi phạm | C94: =SUM(D94:J94) -> 0 | D94: ='B13'!D18 -> 0 | E94: ='B13'!E18 -> 0 | F94: ='B13'!F18 -> 0 | G94: ='B13'!G18 -> 0
B95: Phải thi hành kỷ luật | C95: =SUM(D95:J95) -> 0 | D95: ='B13'!D19 -> 0 | E95: ='B13'!E19 -> 0 | F95: ='B13'!F19 -> 0 | G95: ='B13'!G19 -> 0
B96: Đã thi hành kỷ luật | C96: =SUM(D96:J96) -> 0 | D96: ='B13'!D20 -> 0 | E96: ='B13'!E20 -> 0 | F96: ='B13'!F20 -> 0 | G96: ='B13'!G20 -> 0
B97: Đề nghị cấp có thẩm quyền thi hành kỷ luật | C97: =SUM(D97:J97) -> 0 | D97: ='B13'!D21 -> 0 | E97: ='B13'!E21 -> 0 | F97: ='B13'!F21 -> 0 | G97: ='B13'!G21 -> 0
A98: 1.2 | B98: Số đảng viên được kiểm tra | C98: =SUM(D98:J98) -> 0 | D98: ='B14'!D7 -> 0 | E98: ='B14'!E7 -> 0 | F98: ='B14'!F7 -> 0 | G98: ='B14'!G7 -> 0
B99: Là cấp ủy viên các cấp | C99: =SUM(D99:J99) -> 0 | D99: ='B14'!D12 -> 0 | E99: ='B14'!E12 -> 0 | F99: ='B14'!F12 -> 0 | G99: ='B14'!G12 -> 0
B100: Kết luận: Số có vi phạm | C100: =SUM(D100:J100) -> 0 | D100: ='B14'!D28 -> 0 | E100: ='B14'!E28 -> 0 | F100: ='B14'!F28 -> 0 | G100: ='B14'!G28 -> 0
...

Sheet B01
A1: KIỂM TRA TỔ CHỨC ĐẢNG CẤP DƯỚI THEO ĐIỀU 30 ĐIỀU LỆ ĐẢNG | Z1: Biểu 01
X2: (ĐVT: Tổ chức đảng)
A3: TT | B3: Tổ chức đảng được kiểm tra | C3: Tổng số tổ chức đảng được kiểm tra | D3: Cấp kiểm tra | L3: Nội dung kiểm tra | X3: Kết luận
D4: BCH Trung ương, BCT, BBT | E4: Các CQ tham mưu của Trung ương | F4: Tỉnh ủy, BTV Tỉnh uỷ và tương đương | G4: Các CQ tham mưu của cấp ủy tỉnh và tương đương | H4: Đảng ủy, BTV ĐU cấp trên trực tiếp cơ sở và tương đương | I4: Các CQ tham mưu của cấp ủy cấp trên trực tiếp cơ sở và tương đương | J4: Đảng ủy cơ sở, BTV Đảng ủy cơ sở | K4: Đảng uỷ bộ phận | L4: Việc chấp hành Cương lĩnh chính trị, Điều lệ Đảng, chủ trương, nghị quyết, chỉ thị, quy định, quyết định, quy chế, kết luận, hướng dẫn của Đảng | M4: Việc chấp hành chính sách, pháp luật của Nhà nước | N4: Việc chấp hành các nguyên tắc tổ chức và hoạt động của Đảng, giữ gìn đoàn kết nội bộ, quy chế làm việc, chế độ công tác, thực hiện dân chủ trong Đảng | O4: Việc lãnh đạo, chỉ đạo thực hành tiết kiệm; phòng, chống tham nhũng, lãng phí, tiêu cực | P4: Việc quản lý, rèn luyện phẩm chất, đạo đức, lối sống của đảng viên | Q4: Việc lãnh đạo, chỉ đạo và tổ chức thực hiện cải cách hành chính, cải cách pháp luật và tư pháp | R4: Việc lãnh đạo, chỉ đạo các cơ quan bảo vệ pháp luật trong công tác điều tra, truy tố, xét xử, thi hành án | S4: Công tác cán bộ | T4: Giải quyết khiếu nại, tố cáo | U4: Việc thực hiện các thông báo kết luận kiểm tra, giám sát, thanh tra, kiểm toán | V4: Việc lãnh đạo, chỉ đạo và tổ chức thực hiện kê khai, công khai tài sản, thu nhập | W4: Khác | X4: Thực hiện tốt | Y4: Thực hiện chưa tốt | Z4: Trong đó
Z5: Có vi phạm, khuyết điểm chưa đến mức phải kỷ luật | AA5: Phải thi hành kỷ luật | AB5: Đã thi hành kỷ luật
A6: 1 | B6: 2 | C6: 3 | D6: 4 | E6: 5 | F6: 6 | G6: 7 | H6: 8 | I6: 9 | J6: 10 | K6: 11 | L6: 12 | M6: 13 | N6: 14 | O6: 15 | P6: 16 | Q6: 17 | R6: 18 | S6: 19 | T6: 20 | U6: 21 | V6: 22 | W6: 23 | X6: 24 | Y6: 25 | Z6: 26 | AA6: 27 | AB6: 28
A7: I | B7: Tổ chức đảng được kiểm tra | C7: =SUM(C8:C16) -> 0 | D7: =SUM(D8:D16) -> 0 | E7: =SUM(E8:E16) -> 0 | F7: =SUM(F8:F16) -> 0 | G7: =SUM(G8:G16) -> 0 | H7: =SUM(H8:H16) -> 0 | I7: =SUM(I8:I16) -> 0 | J7: =SUM(J8:J16) -> 0 | ... AB7: =SUM(AB8:AB16) -> 0
B8: Các CQ tham mưu của Trung ương | C8: =SUM(D8:K8) -> 0
B9: Tỉnh uỷ, BTV tỉnh uỷ và tương đương | C9: =SUM(D9:K9) -> 0
B10: Các CQ tham mưu của cấp ủy tỉnh và tương đương | C10: =SUM(D10:K10) -> 0
B11: Đảng ủy, BTV ĐU cấp trên trực tiếp cơ sở và tương đương | C11: =SUM(D11:K11) -> 0
B12: Các CQ tham mưu của cấp ủy cấp trên trực tiếp cơ sở và tương đương | C12: =SUM(D12:K12) -> 0
B13: Đảng ủy cơ sở, BTV Đảng ủy cơ sở | C13: =SUM(D13:K13) -> 0
B14: Đảng ủy bộ phận | C14: =SUM(D14:K14) -> 0
B15: Chi bộ, Chi ủy | C15: =SUM(D15:K15) -> 0
B16: Khác (ban chỉ đạo, tiểu ban, hội đồng...) | C16: =SUM(D16:K16) -> 0
A17: II | B17: Kết luận | C17: =C18+C19 -> 0 | D17: =D18+D19 -> 0 | E17: =E18+E19 -> 0 | F17: =F18+F19 -> 0 | G17: =G18+G19 -> 0 | H17: =H18+H19 -> 0 | I17: =I18+I19 -> 0 | J17: =J18+J19 -> 0 | ... W17: =W18+W19 -> 0
B18: Thực hiện tốt | C18: =SUM(D18:K18) -> 0
B19: Thực hiện chưa tốt | C19: =SUM(D19:K19) -> 0
B20: Có vi phạm, khuyết điểm chưa đến mức phải kỷ luật | C20: =SUM(D20:K20) -> 0
B21: Phải thi hành kỷ luật | C21: =SUM(D21:K21) -> 0
B22: Đã thi hành kỷ luật | C22: =SUM(D22:K22) -> 0

Sheet B02
A1: KIỂM TRA ĐẢNG VIÊN THEO ĐIỀU 30 ĐIỀU LỆ ĐẢNG | Z1: Biểu 02
W2: (ĐVT: Đảng viên)
A3: TT | B3: Đảng viên được kiểm tra | C3: Tổng số đảng viên được kiểm tra | D3: Cấp kiểm tra | N3: Nội dung kiểm tra | W3: Kết luận
D4: BCHTW, BCT, Ban Bí thư | E4: Các CQ tham mưu của TW | F4: Tỉnh ủy, BTV tỉnh uỷ và tương đương | G4: Các CQ tham mưu của cấp ủy tỉnh và tương đương | H4: Đảng ủy, BTV ĐU cấp trên trực tiếp cơ sở và tương đương | I4: Các CQ tham mưu của cấp ủy cấp trên trực tiếp cơ sở và tương đương | J4: Đảng ủy cơ sở, BTV Đảng ủy cơ sở | K4: Đảng ủy bộ phận | L4: Chi bộ cơ sở | M4: Chi bộ trực thuộc | N4: Việc thực hiện những điều đảng viên không được làm | O4: Tiêu chuẩn đảng viên, tiêu chuẩn cấp ủy viên | P4: Việc thực hiện nhiệm vụ đảng viên, nhiệm vụ cấp ủy viên | Q4: Việc chấp hành nghị quyết, chỉ thị, quy định, kết luận của Đảng; chính sách, pháp luật của Nhà nước | R4: Việc chấp hành quy chế làm việc, nguyên tắc tập trung dân chủ, chế độ công tác | S4: Tư tưởng chính trị, đạo đức, lối sống, trách nhiệm nêu gương | T4: Việc thực hiện các thông báo kết luận kiểm tra, giám sát, thanh tra, kiểm toán | U4: Kê khai, công khai tài sản, thu nhập | V4: Khác | W4: Thực hiện tốt | X4: Thực hiện chưa tốt | Y4: Trong đó
Y5: Có vi phạm, khuyết điểm chưa đến mức phải kỷ luật | Z5: Phải thi hành kỷ luật | AA5: Đã thi hành kỷ luật
A6: 1 | B6: 2 | C6: 3 | D6: 4 | E6: 5 | F6: 6 | G6: 7 | H6: 8 | I6: 9 | J6: 10 | K6: 11 | L6: 12 | M6: 13 | N6: 14 | O6: 15 | P6: 16 | Q6: 17 | R6: 18 | S6: 19 | T6: 20 | U6: 21 | V6: 22 | W6: 23 | X6: 24 | Y6: 25 | Z6: 26 | AA6: 27
A7: I | B7: Cấp quản lý đảng viên | C7: =SUM(C8:C11) -> 0 | D7: =SUM(D8:D11) -> 0 | E7: =SUM(E8:E11) -> 0 | F7: =SUM(F8:F11) -> 0 | G7: =SUM(G8:G11) -> 0 | H7: =SUM(H8:H11) -> 0 | I7: =SUM(I8:I11) -> 0 | J7: =SUM(J8:J11) -> 0 | ... AA7: =SUM(AA8:AA11) -> 0
B8: Trung ương | C8: =SUM(D8:M8) -> 0
B9: Cấp tỉnh và tương đương | C9: =SUM(D9:M9) -> 0
B10: Cấp trên trực tiếp cơ sở và tương đương | C10: =SUM(D10:M10) -> 0
B11: Cấp cơ sở | C11: =SUM(D11:M11) -> 0
A12: II | B12: Là cấp uỷ viên các cấp | C12: =SUM(C13:C18) -> 0 | D12: =SUM(D13:D18) -> 0 | E12: =SUM(E13:E18) -> 0 | F12: =SUM(F13:F18) -> 0 | G12: =SUM(G13:G18) -> 0 | H12: =SUM(H13:H18) -> 0 | I12: =SUM(I13:I18) -> 0 | J12: =SUM(J13:J18) -> 0 | ... AA12: =SUM(AA13:AA18) -> 0
B13: Uỷ viên Trung ương | C13: =SUM(D13:M13) -> 0
B14: Tỉnh ủy viên và tương đương | C14: =SUM(D14:M14) -> 0
B15: Đảng ủy viên ĐU cấp trên trực tiếp cơ sở và tương đương | C15: =SUM(D15:M15) -> 0
B16: Đảng ủy viên đảng ủy cơ sở | C16: =SUM(D16:M16) -> 0
B17: Đảng ủy viên đảng ủy bộ phận | C17: =SUM(D17:M17) -> 0
B18: Chi ủy viên | C18: =SUM(D18:M18) -> 0
A19: III | B19: Đảng viên ở các lĩnh vực | C19: =SUM(C20:C26) -> 0 | D19: =SUM(D20:D26) -> 0 | E19: =SUM(E20:E26) -> 0 | F19: =SUM(F20:F26) -> 0 | G19: =SUM(G20:G26) -> 0 | H19: =SUM(H20:H26) -> 0 | I19: =SUM(I20:I26) -> 0 | J19: =SUM(J20:J26) -> 0 | ... AA19: =SUM(AA20:AA26) -> 0
B20: Đảng | C20: =SUM(D20:M20) -> 0
B21: Hành chính, Nhà nước | C21: =SUM(D21:M21) -> 0
B22: Đoàn thể | C22: =SUM(D22:M22) -> 0
B23: Lực lượng vũ trang | C23: =SUM(D23:M23) -> 0
B24: Sự nghiệp công lập | C24: =SUM(D24:M24) -> 0
B25: Sản xuất kinh doanh, dịch vụ | C25: =SUM(D25:M25) -> 0
B26: Các lĩnh vực khác | C26: =SUM(D26:M26) -> 0
A27: IV | B27: Kết luận | C27: =C28+C29 -> 0 | D27: =D28+D29 -> 0 | E27: =E28+E29 -> 0 | F27: =F28+F29 -> 0 | G27: =G28+G29 -> 0 | H27: =H28+H29 -> 0 | I27: =I28+I29 -> 0 | J27: =J28+J29 -> 0 | ... V27: =V28+V29 -> 0
B28: Thực hiện tốt | C28: =SUM(D28:M28) -> 0
B29: Thực hiện chưa tốt | C29: =SUM(D29:M29) -> 0
B30: Có vi phạm, khuyết điểm chưa đến mức phải kỷ luật | C30: =SUM(D30:M30) -> 0
B31: Phải thi hành kỷ luật | C31: =SUM(D31:M31) -> 0
B32: Đã thi hành kỷ luật | C32: =SUM(D32:M32) -> 0

Sheet B03
A1: KIỂM TRA TỔ CHỨC ĐẢNG KHI CÓ DẤU HIỆU VI PHẠM CỦA CẤP ỦY, BAN THƯỜNG VỤ CẤP ỦY | T1: Biểu 03
A3: TT | B3: Tổ chức đảng được kiểm tra | C3: Tổng số tổ chức đảng được kiểm tra | D3: Cấp kiểm tra | H3: Nội dung kiểm tra | R3: Kết luận
D4: BCHTW, Bộ Chính trị, Ban Bí thư | E4: Tỉnh ủy, BTV tỉnh ủy và tương đương | F4: Đảng ủy, BTV ĐU cấp trên trực tiếp cơ sở và tương đương | G4: Đảng ủy cơ sở, BTV đảng ủy cơ sở | H4: Việc chấp hành Cương lĩnh chính trị, Điều lệ Đảng, chủ trương, nghị quyết, chỉ thị, quy định, quyết định, quy chế, kết luận, hướng dẫn của Đảng | I4: Việc chấp hành chính sách, pháp luật của Nhà nước | J4: Việc chấp hành các nguyên tắc tổ chức và hoạt động của Đảng, giữ gìn đoàn kết nội bộ, quy chế làm việc, chế độ công tác, thực hiện dân chủ trong Đảng | K4: Việc lãnh đạo, chỉ đạo thực hành tiết kiệm; phòng, chống tham nhũng, lãng phí, tiêu cực | L4: Việc quản lý, rèn luyện phẩm chất, đạo đức, lối sống của đảng viên | M4: Việc lãnh đạo, chỉ đạo và tổ chức thực hiện cải cách hành chính, cải cách tư pháp | N4: Việc lãnh đạo, chỉ đạo các cơ quan bảo vệ pháp luật trong công tác điều tra, truy tố, xét xử, thi hành án | O4: Công tác cán bộ | P4: Giải quyết khiếu nại, tố cáo | Q4: Khác | R4: Số có vi phạm | S4: Trong đó
S5: Phải thi hành kỷ luật | T5: Đã thi hành kỷ luật | U5: Đề nghị cấp có thẩm quyền thi hành kỷ luật
A6: 1 | B6: 2 | C6: 3 | D6: 4 | E6: 5 | F6: 6 | G6: 7 | H6: 8 | I6: 9 | J6: 10 | K6: 11 | L6: 12 | M6: 13 | N6: 14 | O6: 15 | P6: 16 | Q6: 17 | R6: 18 | S6: 19 | T6: 20 | U6: 21
A7: I | B7: Tổ chức đảng được kiểm tra | C7: =SUM(C8:C16) -> 0 | D7: =SUM(D8:D16) -> 0 | E7: =SUM(E8:E16) -> 0 | F7: =SUM(F8:F16) -> 0 | G7: =SUM(G8:G16) -> 0 | H7: =SUM(H8:H16) -> 0 | I7: =SUM(I8:I16) -> 0 | J7: =SUM(J8:J16) -> 0 | ... U7: =SUM(U8:U16) -> 0
B8: Các CQ tham mưu của Trung ương | C8: =SUM(D8:G8) -> 0
B9: Tỉnh ủy, BTV, Thường trực tỉnh ủy và tương đương | C9: =SUM(D9:G9) -> 0
B10: Các CQ tham mưu của cấp ủy tỉnh và tương đương | C10: =SUM(D10:G10) -> 0
B11: Đảng ủy, BTV ĐU cấp trên trực tiếp cơ sở và tương đương | C11: =SUM(D11:G11) -> 0
B12: Các CQ tham mưu của cấp ủy cấp trên trực tiếp cơ sở và tương đương | C12: =SUM(D12:G12) -> 0
B13: Đảng ủy cơ sở, BTV đảng ủy cơ sở | C13: =SUM(D13:G13) -> 0
B14: Đảng ủy bộ phận | C14: =SUM(D14:G14) -> 0
B15: Chi bộ, Chi ủy | C15: =SUM(D15:G15) -> 0
B16: Khác (ban chỉ đạo, tiểu ban, hội đồng, tổ đảng,...) | C16: =SUM(D16:G16) -> 0
A17: II | B17: Kết luận
B18: Số có vi phạm | C18: =SUM(D18:G18) -> 0
B19: Phải thi hành kỷ luật | C19: =SUM(D19:G19) -> 0
B20: Đã thi hành kỷ luật | C20: =SUM(D20:G20) -> 0
B21: Đề nghị cấp có thẩm quyền thi hành kỷ luật | C21: =SUM(D21:G21) -> 0

Sheet B04
A1: KIỂM TRA ĐẢNG VIÊN KHI CÓ DẤU HIỆU VI PHẠM CỦA CẤP ỦY, BAN THƯỜNG VỤ CẤP ỦY VÀ CHI BỘ | U1: Biểu 04
A3: TT | B3: Đảng viên được kiểm tra | C3: Tổng số đảng viên được kiểm tra | D3: Cấp kiểm tra | K3: Nội dung kiểm tra | T3: Kết luận
D4: BCHTW, Bộ Chính trị, Ban Bí thư | E4: Tỉnh ủy, BTV tỉnh ủy và tương đương | F4: Đảng ủy, BTV ĐU cấp trên trực tiếp cơ sở và tương đương | G4: Đảng ủy cơ sở, BTV đảng ủy cơ sở | H4: Đảng uy bộ phận | I4: Chi bộ cơ sở | J4: Chi bộ trực thuộc | K4: Việc thực hiện những điều đảng viên không được làm | L4: Tiêu chuẩn đảng viên, tiêu chuẩn cấp ủy viên | M4: Việc thực hiện nhiệm vụ đảng viên, cấp ủy viên | N4: Việc chấp hành nghị quyết, chỉ thị, quy định, kết luận của Đảng; chính sách, pháp luật của Nhà nước | O4: Việc chấp hành quy chế làm việc, nguyên tắc tập trung dân chủ, chế độ công tác | P4: Tư tưởng chính trị, đạo đức, lối sống, trách nhiệm nêu gương | Q4: Tham nhũng, tiêu cực, lãng phí | R4: Kê khai, công khai tài sản, thu nhập | S4: Khác | T4: Số có vi phạm | U4: Trong đó
O5: Việc chấp hành nghị quyết, chỉ thị, quy định của Đảng, pháp luật của Nhà nước | U5: Phải thi hành kỷ luật | V5: Đã thi hành kỷ luật | W5: Đề nghị cấp có thẩm quyền thi hành kỷ luật
A6: 1 | B6: 2 | C6: 3 | D6: 4 | E6: 5 | F6: 6 | G6: 7 | H6: 8 | I6: 9 | J6: 10 | K6: 11 | L6: 12 | M6: 13 | N6: 14 | O6: 15 | P6: 16 | Q6: 17 | R6: 18 | S6: 19 | T6: 20 | U6: 21 | V6: 22 | W6: 23
A7: I | B7: Cấp quản lý đảng viên | C7: =SUM(C8:C11) -> 0 | D7: =SUM(D8:D11) -> 0 | E7: =SUM(E8:E11) -> 0 | F7: =SUM(F8:F11) -> 0 | G7: =SUM(G8:G11) -> 0 | H7: =SUM(H8:H11) -> 0 | I7: =SUM(I8:I11) -> 0 | J7: =SUM(J8:J11) -> 0 | ... W7: =SUM(W8:W11) -> 0
B8: Trung ương | C8: =SUM(D8:J8) -> 0
B9: Cấp tỉnh và tương đương | C9: =SUM(D9:J9) -> 0
B10: Cấp trên trực tiếp cơ sở và tương đương | C10: =SUM(D10:J10) -> 0
B11: Cấp cơ sở | C11: =SUM(D11:J11) -> 0
A12: II | B12: Là cấp uỷ viên các cấp | C12: =SUM(C13:C18) -> 0 | D12: =SUM(D13:D18) -> 0 | E12: =SUM(E13:E18) -> 0 | F12: =SUM(F13:F18) -> 0 | G12: =SUM(G13:G18) -> 0 | H12: =SUM(H13:H18) -> 0 | I12: =SUM(I13:I18) -> 0 | J12: =SUM(J13:J18) -> 0 | ... W12: =SUM(W13:W18) -> 0
B13: Uỷ viên Trung ương | C13: =SUM(D13:J13) -> 0
B14: Tỉnh uỷ viên và tương đương | C14: =SUM(D14:J14) -> 0
B15: Đảng ủy viên ĐU cấp trên trực tiếp cơ sở và tương đương | C15: =SUM(D15:J15) -> 0
B16: Đảng uỷ viên đảng ủy cơ sở | C16: =SUM(D16:J16) -> 0
B17: Đảng ủy viên đảng ủy bộ phận | C17: =SUM(D17:J17) -> 0
B18: Chi uỷ viên | C18: =SUM(D18:J18) -> 0
A19: III | B19: Đảng viên ở các lĩnh vực | C19: =SUM(C20:C26) -> 0 | D19: =SUM(D20:D26) -> 0 | E19: =SUM(E20:E26) -> 0 | F19: =SUM(F20:F26) -> 0 | G19: =SUM(G20:G26) -> 0 | H19: =SUM(H20:H26) -> 0 | I19: =SUM(I20:I26) -> 0 | J19: =SUM(J20:J26) -> 0 | ... W19: =SUM(W20:W26) -> 0
B20: Đảng | C20: =SUM(D20:J20) -> 0
B21: Hành chính, Nhà nước | C21: =SUM(D21:J21) -> 0
B22: Đoàn thể | C22: =SUM(D22:J22) -> 0
B23: Lực lượng vũ trang | C23: =SUM(D23:J23) -> 0
B24: Sự nghiệp công lập | C24: =SUM(D24:J24) -> 0
B25: Sản xuất kinh doanh, dịch vụ | C25: =SUM(D25:J25) -> 0
B26: Lĩnh vực khác | C26: =SUM(D26:J26) -> 0
A27: IV | B27: Kết luận
B28: Số có vi phạm | C28: =SUM(D28:J28) -> 0
B29: Phải thi hành kỷ luật | C29: =SUM(D29:J29) -> 0
B30: Đã thi hành kỷ luật | C30: =SUM(D30:J30) -> 0
B31: Đề nghị cấp có thẩm quyền thi hành kỷ luật | C31: =SUM(D31:J31) -> 0

Sheet B05
A1: GIÁM SÁT TỔ CHỨC ĐẢNG THEO ĐIỀU 30 ĐIỀU LỆ ĐẢNG | Z1: Biểu 05
A2: (Giám sát theo chuyên đề) | W2: (ĐVT: Tổ chức đảng)
A3: TT | B3: Tổ chức đảng được giám sát | C3: Tổng số tổ chức đảng được giám sát | D3: Cấp giám sát | L3: Nội dung | Y3: Kết quả
D4: BCH Trung ương, Bộ Chính trị, BBT | E4: Các CQ tham mưu của Trung ương | F4: Tỉnh uỷ, BTV tỉnh uỷ và tương đương | G4: Các CQ tham mưu của cấp ủy tỉnh và tương đương | H4: Đảng ủy, BTV ĐU cấp trên trực tiếp cơ sở và tương đương | I4: Các CQ tham mưu của cấp ủy cấp trên trực tiếp cơ sở và tương đương | J4: Đảng ủy cơ sở, BTV Đảng ủy cơ sở | K4: Đảng ủy bộ phận | L4: Việc chấp hành Cương lĩnh chính trị, Điều lệ Đảng, chủ trương, nghị quyết, chỉ thị, quy định, quyết định, quy chế, kết luận, hướng dẫn của Đảng | M4: Việc chấp hành chính sách, pháp luật của Nhà nước | N4: Việc chấp hành các nguyên tắc tổ chức và hoạt động của Đảng, giữ gìn đoàn kết nội bộ, quy chế làm việc, chế độ công tác, thực hiện dân chủ trong Đảng | O4: Việc lãnh đạo, chỉ đạo thực hành tiết kiệm; phòng, chống tham nhũng, lãng phí, tiêu cực | P4: Việc quản lý, rèn luyện phẩm chất, đạo đức, lối sống của đảng viên | Q4: Việc lãnh đạo, chỉ đạo và tổ chức thực hiện cải cách hành chính, cải cách tư pháp | R4: Việc lãnh đạo, chỉ đạo các cơ quan bảo vệ pháp luật trong công tác điều tra, truy tố, xét xử, thi hành án | S4: Việc thực hiện chức năng, nhiệm vụ, quyền hạn thuộc lĩnh vực phụ trách và những nội dung do cấp ủy giao | T4: Việc thực hiện các thông báo kết luận kiểm tra, giám sát, thanh tra, kiểm toán | U4: Việc lãnh đạo, chỉ đạo và tổ chức thực hiện kê khai, công khai tài sản, thu nhập | V4: Công tác cán bộ | W4: Giải quyết khiếu nại, tố cáo | X4: Khác | Y4: Số tổ chức đảng thực hiện tốt | Z4: Số tổ chức đảng có hạn chế, khuyết điểm | AA4: Số tổ chức đảng chuyển kiểm tra khi có dấu hiệu vi phạm
A5: 1 | B5: 2 | C5: 3 | D5: 4 | E5: 5 | F5: 6 | G5: 7 | H5: 8 | I5: 9 | J5: 10 | K5: 11 | L5: 12 | M5: 13 | N5: 14 | O5: 15 | P5: 16 | Q5: 17 | R5: 18 | S5: 19 | T5: 20 | U5: 21 | V5: 22 | W5: 23 | X5: 24 | Y5: 25 | Z5: 26 | AA5: 27
A6: I | B6: Cộng | C6: =SUM(C7:C15) -> 0 | D6: =SUM(D7:D15) -> 0 | E6: =SUM(E7:E15) -> 0 | F6: =SUM(F7:F15) -> 0 | G6: =SUM(G7:G15) -> 0 | H6: =SUM(H7:H15) -> 0 | I6: =SUM(I7:I15) -> 0 | J6: =SUM(J7:J15) -> 0 | ... AA6: =SUM(AA7:AA15) -> 0
B7: Các CQ tham mưu của Trung ương | C7: =SUM(D7:K7) -> 0
B8: Tỉnh ủy, BTV tỉnh ủy và tương đương | C8: =SUM(D8:K8) -> 0
B9: Các CQ tham mưu của cấp ủy tỉnh và tương đương | C9: =SUM(D9:K9) -> 0
B10: Đảng ủy, BTV ĐU cấp trên trực tiếp cơ sở và tương đương | C10: =SUM(D10:K10) -> 0
B11: Các CQ tham mưu của cấp ủy cấp trên trực tiếp cơ sở và tương đương | C11: =SUM(D11:K11) -> 0
B12: Đảng ủy cơ sở, BTV Đảng ủy cơ sở | C12: =SUM(D12:K12) -> 0
B13: Đảng ủy bộ phận | C13: =SUM(D13:K13) -> 0
B14: Chi bộ, Chi ủy | C14: =SUM(D14:K14) -> 0
B15: Khác (Ban Chỉ đạo, tiểu ban, hội đồng, tổ đảng...) | C15: =SUM(D15:K15) -> 0
A16: II | B16: Kết quả | C16: =SUM(C17:C18) -> 0 | D16: =SUM(D17:D18) -> 0 | E16: =SUM(E17:E18) -> 0 | F16: =SUM(F17:F18) -> 0 | G16: =SUM(G17:G18) -> 0 | H16: =SUM(H17:H18) -> 0 | I16: =SUM(I17:I18) -> 0 | J16: =SUM(J17:J18) -> 0 | K16: =SUM(K17:K18) -> 0
B17: Số tổ chức đảng thực hiện tốt | C17: =SUM(D17:K17) -> 0
B18: Số tổ chức đảng có hạn chế, khuyết điểm | C18: =SUM(D18:K18) -> 0
B19: Số tổ chức đảng chuyển kiểm tra khi có DHVP | C19: =SUM(D19:K19) -> 0

Sheet B06
A1: GIÁM SÁT ĐẢNG VIÊN THEO ĐIỀU 30 ĐIỀU LỆ ĐẢNG | X1: Biểu 06
A2: (Giám sát theo chuyên đề) | X2: (ĐVT: đảng viên)
A3: TT | B3: Đảng viên được giám sát | C3: Tổng số đảng viên được giám sát | D3: Cấp giám sát | N3: Nội dung | W3: Kết quả
D4: BCH TW, Bộ Chính trị, Ban Bí thư | E4: Các CQ tham mưu của Trung ương | F4: Tỉnh ủy, BTV tỉnh uỷ và tương đương | G4: Các CQ tham mưu của cấp ủy tỉnh và tương đương | H4: Đảng ủy, BTV ĐU cấp trên trực tiếp cơ sở và tương đương | I4: Các CQ tham mưu của cấp ủy cấp trên trực tiếp cơ sở và tương đương | J4: Đảng ủy cơ sở, BTV đảng ủy cơ sở | K4: Đảng ủy bộ phận | L4: Chi bộ cơ sở | M4: Chi bộ trực thuộc | N4: Việc thực hiện những điều đảng viên không được làm | O4: Tiêu chuẩn đảng viên, tiêu chuẩn cấp ủy viên | P4: Việc thực hiện nhiệm vụ đảng viên, nhiệm vụ cấp ủy viên | Q4: Việc chấp hành nghị quyết, chỉ thị, quy định, kết luận của Đảng; chính sách, pháp luật của Nhà nước | R4: Việc chấp hành quy chế làm việc, nguyên tắc tập trung dân chủ, chế độ công tác | S4: Tư tưởng chính trị, giữ gìn đạo đức, lối sống, trách nhiệm nêu gương | T4: Việc thực hiện các thông báo kết luận kiểm tra, giám sát, thanh tra, kiểm toán | U4: Kê khai tài sản, thu nhập | V4: Khác | W4: Số đảng viên thực hiện tốt | X4: Số đảng viên có hạn chế, khuyết điểm | Y4: Số đảng viên chuyển kiểm tra khi có dấu hiệu vi phạm
A5: 1 | B5: 2 | C5: 3 | D5: 4 | E5: 5 | F5: 6 | G5: 7 | H5: 8 | I5: 9 | J5: 10 | K5: 11 | L5: 12 | M5: 13 | N5: 14 | O5: 15 | P5: 16 | Q5: 17 | R5: 18 | S5: 19 | T5: 20 | U5: 21 | V5: 22 | W5: 23 | X5: 24 | Y5: 25
A6: I | B6: Cấp quản lý đảng viên | C6: =SUM(C7:C10) -> 0 | D6: =SUM(D7:D10) -> 0 | E6: =SUM(E7:E10) -> 0 | F6: =SUM(F7:F10) -> 0 | G6: =SUM(G7:G10) -> 0 | H6: =SUM(H7:H10) -> 0 | I6: =SUM(I7:I10) -> 0 | J6: =SUM(J7:J10) -> 0 | ... Y6: =SUM(Y7:Y10) -> 0
B7: Trung ương | C7: =SUM(D7:M7) -> 0
B8: Cấp tỉnh và tương đương | C8: =SUM(D8:M8) -> 0
B9: Cấp trên trực tiếp cơ sở và tương đương | C9: =SUM(D9:M9) -> 0
B10: Cấp cơ sở | C10: =SUM(D10:M10) -> 0
A11: II | B11: Cấp ủy viên các cấp | C11: =C12+C13+C16+C19+C20+C21 -> 0 | D11: =D12+D13+D16+D19+D20+D21 -> 0 | E11: =E12+E13+E16+E19+E20+E21 -> 0 | F11: =F12+F13+F16+F19+F20+F21 -> 0 | G11: =G12+G13+G16+G19+G20+G21 -> 0 | H11: =H12+H13+H16+H19+H20+H21 -> 0 | I11: =I12+I13+I16+I19+I20+I21 -> 0 | J11: =J12+J13+J16+J19+J20+J21 -> 0 | ... Y11: =Y12+Y13+Y16+Y19+Y20+Y21 -> 0
B12: Uỷ viên Trung ương | C12: =SUM(D12:M12) -> 0
B13: Tỉnh ủy viên và tương đương | C13: =SUM(D13:M13) -> 0
B14: Trong đó: Bí thư | C14: =SUM(D14:M14) -> 0
B15: Phó Bí thư | C15: =SUM(D15:M15) -> 0
B16: Đảng ủy viên ĐU cấp trên trực tiếp cơ sở và tương đương | C16: =SUM(D16:M16) -> 0
B17: Trong đó: Bí thư | C17: =SUM(D17:M17) -> 0
B18: Phó Bí thư | C18: =SUM(D18:M18) -> 0
B19: Đảng uỷ viên đảng ủy cơ sở | C19: =SUM(D19:M19) -> 0
B20: Đảng ủy viên đảng ủy bộ phận | C20: =SUM(D20:M20) -> 0
B21: Chi uỷ viên | C21: =SUM(D21:M21) -> 0
A22: III | B22: Đảng viên ở các lĩnh vực | C22: =SUM(C23:C29) -> 0 | D22: =SUM(D23:D29) -> 0 | E22: =SUM(E23:E29) -> 0 | F22: =SUM(F23:F29) -> 0 | G22: =SUM(G23:G29) -> 0 | H22: =SUM(H23:H29) -> 0 | I22: =SUM(I23:I29) -> 0 | J22: =SUM(J23:J29) -> 0 | ... Y22: =SUM(Y23:Y29) -> 0
B23: Đảng | C23: =SUM(D23:M23) -> 0
B24: Hành chính, Nhà nước | C24: =SUM(D24:M24) -> 0
B25: Đoàn thể | C25: =SUM(D25:M25) -> 0
B26: Lực lượng vũ trang | C26: =SUM(D26:M26) -> 0
B27: Sự nghiệp công lập | C27: =SUM(D27:M27) -> 0
B28: Sản xuất kinh doanh, dịch vụ | C28: =SUM(D28:M28) -> 0
B29: Các lĩnh vực khác | C29: =SUM(D29:M29) -> 0
A30: IV | B30: Kết quả | C30: =SUM(C31:C32) -> 0 | D30: =SUM(D31:D32) -> 0 | E30: =SUM(E31:E32) -> 0 | F30: =SUM(F31:F32) -> 0 | G30: =SUM(G31:G32) -> 0 | H30: =SUM(H31:H32) -> 0 | I30: =SUM(I31:I32) -> 0 | J30: =SUM(J31:J32) -> 0 | ... M30: =SUM(M31:M32) -> 0
B31: Số đảng viên thực hiện tốt | C31: =SUM(D31:M31) -> 0
B32: Số đảng viên có hạn chế, khuyết điểm | C32: =SUM(D32:M32) -> 0
B33: Số đảng viên chuyển kiểm tra DHVP | C33: =SUM(D33:M33) -> 0

Sheet B07
A1: THI HÀNH KỶ LUẬT TỔ CHỨC ĐẢNG CỦA CẤP ỦY CÁC CẤP | R1: Biểu 07
Q2: (ĐVT: Tổ chức đảng)
A3: TT | B3: Tổ chức đảng bị thi hành kỷ luật | C3: Tổng số tổ chức đảng bị thi hành kỷ luật | D3: Hình thức kỷ luật | G3: Cấp thi hành kỷ luật | K3: Nội dung vi phạm
D4: Khiển trách | E4: Cảnh cáo | F4: Giải tán | G4: BCHTW, Bộ Chính trị, Ban Bí thư | H4: Tỉnh uỷ, BTV tỉnh uỷ và tương đương | I4: Đảng ủy, BTV ĐU cấp trên trực tiếp cơ sở và tương đương | J4: Đảng uỷ cơ sở, BTV Đảng uỷ cơ sở | K4: Việc chấp hành Cương lĩnh chính trị, Điều lệ Đảng, chủ trương, nghị quyết, chỉ thị, quy định, quyết định, quy chế, kết luận, hướng dẫn của Đảng | L4: Việc chấp hành chính sách, pháp luật của Nhà nước | M4: Việc chấp hành các nguyên tắc tổ chức và hoạt động của Đảng, giữ gìn đoàn kết nội bộ, quy chế làm việc, chế độ công tác, thực hiện dân chủ trong Đảng | N4: Việc lãnh đạo, chỉ đạo thực hành tiết kiệm; phòng, chống tham nhũng, lãng phí; quản lý, tèn luyện phẩm chất, đạo đức, lối sống của đảng viên | O4: Việc lãnh đạo, chỉ đạo và tổ chức thực hiện cải cách hành chính, cải cách tư pháp | P4: Việc lãnh đạo, chỉ đạo các cơ quan bảo vệ pháp luật trong công tác điều tra, truy tố, xét xử, thi hành án | Q4: Công tác cán bộ | R4: Giải quyết khiếu nại, tố cáo | S4: Khác
A5: 1 | B5: 2 | C5: 3 | D5: 4 | E5: 5 | F5: 6 | G5: 7 | H5: 8 | I5: 9 | J5: 10 | K5: 11 | L5: 12 | M5: 13 | N5: 14 | O5: 15 | P5: 16 | Q5: 17 | R5: 18 | S5: 19
A6: I | B6: Tổ chức đảng bị THKL | C6: =SUM(C7:C15) -> 0 | D6: =SUM(D7:D15) -> 0 | E6: =SUM(E7:E15) -> 0 | F6: =SUM(F7:F15) -> 0 | G6: =SUM(G7:G15) -> 0 | H6: =SUM(H7:H15) -> 0 | I6: =SUM(I7:I15) -> 0 | J6: =SUM(J7:J15) -> 0 | ... S6: =SUM(S7:S15) -> 0
B7: Các CQ tham mưu của Trung ương | C7: =SUM(D7:F7) -> 0
B8: Tỉnh uỷ, BTV tỉnh uỷ và tương đương | C8: =SUM(D8:F8) -> 0
B9: Các CQ tham mưu của cấp ủy tỉnh và tương đương | C9: =SUM(D9:F9) -> 0
B10: Đảng ủy, BTV ĐU cấp trên trực tiếp cơ sở và tương đương | C10: =SUM(D10:F10) -> 0
B11: Các CQ tham mưu của cấp ủy cấp trên trực tiếp cơ sở và tương đương | C11: =SUM(D11:F11) -> 0
B12: Đảng uỷ cơ sở, BTV đảng ủy cơ sở | C12: =SUM(D12:F12) -> 0
B13: Đảng uỷ bộ phận | C13: =SUM(D13:F13) -> 0
B14: Chi bộ, Chi ủy | C14: =SUM(D14:F14) -> 0
B15: Khác (ban chỉ đạo, tiểu ban, hội đồng,..) | C15: =SUM(D15:F15) -> 0
A16: II | B16: Bị THKT từ nhiệm vụ | C16: =SUM(C17:C20) -> 0 | D16: =SUM(D17:D20) -> 0 | E16: =SUM(E17:E20) -> 0 | F16: =SUM(F17:F20) -> 0 | G16: =SUM(G17:G20) -> 0 | H16: =SUM(H17:H20) -> 0 | I16: =SUM(I17:I20) -> 0 | J16: =SUM(J17:J20) -> 0 | ... S16: =SUM(S17:S20) -> 0
B17: Kiểm tra theo Điều 30 của ĐLĐ | C17: =SUM(D17:F17) -> 0
B18: Kiểm tra khi có DHVP của BTV cấp ủy và chi bộ | C18: =SUM(D18:F18) -> 0
B19: Giải quyết tố cáo của cấp ủy các cấp | C19: =SUM(D19:F19) -> 0
B20: Khác (từ đề nghị của TCĐ, UBKT cấp dưới, từ chỉ đạo của cấp trên giao...) | C20: =SUM(D20:F20) -> 0
A21: III | B21: Cấp thi hành kỷ luật | C21: =SUM(C22:C25) -> 0 | D21: =SUM(D22:D25) -> 0 | E21: =SUM(E22:E25) -> 0 | F21: =SUM(F22:F25) -> 0
B22: BCHTW, Bộ Chính trị, Ban Bí thư | C22: =SUM(D22:F22) -> 0
B23: Tỉnh uỷ, BTV tỉnh uỷ và tương đương | C23: =SUM(D23:F23) -> 0
B24: Đảng ủy, BTV ĐU cấp trên trực tiếp cơ sở và tương đương | C24: =SUM(D24:F24) -> 0
B25: Đảng uỷ cơ sở, BTV Đảng uỷ cơ sở | C25: =SUM(D25:F25) -> 0

Sheet B08
A1: THI HÀNH KỶ LUẬT ĐẢNG VIÊN CỦA CẤP ỦY CÁC CẤP VÀ CHI BỘ | AB1: Biểu 08
Z2: (ĐVT: lượt đảng viên)
A3: TT | B3: Đảng viên bị thi hành kỷ luật | C3: Tổng số đảng viên bị THKL | D3: Hình thức kỷ luật | H3: Đình chỉ sinh hoạt đảng | I3: Đình chỉ sinh hoạt cấp ủy viên | J3: Xóa tên, cho rút | K3: Cấp thi hành kỷ luật | Q3: Nội dung vi phạm | Z3: Xử lý pháp luật | AC3: Xử lý hành chính | AD3: Xử lý đoàn thể
D4: Khiển trách | E4: Cảnh cáo | F4: Cách chức | G4: Khai trừ | K4: BCHTW, Bộ Chính trị, Ban Bí thư | L4: Tỉnh uỷ, BTV tỉnh uỷ và tương đương | M4: Đảng ủy, BTV ĐU cấp trên trực tiếp cơ sở và tương đương | N4: Đảng uỷ cơ sở , BTV đảng ủy cơ sở | O4: Chi bộ cơ sở | P4: Chi bộ trực thuộc | Q4: Những điều đảng viên không được làm | R4: Tiêu chuẩn đảng viên, tiêu chuẩn cấp ủy viên | S4: Việc thực hiện nhiệm vụ đảng viên, cấp ủy viên | T4: Việc chấp hành nghị quyết, chỉ thị, quy định, kết luận của Đảng; chính sách, pháp luật của Nhà nước | U4: Việc chấp hành quy chế làm việc, nguyên tắc tập trung dân chủ, chế độ công tác | V4: Tư tưởng chính trị, đạo đức, lối sống, trách nhiệm nêu gương | W4: Tham nhũng, tiêu cực, lãng phí | X4: Kê khai tài sản, thu nhập | Y4: Khác | Z4: Số lượng | AA4: Trong đó
AA5: Bị phạt tù (kể cả án treo) | AB5: Hình thức khác
A6: 1 | B6: 2 | C6: 3 | D6: 4 | E6: 5 | F6: 6 | G6: 7 | H6: 8 | I6: 9 | J6: 10 | K6: 11 | L6: 12 | M6: 13 | N6: 14 | O6: 15 | P6: 16 | Q6: 17 | R6: 18 | S6: 19 | T6: 20 | U6: 21 | V6: 22 | W6: 23 | X6: 24 | Y6: 25 | Z6: 26 | AA6: 27 | AB6: 28 | AC6: 29 | AD6: 30
A7: I | B7: Cấp quản lý đảng viên | C7: =SUM(C8:C11) -> 0 | D7: =SUM(D8:D11) -> 0 | E7: =SUM(E8:E11) -> 0 | F7: =SUM(F8:F11) -> 0 | G7: =SUM(G8:G11) -> 0 | H7: =SUM(H8:H11) -> 0 | I7: =SUM(I8:I11) -> 0 | J7: =SUM(J8:J11) -> 0 | ... AD7: =SUM(AD8:AD11) -> 0
B8: Trung ương | C8: =SUM(D8:G8) -> 0 | Z8: =SUM(AA8:AB8) -> 0
B9: Cấp tỉnh và tương đương | C9: =SUM(D9:G9) -> 0 | Z9: =SUM(AA9:AB9) -> 0
B10: Cấp trên trực tiếp cơ sở và tương đương | C10: =SUM(D10:G10) -> 0 | Z10: =SUM(AA10:AB10) -> 0
B11: Cấp cơ sở | C11: =SUM(D11:G11) -> 0 | Z11: =SUM(AA11:AB11) -> 0
A12: II | B12: Là cấp uỷ viên các cấp | C12: =SUM(C13:C18) -> 0 | D12: =SUM(D13:D18) -> 0 | E12: =SUM(E13:E18) -> 0 | F12: =SUM(F13:F18) -> 0 | G12: =SUM(G13:G18) -> 0 | H12: =SUM(H13:H18) -> 0 | I12: =SUM(I13:I18) -> 0 | J12: =SUM(J13:J18) -> 0 | ... AD12: =SUM(AD13:AD18) -> 0
B13: Uỷ viên Trung ương | C13: =SUM(D13:G13) -> 0 | Z13: =SUM(AA13:AB13) -> 0
B14: Tỉnh ủy viên và tương đương | C14: =SUM(D14:G14) -> 0 | Z14: =SUM(AA14:AB14) -> 0
B15: Đảng ủy viên ĐU cấp trên trực tiếp cơ sở và tương đương | C15: =SUM(D15:G15) -> 0 | Z15: =SUM(AA15:AB15) -> 0
B16: Đảng ủy viên đảng ủy cơ sở | C16: =SUM(D16:G16) -> 0 | Z16: =SUM(AA16:AB16) -> 0
B17: Đảng ủy viên đảng ủy bộ phận | C17: =SUM(D17:G17) -> 0 | Z17: =SUM(AA17:AB17) -> 0
B18: Chi ủy viên | C18: =SUM(D18:G18) -> 0 | Z18: =SUM(AA18:AB18) -> 0
A19: III | B19: Đảng viên ở các lĩnh vực | C19: =SUM(C20:C26) -> 0 | D19: =SUM(D20:D26) -> 0 | E19: =SUM(E20:E26) -> 0 | F19: =SUM(F20:F26) -> 0 | G19: =SUM(G20:G26) -> 0 | H19: =SUM(H20:H26) -> 0 | I19: =SUM(I20:I26) -> 0 | J19: =SUM(J20:J26) -> 0 | ... AD19: =SUM(AD20:AD26) -> 0
B20: Đảng | C20: =SUM(D20:G20) -> 0 | Z20: =SUM(AA20:AB20) -> 0
B21: Hành chính, Nhà nước | C21: =SUM(D21:G21) -> 0 | Z21: =SUM(AA21:AB21) -> 0
B22: Đoàn thể | C22: =SUM(D22:G22) -> 0 | Z22: =SUM(AA22:AB22) -> 0
B23: Lực lượng vũ trang | C23: =SUM(D23:G23) -> 0 | Z23: =SUM(AA23:AB23) -> 0
B24: Sự nghiệp công lập | C24: =SUM(D24:G24) -> 0 | Z24: =SUM(AA24:AB24) -> 0
B25: SXKD, dịch vụ | C25: =SUM(D25:G25) -> 0 | Z25: =SUM(AA25:AB25) -> 0
B26: Lĩnh vực khác | C26: =SUM(D26:G26) -> 0 | Z26: =SUM(AA26:AB26) -> 0
A27: IV | B27: Đảng viên bị THKT từ nhiệm vụ | C27: =SUM(C28:C31) -> 0 | D27: =SUM(D28:D31) -> 0 | E27: =SUM(E28:E31) -> 0 | F27: =SUM(F28:F31) -> 0 | G27: =SUM(G28:G31) -> 0 | K27: =SUM(K28:K31) -> 0 | L27: =SUM(L28:L31) -> 0 | M27: =SUM(M28:M31) -> 0 | N27: =SUM(N28:N31) -> 0 | O27: =SUM(O28:O31) -> 0 | P27: =SUM(P28:P31) -> 0 | Q27: =SUM(Q28:Q31) -> 0 | R27: =SUM(R28:R31) -> 0 | ... AD27: =SUM(AD28:AD31) -> 0
B28: Kiểm tra theo Điều 30 của ĐLĐ | C28: =SUM(D28:G28) -> 0 | Z28: =SUM(AA28:AB28) -> 0
B29: Kiểm tra khi có DHVP của BTV cấp ủy và chi bộ | C29: =SUM(D29:G29) -> 0 | Z29: =SUM(AA29:AB29) -> 0
B30: Giải quyết tố cáo của cấp ủy các cấp | C30: =SUM(D30:G30) -> 0 | Z30: =SUM(AA30:AB30) -> 0
B31: Khác (từ đề nghị của TCĐ, UBKT cấp dưới, từ chỉ đạo của cấp trên giao...) | C31: =SUM(D31:G31) -> 0 | Z31: =SUM(AA31:AB31) -> 0
A32: V | B32: Cấp thi hành kỷ luật | C32: =SUM(C33:C38) -> 0 | D32: =SUM(D33:D38) -> 0 | E32: =SUM(E33:E38) -> 0 | F32: =SUM(F33:F38) -> 0 | G32: =SUM(G33:G38) -> 0 | H32: =SUM(H33:H38) -> 0 | I32: =SUM(I33:I38) -> 0 | J32: =SUM(J33:J38) -> 0
B33: BCHTW, Bộ Chính trị, Ban Bí thư | C33: =SUM(D33:G33) -> 0
B34: Tỉnh uỷ, BTV tỉnh uỷ và tương đương | C34: =SUM(D34:G34) -> 0
B35: Đảng ủy, BTV ĐU cấp trên trực tiếp cơ sở và tương đương | C35: =SUM(D35:G35) -> 0
B36: Đảng uỷ cơ sở , BTV đảng ủy cơ sở | C36: =SUM(D36:G36) -> 0
B37: Chi bộ cơ sở | C37: =SUM(D37:G37) -> 0
B38: Chi bộ trực thuộc | C38: =SUM(D38:G38) -> 0
A39: VI | B39: Số liệu lấy thêm: | C39: 1 - Tổng số đảng viên của đảng bộ | P39: 2 - Số đảng viên là người dân tộc thiểu số bị thi hành kỷ luật

Sheet B09
A1: GIẢI QUYẾT TỐ CÁO TỔ CHỨC ĐẢNG CỦA CẤP ỦY CÁC CẤP | S1: Biểu 09
O2: (ĐVT: Lượt giải quyết tố cáo Tổ chức đảng)
A3: TT | B3: Tổ chức đảng bị tố cáo | C3: Tổng số tổ chức đảng bị tố cáo đã giải quyết xong | D3: Cấp giải quyết | H3: Nội dung tố cáo | O3: Kết luận
D4: BCHTW, Bộ Chính trị, Ban Bí thư | E4: Tỉnh ủy, BTV tỉnh ủy và tương đương | F4: Đảng ủy, BTV ĐU cấp trên trực tiếp cơ sở và tương đương | G4: Đảng ủy cơ sở, BTV đảng ủy cơ sở | H4: Việc chấp hành Cương lĩnh chính trị, Điều lệ Đảng, chủ trương, nghị quyết, chỉ thị, quy định, quy chế, kết luận của Đảng | I4: Việc chấp hành chính sách, pháp luật của Nhà nước | J4: Các nguyên tắc tổ chức và hoạt động của Đảng | K4: Đoàn kết nội bộ | L4: Việc thực hành tiết kiệm, phòng, chống tham nhũng, lãng phí, tiêu cực | M4: Công tác cán bộ | N4: Khác | O4: Cho rút đơn, không xem xét giải quyết | P4: Chưa có cơ sở kết luận | Q4: Tố sai | R4: Tố đúng và đúng một phần | S4: Trong đó
S5: Tố đúng, có vi phạm chưa đến mức phải kỷ luật | T5: Phải thi hành kỷ luật | U5: Đã thi hành kỷ luật
A6: 1 | B6: 2 | C6: 3 | D6: 4 | E6: 5 | F6: 6 | G6: 7 | H6: 8 | I6: 9 | J6: 10 | K6: 11 | L6: 12 | M6: 13 | N6: 14 | O6: 15 | P6: 16 | Q6: 17 | R6: 18 | S6: 19 | T6: 20 | U6: 21
A7: I | B7: Tổ chức đảng bị tố cáo | C7: =SUM(C8:C17) -> 0 | D7: =SUM(D8:D17) -> 0 | E7: =SUM(E8:E17) -> 0 | F7: =SUM(F8:F17) -> 0 | G7: =SUM(G8:G17) -> 0 | H7: =SUM(H8:H17) -> 0 | I7: =SUM(I8:I17) -> 0 | J7: =SUM(J8:J17) -> 0 | ... U7: =SUM(U8:U17) -> 0
B8: UBKT Trung ương | C8: =SUM(D8:G8) -> 0
B9: Tỉnh ủy, BTV tỉnh ủy và tương đương | C9: =SUM(D9:G9) -> 0
B10: UBKT tỉnh ủy và tương đương | C10: =SUM(D10:G10) -> 0
B11: Đảng ủy, BTV ĐU cấp trên trực tiếp cơ sở và tương đương | C11: =SUM(D11:G11) -> 0
B12: UBKT cấp trên trực tiếp cơ sở và tương đương | C12: =SUM(D12:G12) -> 0
B13: Đảng ủy, BTV đảng ủy cơ sở | C13: =SUM(D13:G13) -> 0
B14: UBKT đảng ủy cơ sở | C14: =SUM(D14:G14) -> 0
B15: Đảng ủy bộ phận | C15: =SUM(D15:G15) -> 0
B16: Chi bộ, Chi ủy | C16: =SUM(D16:G16) -> 0
B17: Khác (tiểu ban, hội đồng, tổ đảng...) | C17: =SUM(D17:G17) -> 0
A18: II | B18: Kết luận giải quyết tố cáo | C18: =SUM(D18:G18) -> 0 | D18: =SUM(D19:D22) -> 0 | E18: =SUM(E19:E22) -> 0 | F18: =SUM(F19:F22) -> 0 | G18: =SUM(G19:G22) -> 0 | H18: =SUM(H19:H22) -> 0 | I18: =SUM(I19:I22) -> 0 | J18: =SUM(J19:J22) -> 0 | K18: =SUM(K19:K22) -> 0 | ... N18: =SUM(N19:N22) -> 0
B19: Cho rút đơn, không xem xét giải quyết | C19: =SUM(D19:G19) -> 0
B20: Chưa có cơ sở kết luận | C20: =SUM(D20:G20) -> 0
B21: Tố sai | C21: =SUM(D21:G21) -> 0
B22: Tố đúng và đúng một phần | C22: =SUM(D22:G22) -> 0
B23: Đúng có vi phạm chưa đến mức phải kỷ luật | C23: =SUM(D23:G23) -> 0
B24: Phải thi hành kỷ luật | C24: =SUM(D24:G24) -> 0
B25: Đã thi hành kỷ luật | C25: =SUM(D25:G25) -> 0
B26: Giải quyết đúng thời gian quy định | C26: =SUM(D26:G26) -> 0

Sheet B10
A1: GIẢI QUYẾT TỐ CÁO ĐẢNG VIÊN CỦA CẤP ỦY CÁC CẤP VÀ CHI BỘ | X1: Biểu 10
T2: (ĐVT: lượt giải quyết tố cáo đảng viên)
A3: TT | B3: Đảng viên bị tố cáo | C3: Đã giải quyết xong | D3: Cấp giải quyết | J3: Nội dung tố cáo | T3: Kết luận
D4: BCHTW, Bộ Chính trị, Ban Bí thư | E4: Tỉnh ủy, BTV tỉnh ủy và tương đương | F4: Đảng ủy, BTV ĐU cấp trên trực tiếp cơ sở và tương đương | G4: Đảng ủy cơ sở, BTV đảng ủy cơ sở | H4: Chi bộ cơ sở | I4: Chi bộ trực thuộc | J4: Tiêu chuẩn đảng viên, tiêu chuẩn cấp ủy viên | K4: Việc chấp hành Cương lĩnh chính trị, Điều lệ Đảng, chủ trương, nghị quyết, chỉ thị, quy định, quy chế, kết luận của Đảng | L4: Về nguyên tắc tổ chức và sinh hoạt đảng | M4: Về thực hiện chức trách, nhiệm vụ được giao | N4: Về phẩm chất đạo đức, lối sống và trách nhiệm nêu gương | O4: Tham nhũng, cố ý làm trái | P4: Đất đai, tài nguyên, khoáng sản, nhà ở, môi trường | Q4: Tài chính, ngân hàng, đầu tư,xây dựng, y tế, khoa học công nghệ | R4: Kê khai tài sản, thu nhập cá nhân | S4: Khác | T4: Cho rút đơn, không xem xét giải quyết | U4: Chưa có cơ sở kết luận | V4: Tố sai | W4: Tố đúng và đúng một phần | X4: Trong đó
X5: Tố đúng, có vi phạm nhưng chưa đến mức phải kỷ luật | Y5: Phải thi hành kỷ luật | Z5: Đã thi hành kỷ luật
A6: 1 | B6: 2 | C6: 3 | D6: 4 | E6: 5 | F6: 6 | G6: 7 | H6: 8 | I6: 9 | J6: 10 | K6: 11 | L6: 12 | M6: 13 | N6: 14 | O6: 15 | P6: 16 | Q6: 17 | R6: 18 | S6: 19 | T6: 20 | U6: 21 | V6: 22 | W6: 23 | X6: 24 | Y6: 25 | Z6: 26
A7: I | B7: Cấp quản lý đảng viên | C7: =SUM(C8:C11) -> 0 | D7: =SUM(D8:D11) -> 0 | E7: =SUM(E8:E11) -> 0 | F7: =SUM(F8:F11) -> 0 | G7: =SUM(G8:G11) -> 0 | H7: =SUM(H8:H11) -> 0 | I7: =SUM(I8:I11) -> 0 | J7: =SUM(J8:J11) -> 0 | ... Z7: =SUM(Z8:Z11) -> 0
B8: Trung ương | C8: =SUM(D8:I8) -> 0
B9: Cấp tỉnh và tương đương | C9: =SUM(D9:I9) -> 0
B10: Cấp trên trực tiếp cơ sở và tương đương | C10: =SUM(D10:I10) -> 0
B11: Cấp cơ sở | C11: =SUM(D11:I11) -> 0
A12: II | B12: Là cấp uỷ viên các cấp | C12: =SUM(C13:C18) -> 0 | D12: =SUM(D13:D18) -> 0 | E12: =SUM(E13:E18) -> 0 | F12: =SUM(F13:F18) -> 0 | G12: =SUM(G13:G18) -> 0 | H12: =SUM(H13:H18) -> 0 | I12: =SUM(I13:I18) -> 0 | J12: =SUM(J13:J18) -> 0 | ... Z12: =SUM(Z13:Z18) -> 0
B13: Uỷ viên Trung ương | C13: =SUM(D13:I13) -> 0
B14: Tỉnh uỷ viên và tương đương | C14: =SUM(D14:I14) -> 0
B15: Đảng ủy viên ĐU cấp trên trực tiếp cơ sở và tương đương | C15: =SUM(D15:I15) -> 0
B16: Đảng uỷ viên đảng ủy cơ sở | C16: =SUM(D16:I16) -> 0
B17: Đảng ủy viên đảng ủy bộ phận | C17: =SUM(D17:I17) -> 0
B18: Chi uỷ viên | C18: =SUM(D18:I18) -> 0
A19: III | B19: Đảng viên ở các lĩnh vực | C19: =SUM(C20:C26) -> 0 | D19: =SUM(D20:D26) -> 0 | E19: =SUM(E20:E26) -> 0 | F19: =SUM(F20:F26) -> 0 | G19: =SUM(G20:G26) -> 0 | H19: =SUM(H20:H26) -> 0 | I19: =SUM(I20:I26) -> 0 | J19: =SUM(J20:J26) -> 0 | ... Z19: =SUM(Z20:Z26) -> 0
B20: Đảng | C20: =SUM(D20:I20) -> 0
B21: Hành chính, Nhà nước | C21: =SUM(D21:I21) -> 0
B22: Đoàn thể | C22: =SUM(D22:I22) -> 0
B23: Lực lượng vũ trang | C23: =SUM(D23:I23) -> 0
B24: Sự nghiệp công lập | C24: =SUM(D24:I24) -> 0
B25: Sản xuất kinh doanh, dịch vụ | C25: =SUM(D25:I25) -> 0
B26: Các lĩnh vực khác | C26: =SUM(D26:I26) -> 0
A27: IV | B27: Kết luận | C27: =SUM(C28:C31) -> 0 | D27: =SUM(D28:D31) -> 0 | E27: =SUM(E28:E31) -> 0 | F27: =SUM(F28:F31) -> 0 | G27: =SUM(G28:G31) -> 0 | H27: =SUM(H28:H31) -> 0 | I27: =SUM(I28:I31) -> 0 | J27: =SUM(J28:J31) -> 0 | ... S27: =SUM(S28:S31) -> 0
B28: Cho rút đơn, không xem xét giải quyết | C28: =SUM(D28:I28) -> 0
B29: Chưa có cơ sở kết luận | C29: =SUM(D29:I29) -> 0
B30: Tố sai | C30: =SUM(D30:I30) -> 0
B31: Tố đúng và đúng một phần | C31: =SUM(D31:I31) -> 0
B32: Đúng có vi phạm nhưng chưa đến mức phải kỷ luật | C32: =SUM(D32:I32) -> 0
B33: Phải thi hành kỷ luật | C33: =SUM(D33:I33) -> 0
B34: Đã thi hành kỷ luật | C34: =SUM(D34:I34) -> 0
B35: GQ đúng thời gian quy định | C35: =SUM(D35:I35) -> 0

Sheet B11
A1: GIẢI QUYẾT KHIẾU NẠI KỶ LUẬT TỔ CHỨC ĐẢNG CỦA CẤP ỦY CÁC CẤP | V1: Biểu 11
V2: (ĐVT: Tổ chức đảng)
A3: TT | B3: Tổ chức đảng khiếu nại kỷ luật đảng | C3: Đã giải quyết xong | D3: Cấp giải quyết khiếu nại | M3: Nội dung khiếu nại | P3: Kết luận
D4: Ban Chấp hành Trung ương | E4: Bộ Chính trị | F4: Ban Bí thư | G4: Tỉnh ủy và tương đương | H4: BTV tỉnh uỷ và tương đương | I4: Đảng ủy cấp trên trực tiếp cơ sở và tương đương | J4: BTV đảng ủy cấp trên trực tiếp cơ sở và tương đương | K4: Đảng ủy cơ sở | L4: BTV Đảng ủy cơ sở | M4: Nội dung vi phạm | N4: Hình thức kỷ luật | O4: Nguyên tắc, thủ tục, quy trình, thẩm quyền | P4: Cho rút đơn, không xem xét giải quyết | Q4: Giữ nguyên hình thức kỷ luật | R4: Thay đổi hình thức kỷ luật | S4: Trong đó | V4: Nguyên nhân thay đổi hình thức kỷ luật
S5: Tăng hình thức kỷ luật | T5: Giảm hình thức kỷ luật | U5: Xoá kỷ luật | V5: Vận dụng phương hướng, phương châm THKL | W5: Thẩm tra, xác minh | X5: Khác
A6: 1 | B6: 2 | C6: 3 | D6: 4 | E6: 5 | F6: 6 | G6: 7 | H6: 8 | I6: 9 | J6: 10 | K6: 11 | L6: 12 | M6: 13 | N6: 14 | O6: 15 | P6: 16 | Q6: 17 | R6: 18 | S6: 19 | T6: 20 | U6: 21 | V6: 22 | W6: 23 | X6: 24
A7: I | B7: Tổ chức đảng khiếu nại | C7: =SUM(C8:C18) -> 0 | D7: =SUM(D8:D18) -> 0 | E7: =SUM(E8:E18) -> 0 | F7: =SUM(F8:F18) -> 0 | G7: =SUM(G8:G18) -> 0 | H7: =SUM(H8:H18) -> 0 | I7: =SUM(I8:I18) -> 0 | J7: =SUM(J8:J18) -> 0 | ... X7: =SUM(X8:X18) -> 0
B8: Các CQ tham mưu của Trung ương | C8: =SUM(D8:L8) -> 0
B9: Tỉnh uỷ và tương đương | C9: =SUM(D9:L9) -> 0
B10: Ban Thường vụ tỉnh uỷ và tương đương | C10: =SUM(D10:L10) -> 0
B11: Các CQ tham mưu của cấp ủy tỉnh và tương đương | C11: =SUM(D11:L11) -> 0
B12: Đảng ủy cấp trên trực tiếp cơ sở và tương đương | C12: =SUM(D12:L12) -> 0
B13: BTV đảng ủy cấp trên trực tiếp cơ sở và tương đương | C13: =SUM(D13:L13) -> 0
B14: Các CQ tham mưu của cấp ủy cấp trên trực tiếp cơ sở và tương đương | C14: =SUM(D14:L14) -> 0
B15: Đảng uỷ cơ sở, BTV đảng ủy cơ sở | C15: =SUM(D15:L15) -> 0
B16: Đảng uỷ bộ phận | C16: =SUM(D16:L16) -> 0
B17: Chi bộ, Chi ủy | C17: =SUM(D17:L17) -> 0
B18: Khác (ban chỉ đạo, tiểu ban, hội đồng, tổ đảng,...) | C18: =SUM(D18:L18) -> 0
A19: II | B19: Kết luận | C19: =SUM(C20:C22) -> 0 | D19: =SUM(D20:D22) -> 0 | E19: =SUM(E20:E22) -> 0 | F19: =SUM(F20:F22) -> 0 | G19: =SUM(G20:G22) -> 0 | H19: =SUM(H20:H22) -> 0 | I19: =SUM(I20:I22) -> 0 | J19: =SUM(J20:J22) -> 0 | ... L19: =SUM(L20:L22) -> 0
B20: Cho rút đơn, không xem xét giải quyết | C20: =SUM(D20:L20) -> 0
B21: Giữ nguyên hình thức kỷ luật | C21: =SUM(D21:L21) -> 0
B22: Thay đổi hình thức kỷ luật | C22: =SUM(D22:L22) -> 0
B23: Tăng hình thức kỷ luật | C23: =SUM(D23:L23) -> 0
B24: Giảm hình thức kỷ luật | C24: =SUM(D24:L24) -> 0
B25: Xoá kỷ luật | C25: =SUM(D25:L25) -> 0
B26: GQ đúng thời gian quy định | C26: =SUM(D26:L26) -> 0

Sheet B12
A1: GIẢI QUYẾT KHIẾU NẠI KỶ LUẬT ĐẢNG VIÊN CỦA CẤP ỦY CÁC CẤP | T1: Biểu 12
T2: (ĐVT: Đảng viên)
A3: TT | B3: Đảng viên khiếu nại kỷ luật đảng | C3: Đã giải quyết xong | D3: Cấp giải quyết khiếu nại | K3: Nội dung khiếu nại | N3: Kết luận
D4: BCHTW, Bộ Chính trị, Ban Bí thư | E4: Tỉnh ủy và tương đương | F4: BTV tỉnh uỷ và tương đương | G4: Đảng ủy cấp trên trực tiếp cơ sở và tương đương | H4: BTV đảng ủy cấp trên trực tiếp cơ sở và tương đương | I4: Đảng uỷ cơ sở | J4: BTV đảng uỷ cơ sở | K4: Nội dung vi phạm | L4: Hình thức kỷ luật | M4: Nguyên tắc, thủ tục, quy trình, thẩm quyền | N4: Cho rút đơn, không xem xét giải quyết | O4: Giữ nguyên hình thức kỷ luật | P4: Thay đổi hình thức kỷ luật | Q4: Trong đó | T4: Nguyên nhân thay đổi hình thức kỷ luật
Q5: Tăng hình thức kỷ luật | R5: Giảm hình thức kỷ luật | S5: Xoá kỷ luật | T5: Vận dụng phương hướng, phương châm THKL | U5: Thẩm tra, xác minh | V5: Khác
A6: 1 | B6: 2 | C6: 3 | D6: 4 | E6: 5 | F6: 6 | G6: 7 | H6: 8 | I6: 9 | J6: 10 | K6: 11 | L6: 12 | M6: 13 | N6: 14 | O6: 15 | P6: 16 | Q6: 17 | R6: 18 | S6: 19 | T6: 20 | U6: 21 | V6: 22
A7: I | B7: Cấp quản lý đảng viên | C7: =SUM(C8:C11) -> 0 | D7: =SUM(D8:D11) -> 0 | E7: =SUM(E8:E11) -> 0 | F7: =SUM(F8:F11) -> 0 | G7: =SUM(G8:G11) -> 0 | H7: =SUM(H8:H11) -> 0 | I7: =SUM(I8:I11) -> 0 | J7: =SUM(J8:J11) -> 0 | ... V7: =SUM(V8:V11) -> 0
B8: Trung ương | C8: =SUM(D8:J8) -> 0
B9: Cấp tỉnh và tương đương | C9: =SUM(D9:J9) -> 0
B10: Cấp trên trực tiếp cơ sở và tương đương | C10: =SUM(D10:J10) -> 0
B11: Cấp cơ sở | C11: =SUM(D11:J11) -> 0
A12: II | B12: Cấp quyết định kỷ luật | C12: =SUM(C13:C24) -> 0 | D12: =SUM(D13:D24) -> 0 | E12: =SUM(E13:E24) -> 0 | F12: =SUM(F13:F24) -> 0 | G12: =SUM(G13:G24) -> 0 | H12: =SUM(H13:H24) -> 0 | I12: =SUM(I13:I24) -> 0 | J12: =SUM(J13:J24) -> 0 | ... V12: =SUM(V13:V24) -> 0
B13: BCHTW, Bộ Chính trị, BBT | C13: =SUM(D13:J13) -> 0
B14: UBKT Trung ương | C14: =SUM(D14:J14) -> 0
B15: Tỉnh ủy và tương đương | C15: =SUM(D15:J15) -> 0
B16: BTV tỉnh ủy và tương đương | C16: =SUM(D16:J16) -> 0
B17: UBKT tỉnh uỷ và tương đương | C17: =SUM(D17:J17) -> 0
B18: Đảng ủy cấp trên trực tiếp cơ sở và tương đương | C18: =SUM(D18:J18) -> 0
B19: BTV đảng ủy cấp trên trực tiếp cơ sở và tương đương | C19: =SUM(D19:J19) -> 0
B20: UBKT đảng ủy cấp trên trực tiếp cơ sở và tương đương | C20: =SUM(D20:J20) -> 0
B21: Đảng ủy cơ sở | C21: =SUM(D21:J21) -> 0
B22: BTV đảng ủy cơ sở | C22: =SUM(D22:J22) -> 0
B23: UBKT đảng ủy cơ sở | C23: =SUM(D23:J23) -> 0
B24: Chi bộ | C24: =SUM(D24:J24) -> 0
A25: III | B25: Kết luận | C25: =SUM(C26:C28) -> 0 | D25: =SUM(D26:D28) -> 0 | E25: =SUM(E26:E28) -> 0 | F25: =SUM(F26:F28) -> 0 | G25: =SUM(G26:G28) -> 0 | H25: =SUM(H26:H28) -> 0 | I25: =SUM(I26:I28) -> 0 | J25: =SUM(J26:J28) -> 0
B26: Cho rút đơn, không xem xét giải quyết | C26: =SUM(D26:J26) -> 0
B27: Giữ nguyên hình thức kỷ luật | C27: =SUM(D27:J27) -> 0
B28: Thay đổi hình thức kỷ luật | C28: =SUM(D28:J28) -> 0
B29: Tăng hình thức kỷ luật | C29: =SUM(D29:J29) -> 0
B30: Giảm hình thức kỷ luật | C30: =SUM(D30:J30) -> 0
B31: Xoá kỷ luật | C31: =SUM(D31:J31) -> 0
B32: GQ đúng thời gian quy định | C32: =SUM(D32:J32) -> 0

Sheet B13
A1: KIỂM TRA TỔ CHỨC ĐẢNG KHI CÓ DẤU HIỆU VI PHẠM CỦA ỦY BAN KIỂM TRA CÁC CẤP | P1: Biểu 13
O2: (ĐVT: Tổ chức đảng)
A3: TT | B3: Tổ chức đảng được kiểm tra | C3: Tổng số tổ chức đảng được kiểm tra | D3: Cấp kiểm tra | H3: Nội dung kiểm tra | O3: Kết luận
D4: UBKT Trung ương | E4: UBKT tỉnh uỷ và tương đương | F4: UBKT đảng ủy cấp trên trực tiếp cơ sở và tương đương | G4: UBKT đảng uỷ cơ sở | H4: Việc chấp hành Cương lĩnh chính trị, Điều lệ Đảng, chủ trương, nghị quyết, chỉ thị, quy định, quyết định, quy chế, kết luận của Đảng | I4: Việc chấp hành chính sách, pháp luật của Nhà nước | J4: Việc chấp hành các nguyên tắc, tổ chức và hoạt động của Đảng, giữ gìn đoàn kết nội bộ, quy chế làm việc, chế độ công tác, thực hiện dân chủ trong Đảng | K4: Việc thực hành tiết kiệm, phòng, chống tham nhũng, lãng phí, tiêu cực | L4: Quản lý, rèn luyện phẩm chất, đạo đức, lối sống của cán bộ, đảng viên | M4: Công tác cán bộ | N4: Khác | O4: Tổ chức đảng có vi phạm | P4: Trong đó
P5: Phải thi hành kỷ luật | Q5: Đã thi hành kỷ luật | R5: Đề nghị cấp có thẩm quyền thi hành kỷ luật
A6: 1 | B6: 2 | C6: 3 | D6: 4 | E6: 5 | F6: 6 | G6: 7 | H6: 8 | I6: 9 | J6: 10 | K6: 11 | L6: 12 | M6: 13 | N6: 14 | O6: 15 | P6: 16 | Q6: 17 | R6: 18
A7: I | B7: Tổ chức đảng được kiểm tra | C7: =SUM(C8:C16) -> 0 | D7: =SUM(D8:D16) -> 0 | E7: =SUM(E8:E16) -> 0 | F7: =SUM(F8:F16) -> 0 | G7: =SUM(G8:G16) -> 0 | H7: =SUM(H8:H16) -> 0 | I7: =SUM(I8:I16) -> 0 | J7: =SUM(J8:J16) -> 0 | ... R7: =SUM(R8:R16) -> 0
B8: Các CQ tham mưu của Trung ương | C8: =SUM(D8:G8) -> 0
B9: Tỉnh ủy, BTV tỉnh ủy và tương đương | C9: =SUM(D9:G9) -> 0
B10: Các CQ tham mưu của cấp ủy tỉnh và tương đương | C10: =SUM(D10:G10) -> 0
B11: Đảng ủy, BTV ĐU cấp trên trực tiếp cơ sở và tương đương | C11: =SUM(D11:G11) -> 0
B12: Các CQ tham mưu của cấp ủy cấp trên trực tiếp cơ sở và tương đương | C12: =SUM(D12:G12) -> 0
B13: Đảng ủy cơ sở, BTV đảng ủy cơ sở | C13: =SUM(D13:G13) -> 0
B14: Đảng ủy bộ phận | C14: =SUM(D14:G14) -> 0
B15: Chi bộ, Chi ủy | C15: =SUM(D15:G15) -> 0
B16: Khác (ban chỉ đạo, tiểu ban, hội đồng, tổ đảng,...) | C16: =SUM(D16:G16) -> 0
A17: II | B17: Kết luận
B18: Tổ chức đảng có vi phạm | C18: =SUM(D18:G18) -> 0
B19: Phải thi hành kỷ luật | C19: =SUM(D19:G19) -> 0
B20: Đã thi hành kỷ luật | C20: =SUM(D20:G20) -> 0
B21: Đề nghị cấp có thẩm quyền thi hành kỷ luật | C21: =SUM(D21:G21) -> 0

Sheet B14
A1: KIỂM TRA ĐẢNG VIÊN KHI CÓ DẤU HIỆU VI PHẠM CỦA ỦY BAN KIỂM TRA CÁC CẤP | R1: Biểu 14
Q2: (ĐVT: Đảng viên)
A3: TT | B3: Đảng viên được kiểm tra | C3: Tổng số đảng viên được kiểm tra | D3: Cấp kiểm tra | H3: Nội dung kiểm tra | Q3: Kết luận
D4: UBKT Trung ương | E4: UBKT tỉnh uỷ và tương đương | F4: UBKT đảng ủy cấp trên trực tiếp cơ sở và tương đương | G4: UBKT đảng uỷ cơ sở | H4: Những điều đảng viên không được làm | I4: Tiêu chuẩn đảng viên, tiêu chuẩn cấp ủy viên | J4: Việc thực hiện nhiệm vụ đảng viên, cấp ủy viên | K4: Việc chấp hành nghị quyết, chỉ thị, quy định, kết luận của Đảng; chính sách, pháp luật của Nhà nước | L4: Việc chấp hành quy chế làm việc, nguyên tắc tập trung dân chủ, chế độ công tác | M4: Tư tưởng chính trị, đạo đức, lối sống, trách nhiệm nêu gương | N4: Tham nhũng, cố ý làm trái | O4: Kê khai tài sản, thu nhập | P4: Khác | Q4: Có vi phạm | R4: Trong đó
R5: Phải thi hành kỷ luật | S5: Đã thi hành kỷ luật | T5: Đề nghị cấp có thẩm quyền thi hành kỷ luật
A6: 1 | B6: 2 | C6: 3 | D6: 4 | E6: 5 | F6: 6 | G6: 7 | H6: 8 | I6: 9 | J6: 10 | K6: 11 | L6: 12 | M6: 13 | N6: 14 | O6: 15 | P6: 16 | Q6: 17 | R6: 18 | S6: 19 | T6: 20
A7: I | B7: Cấp quản lý đảng viên | C7: =SUM(C8:C11) -> 0 | D7: =SUM(D8:D11) -> 0 | E7: =SUM(E8:E11) -> 0 | F7: =SUM(F8:F11) -> 0 | G7: =SUM(G8:G11) -> 0 | H7: =SUM(H8:H11) -> 0 | I7: =SUM(I8:I11) -> 0 | J7: =SUM(J8:J11) -> 0 | ... T7: =SUM(T8:T11) -> 0
B8: Trung ương | C8: =SUM(D8:G8) -> 0
B9: Cấp tỉnh và tương đương | C9: =SUM(D9:G9) -> 0
B10: Cấp trên trực tiếp cơ sở và tương đương | C10: =SUM(D10:G10) -> 0
B11: Cấp cơ sở | C11: =SUM(D11:G11) -> 0
A12: II | B12: Là cấp uỷ viên các cấp | C12: =SUM(C13:C18) -> 0 | D12: =SUM(D13:D18) -> 0 | E12: =SUM(E13:E18) -> 0 | F12: =SUM(F13:F18) -> 0 | G12: =SUM(G13:G18) -> 0 | H12: =SUM(H13:H18) -> 0 | I12: =SUM(I13:I18) -> 0 | J12: =SUM(J13:J18) -> 0 | ... T12: =SUM(T13:T18) -> 0
B13: Uỷ viên Trung ương | C13: =SUM(D13:G13) -> 0
B14: Tỉnh uỷ viên và tương đương | C14: =SUM(D14:G14) -> 0
B15: Đảng ủy viên ĐU cấp trên trực tiếp cơ sở và tương đương | C15: =SUM(D15:G15) -> 0
B16: Đảng uỷ viên đảng ủy cơ sở | C16: =SUM(D16:G16) -> 0
B17: Đảng ủy viên đảng ủy bộ phận | C17: =SUM(D17:G17) -> 0
B18: Chi uỷ viên | C18: =SUM(D18:G18) -> 0
A19: III | B19: Đảng viên ở các lĩnh vực | C19: =SUM(C20:C26) -> 0 | D19: =SUM(D20:D26) -> 0 | E19: =SUM(E20:E26) -> 0 | F19: =SUM(F20:F26) -> 0 | G19: =SUM(G20:G26) -> 0 | H19: =SUM(H20:H26) -> 0 | I19: =SUM(I20:I26) -> 0 | J19: =SUM(J20:J26) -> 0 | ... T19: =SUM(T20:T26) -> 0
B20: Đảng | C20: =SUM(D20:G20) -> 0
B21: Hành chính, Nhà nước | C21: =SUM(D21:G21) -> 0
B22: Đoàn thể | C22: =SUM(D22:G22) -> 0
B23: Lực lượng vũ trang | C23: =SUM(D23:G23) -> 0
B24: Sự nghiệp công lập | C24: =SUM(D24:G24) -> 0
B25: Sản xuất kinh doanh, dịch vụ | C25: =SUM(D25:G25) -> 0
B26: Lĩnh vực khác | C26: =SUM(D26:G26) -> 0
A27: IV | B27: Kết luận
B28: Có vi phạm | C28: =SUM(D28:G28) -> 0
B29: Phải thi hành kỷ luật | C29: =SUM(D29:G29) -> 0
B30: Đã thi hành kỷ luật | C30: =SUM(D30:G30) -> 0
B31: Đề nghị cấp có thẩm quyền thi hành kỷ luật | C31: =SUM(D31:G31) -> 0

Sheet B15
A1: ỦY BAN KIỂM TRA CÁC CẤP KIỂM TRA TỔ CHỨC ĐẢNG, ỦY BAN KIỂM TRA CẤP DƯỚI THỰC HIỆN NHIỆM VỤ KIỂM TRA, GIÁM SÁT | Q1: Biểu 15
L3: (ĐVT: Tổ chức đảng)
A4: TT | B4: Nội dung | C4: Tổng số tổ chức đảng được kiểm tra | D4: Cấp kiểm tra | H4: Kết luận
D5: UBKT Trung ương | E5: UBKT tỉnh uỷ và tương đương | F5: UBKT đảng ủy cấp trên trực tiếp cơ sở và tương đương | G5: UBKT đảng uỷ cơ sở | H5: Số tổ chức đảng thực hiện tốt nhiệm vụ kiểm tra, giám sát | I5: Số tổ chức đảng thực hiện chưa tốt nhiệm vụ kiểm tra, giám sát | J5: Trong đó
J6: Số không có chương trình, kế hoạch kiểm tra, giám sát | K6: Số chưa làm tốt công tác lãnh đạo, chỉ đạo thực hiện nhiệm vụ kiểm tra, giám sát | L6: Số chưa thực hiện tốt nhiệm vụ kiểm tra, giám sát | M6: Số chưa làm tốt việc lãnh đạo, chỉ đạo, tổ chức hoạt động của UBKT | N6: Số chưa làm tốt việc lãnh đạo, chỉ đạo, xây dựng tổ chức bộ máy, đội ngũ cán bộ của cơ quan UBKT cấp dưới | O6: Số vụ việc bị cấp kiểm tra rút hồ sơ để kiểm tra trực tiếp | P6: Số số vụ việc bị cấp kiểm tra yêu cầu: kiểm điểm; kiểm tra; giám sát | Q6: Số vụ việc bị cấp kiểm tra yêu cầu xem xét thi hành kỷ luật | R6: Số vụ việc bị cấp kiểm tra yêu cầu hoàn thành kiểm tra, giám sát
A7: 1 | B7: 2 | C7: 3 | D7: 4 | E7: 5 | F7: 6 | G7: 7 | H7: 8 | I7: 9 | J7: 10 | K7: 11 | L7: 12 | M7: 13 | N7: 14 | O7: 15 | P7: 16 | Q7: 17 | R7: 18
A8: I | B8: Tổ chức đảng được kiểm tra | C8: =SUM(C9:C16) -> 0 | D8: =SUM(D9:D16) -> 0 | E8: =SUM(E9:E16) -> 0 | F8: =SUM(F9:F16) -> 0 | G8: =SUM(G9:G16) -> 0 | H8: =SUM(H9:H16) -> 0 | I8: =SUM(I9:I16) -> 0 | J8: =SUM(J9:J16) -> 0 | ... R8: =SUM(R9:R16) -> 0
B9: Tỉnh ủy, BTV tỉnh ủy và tương đương | C9: =SUM(D9:G9) -> 0
B10: UBKT tỉnh ủy và tương đương | C10: =SUM(D10:G10) -> 0
B11: Đảng ủy, BTV ĐU cấp trên trực tiếp cơ sở và tương đương | C11: =SUM(D11:G11) -> 0
B12: UBKT đảng ủy cấp trên trực tiếp cơ sở và tương đương | C12: =SUM(D12:G12) -> 0
B13: Đảng ủy cơ sở, BTV Đảng ủy cơ sở | C13: =SUM(D13:G13) -> 0
B14: UBKT đảng ủy cơ sở | C14: =SUM(D14:G14) -> 0
B15: Đảng ủy bộ phận | C15: =SUM(D15:G15) -> 0
B16: Chi bộ, Chi ủy | C16: =SUM(D16:G16) -> 0
A17: II | B17: Cấp kiểm tra | H17: =SUM(H18:H21) -> 0 | I17: =SUM(I18:I21) -> 0 | J17: =SUM(J18:J21) -> 0 | K17: =SUM(K18:K21) -> 0 | L17: =SUM(L18:L21) -> 0 | M17: =SUM(M18:M21) -> 0 | N17: =SUM(N18:N21) -> 0 | O17: =SUM(O18:O21) -> 0 | ... R17: =SUM(R18:R21) -> 0
B18: UBKT Trung ương
B19: UBKT tỉnh uỷ và tương đương
B20: UBKT đảng ủy cấp trên trực tiếp cơ sở và tương đương
B21: UBKT đảng uỷ cơ sở

Sheet B16
A1: ỦY BAN KIỂM TRA CÁC CẤP KIỂM TRA VIỆC THI HÀNH KỶ LUẬT CỦA TỔ CHỨC ĐẢNG CẤP DƯỚI | Z1: Biểu 16
A3: TT | B3: Nội dung | C3: Tổng số tổ chức đảng được kiểm tra | D3: Cấp kiểm tra (tổ chức đảng) | H3: Số ĐV bị THKL trong mốc thời gian kiểm tra | J3: Đảng viên bị THKL do từng cấp quản lý | N3: Số TCĐ bị THKL trong mốc thời gian kiểm tra | P3: Kết luận | V3: Kiến nghị sau kiểm tra
D4: UBKT Trung ương | E4: UBKT tỉnh uỷ và tương đương | F4: UBKT đảng ủy cấp trên trực tiếp cơ sở và tương đương | G4: UBKT đảng uỷ cơ sở | H4: Tổng số đảng viên | I4: Trong đó số ĐV có khiếu nại sau khi bị THKL | J4: Cấp tỉnh và tương đương | K4: Cấp trên trực tiếp cơ sở và tương đương | L4: Cấp cơ sở và tương đương | M4: Chi bộ | N4: Tổng số tổ chức đảng | O4: Trong đó số TCĐ có khiếu nại sau khi bị THKL | P4: Số tổ chức đảng làm tốt công tác THKL | Q4: Số tổ chức đảng chưa làm tốt công tác THKL | R4: Số bị THKL không đúng thẩm quyền, nguyên tắc, thủ tục | T4: Số bị THKL không đúng hình thức; vi phạm đến mức kỷ luật mà không THKL; bị oan, sai | V4: Tăng hình thức kỷ luật | X4: Giảm hình thức kỷ luật | Z4: Xóa kỷ luật
R5: Đảng viên | S5: TCĐ | T5: Đảng viên | U5: TCĐ | V5: Đảng viên | W5: TCĐ | X5: Đảng viên | Y5: TCĐ | Z5: Đảng viên | AA5: TCĐ
A6: 1 | B6: 2 | C6: 3 | D6: 4 | E6: 5 | F6: 6 | G6: 7 | H6: 8 | I6: 9 | J6: 10 | K6: 11 | L6: 12 | M6: 13 | N6: 14 | O6: 15 | P6: 16 | Q6: 17 | R6: 18 | S6: 19 | T6: 20 | U6: 21 | V6: 22 | W6: 23 | X6: 24 | Y6: 25 | Z6: 26 | AA6: 27
A7: I | B7: Tổ chức đảng được kiểm tra | C7: =SUM(C8:C14) -> 0 | D7: =SUM(D8:D14) -> 0 | E7: =SUM(E8:E14) -> 0 | F7: =SUM(F8:F14) -> 0 | G7: =SUM(G8:G14) -> 0 | H7: =SUM(H8:H14) -> 0 | I7: =SUM(I8:I14) -> 0 | J7: =SUM(J8:J14) -> 0 | ... AA7: =SUM(AA8:AA14) -> 0
B8: Tỉnh ủy, BTV tỉnh ủy và tương đương | C8: =SUM(D8:G8) -> 0 | H8: =SUM(J8:M8) -> 0
B9: UBKT tỉnh ủy và tương đương | C9: =SUM(D9:G9) -> 0 | H9: =SUM(J9:M9) -> 0
B10: Đảng ủy, BTV ĐU cấp trên trực tiếp cơ sở và tương đương | C10: =SUM(D10:G10) -> 0 | H10: =SUM(J10:M10) -> 0
B11: UBKT đảng ủy cấp trên trực tiếp cơ sở và tương đương | C11: =SUM(D11:G11) -> 0 | H11: =SUM(J11:M11) -> 0
B12: Đảng ủy cơ sở, BTV Đảng ủy cơ sở | C12: =SUM(D12:G12) -> 0 | H12: =SUM(J12:M12) -> 0
B13: UBKT đảng ủy cơ sở | C13: =SUM(D13:G13) -> 0 | H13: =SUM(J13:M13) -> 0
B14: Chi bộ | C14: =SUM(D14:G14) -> 0 | H14: =SUM(J14:M14) -> 0
A15: II | B15: Cấp kiểm tra | C15: =SUM(C16:C19) -> 0 | H15: =SUM(H16:H19) -> 0 | N15: =SUM(N16:N19) -> 0 | P15: =SUM(P16:P19) -> 0 | Q15: =SUM(Q16:Q19) -> 0 | R15: =SUM(R16:R19) -> 0 | S15: =SUM(S16:S19) -> 0 | T15: =SUM(T16:T19) -> 0 | U15: =SUM(U16:U19) -> 0 | V15: =SUM(V16:V19) -> 0 | W15: =SUM(W16:W19) -> 0 | ... AA15: =SUM(AA16:AA19) -> 0
B16: UBKT Trung ương | C16: =SUM(P16:Q16) -> 0
B17: UBKT tỉnh uỷ và tương đương | C17: =SUM(P17:Q17) -> 0
B18: UBKT đảng ủy cấp trên trực tiếp cơ sở và tương đương | C18: =SUM(P18:Q18) -> 0
B19: UBKT đảng uỷ cơ sở | C19: =SUM(P19:Q19) -> 0

Sheet B17
A1: GIÁM SÁT TỔ CHỨC ĐẢNG CỦA ỦY BAN KIỂM TRA CÁC CẤP | R1: Biểu 17
A2: (Giám sát theo chuyên đề) | Q2: (ĐVT: Tổ chức đảng)
A3: TT | B3: Nội dung | C3: Tổng số tổ chức đảng được giám sát | D3: Cấp giám sát | H3: Nội dung | Q3: Kết quả
D4: UBKT Trung ương | E4: UBKT tỉnh uỷ và tương đương | F4: UBKT đảng ủy cấp trên trực tiếp cơ sở và tương đương | G4: UBKT đảng ủy cơ sở | H4: Việc lãnh đạo, chỉ đạo, tổ chức thực hiện Cương lĩnh chính trị, Điều lệ Đảng, chủ trương, nghị quyết, chỉ thị, quy định, quyết định, quy chế, kết luận của Đảng, của cấp ủy cấp trên | I4: Việc ban hành và tổ chức thực hiện quy chế làm việc | J4: Việc chấp hành chính sách, pháp luật của Nhà nước | K4: Việc ban hành các văn bản có dấu hiệu trái với chủ trương, đường lối, nghị quyết của Đảng, pháp luật Nhà nước | L4: Việc thực hiện các kết luận, quyết định kiểm tra, giám sát và kỷ luật tổ chức đảng, đảng viên vi phạm | M4: Việc thực hiện các thông báo kết luận kiểm tra, giám sát, thanh tra, kiểm toán | N4: Việc lãnh đạo, chỉ đạo và tổ chức thực hiện kê khai, công khai tài sản, thu nhập | O4: Công tác cán bộ | P4: Khác | Q4: Số tổ chức đảng thực hiện tốt | R4: Số tổ chức đảng có hạn chế, khuyết điểm | S4: Số tổ chức đảng chuyển kiểm tra khi có dấu hiệu vi phạm
A5: 1 | B5: 2 | C5: 3 | D5: 4 | E5: 5 | F5: 6 | G5: 7 | H5: 8 | I5: 9 | J5: 10 | K5: 11 | L5: 12 | M5: 13 | N5: 14 | O5: 15 | P5: 16 | Q5: 17 | R5: 18 | S5: 19
A6: I | B6: Tổ chức đảng được giám sát | C6: =SUM(C7:C15) -> 0 | D6: =SUM(D7:D15) -> 0 | E6: =SUM(E7:E15) -> 0 | F6: =SUM(F7:F15) -> 0 | G6: =SUM(G7:G15) -> 0 | H6: =SUM(H7:H15) -> 0 | I6: =SUM(I7:I15) -> 0 | J6: =SUM(J7:J15) -> 0 | ... S6: =SUM(S7:S15) -> 0
B7: Các CQ tham mưu của Trung ương | C7: =SUM(D7:G7) -> 0
B8: Tỉnh ủy, BTV tỉnh ủy và tương đương | C8: =SUM(D8:G8) -> 0
B9: Các CQ tham mưu của cấp ủy tỉnh và tương đương | C9: =SUM(D9:G9) -> 0
B10: Đảng ủy, BTV ĐU cấp trên trực tiếp cơ sở và tương đương | C10: =SUM(D10:G10) -> 0
B11: Các CQ tham mưu của cấp ủy cấp trên trực tiếp cơ sở và tương đương | C11: =SUM(D11:G11) -> 0
B12: Đảng ủy cơ sở, BTV Đảng ủy cơ sở | C12: =SUM(D12:G12) -> 0
B13: Đảng ủy bộ phận | C13: =SUM(D13:G13) -> 0
B14: Chi bộ, Chi ủy | C14: =SUM(D14:G14) -> 0
B15: Khác (ban chỉ đạo, tiểu ban, hội đồng, tổ đảng...) | C15: =SUM(D15:G15) -> 0
A16: II | B16: Kết quả | C16: =SUM(C17:C18) -> 0 | D16: =SUM(D17:D18) -> 0 | E16: =SUM(E17:E18) -> 0 | F16: =SUM(F17:F18) -> 0 | G16: =SUM(G17:G18) -> 0
B17: Số tổ chức đảng thực hiện tốt | C17: =SUM(D17:G17) -> 0
B18: Số tổ chức đảng có hạn chế, khuyết điểm | C18: =SUM(D18:G18) -> 0
B19: Số tổ chức đảng chuyển kiểm tra khi có DHVP | C19: =SUM(D19:G19) -> 0

Sheet B18
A1: GIÁM SÁT ĐẢNG VIÊN CỦA ỦY BAN KIỂM TRA CÁC CẤP | R1: Biểu 18
A2: (Giám sát theo chuyên đề) | Q2: (ĐVT: Đảng viên)
A3: TT | B3: Đảng viên được giám sát | C3: Tổng số đảng viên được giám sát | D3: Cấp giám sát | H3: Nội dung | Q3: Kết quả
D4: UBKT Trung ương | E4: UBKT tỉnh uỷ và tương đương | F4: UBKT đảng ủy cấp trên trực tiếp cơ sở và tương đương | G4: UBKT đảng ủy cơ sở | H4: Việc chấp hành Cương lĩnh chính trị, Điều lệ Đảng, chủ trương, nghị quyết, chỉ thị, quy định, quyết định, quy chế, kết luận của Đảng, của cấp ủy cấp trên và cấp mình | I4: Việc chấp hành chính sách, pháp luật của Nhà nước | J4: Thực hiện các nguyên tắc tổ chức và hoạt động của Đảng, quy chế làm việc, chế độ công tác | K4: Tư tưởng chính trị, giữ gìn đạo đức, lối sống và và trách nhiệm nêu gương | L4: Về tiêu chuẩn đảng viên, tiêu chuẩn cấp ủy viên | M4: Về thực hiện nhiệm vụ đảng viên, nhiệm vụ cấp ủy viên | N4: Việc thực hiện các thông báo kết luận kiểm tra, giám sát, thanh tra, kiểm toán | O4: Kê khai tài sản, thu nhập cá nhân | P4: Khác | Q4: Số đảng viên thực hiện tốt | R4: Số đảng viên có hạn chế, khuyết điểm | S4: Số đảng viên chuyển kiểm tra khi có dấu hiệu vi phạm
A5: 1 | B5: 2 | C5: 3 | D5: 4 | E5: 5 | F5: 6 | G5: 7 | H5: 8 | I5: 9 | J5: 10 | K5: 11 | L5: 12 | M5: 13 | N5: 14 | O5: 15 | P5: 16 | Q5: 17 | R5: 18 | S5: 19
A6: I | B6: Cấp quản lý đảng viên | C6: =SUM(C7:C10) -> 0 | D6: =SUM(D7:D10) -> 0 | E6: =SUM(E7:E10) -> 0 | F6: =SUM(F7:F10) -> 0 | G6: =SUM(G7:G10) -> 0 | H6: =SUM(H7:H10) -> 0 | I6: =SUM(I7:I10) -> 0 | J6: =SUM(J7:J10) -> 0 | ... S6: =SUM(S7:S10) -> 0
B7: Trung ương | C7: =SUM(D7:G7) -> 0
B8: Cấp tỉnh và tương đương | C8: =SUM(D8:G8) -> 0
B9: Cấp trên trực tiếp cơ sở và tương đương | C9: =SUM(D9:G9) -> 0
B10: Cấp cơ sở | C10: =SUM(D10:G10) -> 0
A11: II | B11: Cấp ủy viên các cấp | C11: =C12+C13+C16+C19+C20+C21 -> 0 | D11: =D12+D13+D16+D19+D20+D21 -> 0 | E11: =E12+E13+E16+E19+E20+E21 -> 0 | F11: =F12+F13+F16+F19+F20+F21 -> 0 | G11: =G12+G13+G16+G19+G20+G21 -> 0 | H11: =H12+H13+H16+H19+H20+H21 -> 0 | I11: =I12+I13+I16+I19+I20+I21 -> 0 | J11: =J12+J13+J16+J19+J20+J21 -> 0 | ... S11: =S12+S13+S16+S19+S20+S21 -> 0
B12: Uỷ viên Trung ương | C12: =SUM(D12:G12) -> 0
B13: Tỉnh ủy viên và tương đương | C13: =SUM(D13:G13) -> 0
B14: Trong đó: Bí thư | C14: =SUM(D14:G14) -> 0
B15: Phó Bí thư | C15: =SUM(D15:G15) -> 0
B16: Đảng ủy viên ĐU cấp trên trực tiếp cơ sở và tương đương | C16: =SUM(D16:G16) -> 0
B17: Trong đó: Bí thư | C17: =SUM(D17:G17) -> 0
B18: Phó Bí thư | C18: =SUM(D18:G18) -> 0
B19: Đảng uỷ viên đảng ủy cơ sở | C19: =SUM(D19:G19) -> 0
B20: Đảng ủy viên đảng ủy bộ phận | C20: =SUM(D20:G20) -> 0
B21: Chi uỷ viên | C21: =SUM(D21:G21) -> 0
A22: III | B22: Đảng viên ở các lĩnh vực | C22: =SUM(C23:C29) -> 0 | D22: =SUM(D23:D29) -> 0 | E22: =SUM(E23:E29) -> 0 | F22: =SUM(F23:F29) -> 0 | G22: =SUM(G23:G29) -> 0 | H22: =SUM(H23:H29) -> 0 | I22: =SUM(I23:I29) -> 0 | J22: =SUM(J23:J29) -> 0 | ... S22: =SUM(S23:S29) -> 0
B23: Đảng | C23: =SUM(D23:G23) -> 0
B24: Hành chính, Nhà nước | C24: =SUM(D24:G24) -> 0
B25: Đoàn thể | C25: =SUM(D25:G25) -> 0
B26: Lực lượng vũ trang | C26: =SUM(D26:G26) -> 0
B27: Sự nghiệp công lập | C27: =SUM(D27:G27) -> 0
B28: Sản xuất kinh doanh, dịch vụ | C28: =SUM(D28:G28) -> 0
B29: Các lĩnh vực khác | C29: =SUM(D29:G29) -> 0
A30: IV | B30: Kết quả | C30: =SUM(C31:C32) -> 0 | D30: =SUM(D31:D32) -> 0 | E30: =SUM(E31:E32) -> 0 | F30: =SUM(F31:F32) -> 0 | G30: =SUM(G31:G32) -> 0
B31: Số đảng viên thực hiện tốt | C31: =SUM(D31:G31) -> 0
B32: Số đảng viên có hạn chế, khuyết điểm | C32: =SUM(D32:G32) -> 0
B33: Số đảng viên chuyển kiểm tra khi có DHVP | C33: =SUM(D33:G33) -> 0

Sheet B19
A1: THI HÀNH KỶ LUẬT TỔ CHỨC ĐẢNG CỦA ỦY BAN KIỂM TRA CÁC CẤP | O1: Biểu 19
M2: (ĐVT: Tổ chức đảng)
A3: TT | B3: Tổ chức đảng bị thi hành kỷ luật | C3: Tổng số tổ chức đảng bị thi hành kỷ luật | D3: Hình thức kỷ luật | F3: Cấp thi hành kỷ luật | I3: Nội dung vi phạm
D4: Khiển trách | E4: Cảnh cáo | F4: UBKT Trung ương | G4: UBKT tỉnh ủy và tương đương | H4: UBKT đảng ủy cấp trên trực tiếp cơ sở và tương đương | I4: Việc chấp hành Cương lĩnh chính trị, Điều lệ Đảng, chủ trương, nghị quyết, chỉ thị, quy định, quyết định, quy chế, kết luận, hướng dẫn của Đảng | J4: Việc chấp hành chính sách, pháp luật của Nhà nước | K4: Việc chấp hành các nguyên tắc tổ chức và hoạt động của Đảng, giữ gìn đoàn kết nội bộ, quy chế làm việc, chế độ công tác, thực hiện dân chủ trong Đảng | L4: Việc lãnh đạo, chỉ đạo thực hành tiết kiệm; phòng, chống tham nhũng, lãng phí; quản lý, rèn luyện phẩm chất, đạo đức, lối sống của đảng viên | M4: Việc lãnh đạo, chỉ đạo và tổ chức thực hiện cải cách hành chính, cải cách tư pháp | N4: Việc lãnh đạo, chỉ đạo các cơ quan bảo vệ pháp luật trong công tác điều tra, truy tố, xét xử, thi hành án | O4: Công tác cán bộ | P4: Giải quyết khiếu nại, tố cáo | Q4: Khác
A5: 1 | B5: 2 | C5: 3 | D5: 4 | E5: 5 | F5: 6 | G5: 7 | H5: 8 | I5: 9 | J5: 10 | K5: 11 | L5: 12 | M5: 13 | N5: 14 | O5: 15 | P5: 16 | Q5: 17
A6: I | B6: Tổ chức đảng bị THKL | C6: =SUM(C7:C13) -> 0 | D6: =SUM(D7:D13) -> 0 | E6: =SUM(E7:E13) -> 0 | F6: =SUM(F7:F13) -> 0 | G6: =SUM(G7:G13) -> 0 | H6: =SUM(H7:H13) -> 0 | I6: =SUM(I7:I13) -> 0 | J6: =SUM(J7:J13) -> 0 | ... Q6: =SUM(Q7:Q13) -> 0
B7: Các CQ tham mưu của cấp ủy tỉnh và tương đương | C7: =SUM(D7:E7) -> 0
B8: Đảng ủy, BTV ĐU cấp trên trực tiếp cơ sở và tương đương | C8: =SUM(D8:E8) -> 0
B9: Các CQ tham mưu của cấp ủy cấp trên trực tiếp cơ sở và tương đương | C9: =SUM(D9:E9) -> 0
B10: Đảng uỷ cơ sở, BTV đảng ủy cơ sở | C10: =SUM(D10:E10) -> 0
B11: Đảng uỷ bộ phận | C11: =SUM(D11:E11) -> 0
B12: Chi bộ, Chi ủy | C12: =SUM(D12:E12) -> 0
B13: Khác (ban chỉ đạo, tiểu ban, hội đồng, tổ đảng...) | C13: =SUM(D13:E13) -> 0
A14: II | B14: Bị THKL từ nhiệm vụ | C14: =SUM(C15:C19) -> 0 | D14: =SUM(D15:D19) -> 0 | E14: =SUM(E15:E19) -> 0 | F14: =SUM(F15:F19) -> 0 | G14: =SUM(G15:G19) -> 0 | H14: =SUM(H15:H19) -> 0 | I14: =SUM(I15:I19) -> 0 | J14: =SUM(J15:J19) -> 0 | ... Q14: =SUM(Q15:Q19) -> 0
B15: Kiểm tra khi có DHVP | C15: =SUM(D15:E15) -> 0
B16: Giải quyết tố cáo | C16: =SUM(D16:E16) -> 0
B17: Kiểm tra tài chính đảng về thu chi NSNN và SXKD | C17: =SUM(D17:E17) -> 0
B18: Kiểm tra tài chính đảng về thu nộp, quản lý sử dụng đảng phí | C18: =SUM(D18:E18) -> 0
B19: Khác (từ đề nghị của TCĐ, UBKT cấp dưới, từ chỉ đạo của cấp trên giao...) | C19: =SUM(D19:E19) -> 0
A20: III | B20: Cấp thi hành kỷ luật | C20: =SUM(C21:C23) -> 0 | D20: =SUM(D21:D23) -> 0 | E20: =SUM(E21:E23) -> 0
B21: UBKT Trung ương | C21: =SUM(D21:E21) -> 0
B22: UBKT tỉnh ủy và tương đương | C22: =SUM(D22:E22) -> 0
B23: UBKT đảng ủy cấp trên trực tiếp cơ sở và tương đương | C23: =SUM(D23:E23) -> 0

Sheet B20
A1: THI HÀNH KỶ LUẬT ĐẢNG VIÊN CỦA ỦY BAN KIỂM TRA CÁC CẤP | Y1: Biểu 20
W2: (ĐVT: lượt đảng viên)
A3: TT | B3: Đảng viên bị thi hành kỷ luật | C3: Tổng số đảng viên bị thi hành kỷ luật | D3: Hình thức kỷ luật | H3: Đình chỉ sinh hoạt đảng | I3: Đình chỉ sinh hoạt cấp ủy | J3: Cấp THKL | N3: Nội dung vi phạm | W3: Xử lý pháp luật | Z3: Xử lý hành chính | AA3: Xử lý đoàn thể
D4: Khiển trách | E4: Cảnh cáo | F4: Cách chức | G4: Khai trừ | J4: UBKT Trung ương | K4: UBKT tỉnh uỷ và tương đương | L4: UBKT đảng ủy cấp trên trực tiếp cơ sở và tương đương | M4: UBKT đảng ủy cơ sở | N4: Những điều đảng viên không được làm | O4: Tiêu chuẩn đảng viên, tiêu chuẩn cấp ủy viên | P4: Việc thực hiện nhiệm vụ đảng viên, cấp ủy viên | Q4: Việc chấp hành nghị quyết, chỉ thị, quy định, kết luận của Đảng; chính sách, pháp luật của Nhà nước | R4: Việc chấp hành quy chế làm việc, nguyên tắc tập trung dân chủ, chế độ công tác | S4: Tư tưởng chính trị, đạo đức, lối sống, trách nhiệm nêu gương | T4: Tham nhũng, cố ý làm trái | U4: Kê khai tài sản, thu nhập | V4: Khác | W4: Số lượng | X4: Trong đó
X5: Bị phạt tù (kể cả án treo) | Y5: Hình thức khác
A6: 1 | B6: 2 | C6: 3 | D6: 4 | E6: 5 | F6: 6 | G6: 7 | H6: 8 | I6: 9 | J6: 10 | K6: 11 | L6: 12 | M6: 13 | N6: 14 | O6: 15 | P6: 16 | Q6: 17 | R6: 18 | S6: 19 | T6: 20 | U6: 21 | V6: 22 | W6: 23 | X6: 24 | Y6: 25 | Z6: 26 | AA6: 27
A7: I | B7: Cấp quản lý đảng viên | C7: =SUM(C8:C11) -> 0 | D7: =SUM(D8:D11) -> 0 | E7: =SUM(E8:E11) -> 0 | F7: =SUM(F8:F11) -> 0 | G7: =SUM(G8:G11) -> 0 | H7: =SUM(H8:H11) -> 0 | I7: =SUM(I8:I11) -> 0 | J7: =SUM(J8:J11) -> 0 | ... AA7: =SUM(AA8:AA11) -> 0
B8: Trung ương | C8: =SUM(D8:G8) -> 0 | W8: =SUM(X8:Y8) -> 0
B9: Cấp tỉnh và tương đương | C9: =SUM(D9:G9) -> 0 | W9: =SUM(X9:Y9) -> 0
B10: Cấp trên trực tiếp cơ sở và tương đương | C10: =SUM(D10:G10) -> 0 | W10: =SUM(X10:Y10) -> 0
B11: Cấp cơ sở | C11: =SUM(D11:G11) -> 0 | W11: =SUM(X11:Y11) -> 0
A12: II | B12: Là cấp uỷ viên các cấp | C12: =SUM(C13:C17) -> 0 | D12: =SUM(D13:D17) -> 0 | E12: =SUM(E13:E17) -> 0 | F12: =SUM(F13:F17) -> 0 | G12: =SUM(G13:G17) -> 0 | H12: =SUM(H13:H17) -> 0 | I12: =SUM(I13:I17) -> 0 | J12: =SUM(J13:J17) -> 0 | ... AA12: =SUM(AA13:AA17) -> 0
B13: Tỉnh ủy viên và tương đương | C13: =SUM(D13:G13) -> 0 | W13: =SUM(X13:Y13) -> 0
B14: Đảng ủy viên ĐU cấp trên trực tiếp cơ sở và tương đương | C14: =SUM(D14:G14) -> 0 | W14: =SUM(X14:Y14) -> 0
B15: Đảng ủy viên đảng ủy cơ sở | C15: =SUM(D15:G15) -> 0 | W15: =SUM(X15:Y15) -> 0
B16: Đảng ủy viên đảng ủy bộ phận | C16: =SUM(D16:G16) -> 0 | W16: =SUM(X16:Y16) -> 0
B17: Chi ủy viên | C17: =SUM(D17:G17) -> 0 | W17: =SUM(X17:Y17) -> 0
A18: III | B18: Đảng viên ở các lĩnh vực | C18: =SUM(C19:C25) -> 0 | D18: =SUM(D19:D25) -> 0 | E18: =SUM(E19:E25) -> 0 | F18: =SUM(F19:F25) -> 0 | G18: =SUM(G19:G25) -> 0 | H18: =SUM(H19:H25) -> 0 | I18: =SUM(I19:I25) -> 0 | J18: =SUM(J19:J25) -> 0 | ... AA18: =SUM(AA19:AA25) -> 0
B19: Đảng | C19: =SUM(D19:G19) -> 0 | W19: =SUM(X19:Y19) -> 0
B20: Hành chính, Nhà nước | C20: =SUM(D20:G20) -> 0 | W20: =SUM(X20:Y20) -> 0
B21: Đoàn thể | C21: =SUM(D21:G21) -> 0 | W21: =SUM(X21:Y21) -> 0
B22: Lực lượng vũ trang | C22: =SUM(D22:G22) -> 0 | W22: =SUM(X22:Y22) -> 0
B23: Sự nghiệp công lập | C23: =SUM(D23:G23) -> 0 | W23: =SUM(X23:Y23) -> 0
B24: SXKD, dịch vụ | C24: =SUM(D24:G24) -> 0 | W24: =SUM(X24:Y24) -> 0
B25: Lĩnh vực khác | C25: =SUM(D25:G25) -> 0 | W25: =SUM(X25:Y25) -> 0
A26: IV | B26: Bị THKL từ nhiệm vụ | C26: =SUM(C27:C31) -> 0 | D26: =SUM(D27:D31) -> 0 | E26: =SUM(E27:E31) -> 0 | F26: =SUM(F27:F31) -> 0 | G26: =SUM(G27:G31) -> 0 | J26: =SUM(J27:J31) -> 0 | K26: =SUM(K27:K31) -> 0 | L26: =SUM(L27:L31) -> 0 | M26: =SUM(M27:M31) -> 0 | N26: =SUM(N27:N31) -> 0 | O26: =SUM(O27:O31) -> 0 | P26: =SUM(P27:P31) -> 0 | Q26: =SUM(Q27:Q31) -> 0 | ... AA26: =SUM(AA27:AA31) -> 0
B27: Kiểm tra khi có DHVP | C27: =SUM(D27:G27) -> 0 | W27: =SUM(X27:Y27) -> 0
B28: Giải quyết tố cáo | C28: =SUM(D28:G28) -> 0 | W28: =SUM(X28:Y28) -> 0
B29: Kiểm tra tài chính đảng (thu chi NSNN và SXKD) | C29: =SUM(D29:G29) -> 0 | W29: =SUM(X29:Y29) -> 0
B30: Kiểm tra tài chính đảng (thu nộp, quản lý sử dụng ĐP) | C30: =SUM(D30:G30) -> 0 | W30: =SUM(X30:Y30) -> 0
B31: Khác (từ đề nghị của TCĐ cấp dưới, từ chỉ đạo của cấp trên...) | C31: =SUM(D31:G31) -> 0 | W31: =SUM(X31:Y31) -> 0
A32: V | B32: Cấp THKL | C32: =SUM(C33:C36) -> 0 | D32: =SUM(D33:D36) -> 0 | E32: =SUM(E33:E36) -> 0 | F32: =SUM(F33:F36) -> 0 | G32: =SUM(G33:G36) -> 0 | H32: =SUM(H33:H36) -> 0 | I32: =SUM(I33:I36) -> 0
B33: UBKT Trung ương | C33: =SUM(D33:G33) -> 0
B34: UBKT tỉnh uỷ và tương đương | C34: =SUM(D34:G34) -> 0
B35: UBKT đảng ủy cấp trên trực tiếp cơ sở và tương đương | C35: =SUM(D35:G35) -> 0
B36: UBKT đảng ủy cơ sở | C36: =SUM(D36:G36) -> 0

Sheet B21
A1: GIẢI QUYẾT TỐ CÁO TỔ CHỨC ĐẢNG CỦA ỦY BAN KIỂM TRA CÁC CẤP | S1: Biểu 21
O2: (ĐVT: Lượt giải quyết tố cáo Tổ chức đảng)
A3: TT | B3: Tổ chức đảng bị tố cáo | C3: Tổng số tổ chức đảng bị tố cáo đã giải quyết xong | D3: Cấp giải quyết | H3: Nội dung tố cáo | O3: Kết luận
D4: UBKT Trung ương | E4: UBKT tỉnh uỷ và tương đương | F4: UBKT đảng ủy cấp trên trực tiếp cơ sở và tương đương | G4: UBKT đảng uỷ cơ sở | H4: Việc chấp hành Cương lĩnh chính trị, Điều lệ Đảng, chủ trương, nghị quyết, chỉ thị, quy định, quy chế, kết luận của Đảng | I4: Việc chấp hành chính sách, pháp luật của Nhà nước | J4: Các nguyên tắc tổ chức và hoạt động của Đảng | K4: Đoàn kết nội bộ | L4: Việc thực hành tiết kiệm, phòng, chống tham nhũng, lãng phí, tiêu cực | M4: Công tác cán bộ | N4: Khác | O4: Cho rút đơn, không xem xét giải quyết | P4: Chưa có cơ sở kết luận | Q4: Tố sai | R4: Tố đúng và đúng một phần | S4: Trong đó
S5: Tố đúng, có vi phạm chưa đến mức phải kỷ luật | T5: Phải thi hành kỷ luật | U5: Đã thi hành kỷ luật
A6: 1 | B6: 2 | C6: 3 | D6: 4 | E6: 5 | F6: 6 | G6: 7 | H6: 8 | I6: 9 | J6: 10 | K6: 11 | L6: 12 | M6: 13 | N6: 14 | O6: 15 | P6: 16 | Q6: 17 | R6: 18 | S6: 19 | T6: 20 | U6: 21
A7: I | B7: Tổng số TCĐ bị tố cáo | C7: =SUM(C8:C13) -> 0 | D7: =SUM(D8:D13) -> 0 | E7: =SUM(E8:E13) -> 0 | F7: =SUM(F8:F13) -> 0 | G7: =SUM(G8:G13) -> 0 | H7: =SUM(H8:H13) -> 0 | I7: =SUM(I8:I13) -> 0 | J7: =SUM(J8:J13) -> 0 | ... U7: =SUM(U8:U13) -> 0
B8: Tỉnh ủy, BTV tỉnh ủy và tương đương | C8: =SUM(D8:G8) -> 0
B9: Đảng ủy, BTV ĐU cấp trên trực tiếp cơ sở và tương đương | C9: =SUM(D9:G9) -> 0
B10: Đảng ủy, BTV đảng ủy cơ sở | C10: =SUM(D10:G10) -> 0
B11: Đảng ủy bộ phận | C11: =SUM(D11:G11) -> 0
B12: Chi bộ, Chi ủy | C12: =SUM(D12:G12) -> 0
B13: Khác (tiểu ban, hội đồng, tổ đảng...) | C13: =SUM(D13:G13) -> 0
A14: II | B14: Kết luận giải quyết tố cáo | C14: =SUM(D14:G14) -> 0 | D14: =SUM(D15:D18) -> 0 | E14: =SUM(E15:E18) -> 0 | F14: =SUM(F15:F18) -> 0 | G14: =SUM(G15:G18) -> 0 | H14: =SUM(H15:H18) -> 0 | I14: =SUM(I15:I18) -> 0 | J14: =SUM(J15:J18) -> 0 | K14: =SUM(K15:K18) -> 0 | ... N14: =SUM(N15:N18) -> 0
B15: Cho rút đơn, không xem xét giải quyết | C15: =SUM(D15:G15) -> 0
B16: Chưa có cơ sở kết luận | C16: =SUM(D16:G16) -> 0
B17: Tố sai | C17: =SUM(D17:G17) -> 0
B18: Tố đúng và đúng một phần | C18: =SUM(D18:G18) -> 0
B19: Đúng có vi phạm chưa đến mức phải kỷ luật | C19: =SUM(D19:G19) -> 0
B20: Phải thi hành kỷ luật | C20: =SUM(D20:G20) -> 0
B21: Đã thi hành kỷ luật | C21: =SUM(D21:G21) -> 0
B22: Giải quyết đúng thời gian quy định | C22: =SUM(D22:G22) -> 0

Sheet B22
A1: GIẢI QUYẾT TỐ CÁO ĐỐI VỚI ĐẢNG VIÊN CỦA ỦY BAN KIỂM TRA CÁC CẤP | W1: Biểu 22
R2: (ĐVT: lượt giải quyết tố cáo đảng viên)
A3: TT | B3: Đảng viên bị tố cáo | C3: Đã giải quyết xong | D3: Cấp giải quyết | H3: Nội dung tố cáo | R3: Kết luận
D4: UBKT Trung ương | E4: UBKT tỉnh uỷ và tương đương | F4: UBKT đảng ủy cấp trên trực tiếp cơ sở và tương đương | G4: UBKT đảng uỷ cơ sở | H4: Tiêu chuẩn đảng viên, tiêu chuẩn cấp ủy viên | I4: Việc chấp hành Cương lĩnh chính trị, Điều lệ Đảng, chủ trương, nghị quyết, chỉ thị, quy định, quy chế, kết luận của Đảng | J4: Về nguyên tắc tổ chức và sinh hoạt đảng | K4: Về thực hiện chức trách, nhiệm vụ được giao | L4: Về phẩm chất đạo đức, lối sống và trách nhiệm nêu gương | M4: Tham nhũng, cố ý làm trái | N4: Đất đai, tài nguyên, khoáng sản, nhà ở, môi trường | O4: Tài chính, ngân hàng, đầu tư,xây dựng, y tế, khoa học công nghệ | P4: Kê khai tài sản, thu nhập | Q4: Khác | R4: Cho rút đơn, không xem xét giải quyết | S4: Chưa có cơ sở kết luận | T4: Tố sai | U4: Tố đúng và đúng một phần | V4: Trong đó
V5: Tố đúng, có vi phạm nhưng chưa đến mức phải kỷ luật | W5: Phải thi hành kỷ luật | X5: Đã thi hành kỷ luật
A6: 1 | B6: 2 | C6: 3 | D6: 4 | E6: 5 | F6: 6 | G6: 7 | H6: 8 | I6: 9 | J6: 10 | K6: 11 | L6: 12 | M6: 13 | N6: 14 | O6: 15 | P6: 16 | Q6: 17 | R6: 18 | S6: 19 | T6: 20 | U6: 21 | V6: 22 | W6: 23 | X6: 24
A7: I | B7: Cấp quản lý đảng viên | C7: =SUM(C8:C11) -> 0 | D7: =SUM(D8:D11) -> 0 | E7: =SUM(E8:E11) -> 0 | F7: =SUM(F8:F11) -> 0 | G7: =SUM(G8:G11) -> 0 | H7: =SUM(H8:H11) -> 0 | I7: =SUM(I8:I11) -> 0 | J7: =SUM(J8:J11) -> 0 | ... X7: =SUM(X8:X11) -> 0
B8: Trung ương | C8: =SUM(D8:G8) -> 0
B9: Cấp tỉnh và tương đương | C9: =SUM(D9:G9) -> 0
B10: Cấp trên trực tiếp cơ sở và tương đương | C10: =SUM(D10:G10) -> 0
B11: Cấp cơ sở | C11: =SUM(D11:G11) -> 0
A12: II | B12: Là cấp uỷ viên các cấp | C12: =SUM(C13:C18) -> 0 | D12: =SUM(D13:D18) -> 0 | E12: =SUM(E13:E18) -> 0 | F12: =SUM(F13:F18) -> 0 | G12: =SUM(G13:G18) -> 0 | H12: =SUM(H13:H18) -> 0 | I12: =SUM(I13:I18) -> 0 | J12: =SUM(J13:J18) -> 0 | ... X12: =SUM(X13:X18) -> 0
B13: Uỷ viên Trung ương | C13: =SUM(D13:G13) -> 0
B14: Tỉnh uỷ viên và tương đương | C14: =SUM(D14:G14) -> 0
B15: Đảng ủy viên ĐU cấp trên trực tiếp cơ sở và tương đương | C15: =SUM(D15:G15) -> 0
B16: Đảng ủy viên đảng ủy cơ sở | C16: =SUM(D16:G16) -> 0
B17: Đảng ủy viên đảng ủy bộ phận | C17: =SUM(D17:G17) -> 0
B18: Chi uỷ viên | C18: =SUM(D18:G18) -> 0
A19: III | B19: Đảng viên ở các lĩnh vực | C19: =SUM(C20:C26) -> 0 | D19: =SUM(D20:D26) -> 0 | E19: =SUM(E20:E26) -> 0 | F19: =SUM(F20:F26) -> 0 | G19: =SUM(G20:G26) -> 0 | H19: =SUM(H20:H26) -> 0 | I19: =SUM(I20:I26) -> 0 | J19: =SUM(J20:J26) -> 0 | ... X19: =SUM(X20:X26) -> 0
B20: Đảng | C20: =SUM(D20:G20) -> 0
B21: Hành chính, Nhà nước | C21: =SUM(D21:G21) -> 0
B22: Đoàn thể | C22: =SUM(D22:G22) -> 0
B23: Lực lượng vũ trang | C23: =SUM(D23:G23) -> 0
B24: Sự nghiệp công lập | C24: =SUM(D24:G24) -> 0
B25: Sản xuất kinh doanh, dịch vụ | C25: =SUM(D25:G25) -> 0
B26: Các lĩnh vực khác | C26: =SUM(D26:G26) -> 0
A27: IV | B27: Kết luận | C27: =SUM(C28:C31) -> 0 | D27: =SUM(D28:D31) -> 0 | E27: =SUM(E28:E31) -> 0 | F27: =SUM(F28:F31) -> 0 | G27: =SUM(G28:G31) -> 0 | H27: =SUM(H28:H31) -> 0 | I27: =SUM(I28:I31) -> 0 | J27: =SUM(J28:J31) -> 0 | ... Q27: =SUM(Q28:Q31) -> 0
B28: Cho rút đơn, không xem xét giải quyết | C28: =SUM(D28:G28) -> 0
B29: Chưa có cơ sở kết luận | C29: =SUM(D29:G29) -> 0
B30: Tố sai | C30: =SUM(D30:G30) -> 0
B31: Tố đúng và đúng một phần | C31: =SUM(D31:G31) -> 0
B32: Đúng có vi phạm nhưng chưa đến mức phải kỷ luật | C32: =SUM(D32:G32) -> 0
B33: Phải thi hành kỷ luật | C33: =SUM(D33:G33) -> 0
B34: Đã thi hành kỷ luật | C34: =SUM(D34:G34) -> 0
B35: GQ đúng thời gian quy định | C35: =SUM(D35:G35) -> 0

Sheet B23
A1: GIẢI QUYẾT KHIẾU NẠI KỶ LUẬT TỔ CHỨC ĐẢNG CỦA ỦY BAN KIỂM TRA CÁC CẤP | R1: Biểu 23
Q2: (ĐVT: Tổ chức đảng)
A3: TT | B3: Nội dung | C3: Đã giải quyết xong | D3: Cấp giải quyết khiếu nại | H3: Nội dung khiếu nại | K3: Kết luận
D4: UBKT Trung ương | E4: UBKT tỉnh uỷ và tương đương | F4: UBKT đảng ủy cấp trên trực tiếp cơ sở và tương đương | G4: UBKT đảng uỷ cơ sở | H4: Nội dung vi phạm | I4: Hình thức kỷ luật | J4: Nguyên tắc, thủ tục, quy trình, thẩm quyền | K4: Cho rút đơn, không xem xét giải quyết | L4: Giữ nguyên hình thức kỷ luật | M4: Thay đổi hình thức kỷ luật | N4: Trong đó | Q4: Nguyên nhân thay đổi hình thức kỷ luật
N5: Tăng hình thức kỷ luật | O5: Giảm hình thức kỷ luật | P5: Xoá kỷ luật | Q5: Vận dụng phương hướng, phương châm THKL | R5: Thẩm tra, xác minh | S5: Khác
A6: 1 | B6: 2 | C6: 3 | D6: 4 | E6: 5 | F6: 6 | G6: 7 | H6: 8 | I6: 9 | J6: 10 | K6: 11 | L6: 12 | M6: 13 | N6: 14 | O6: 15 | P6: 16 | Q6: 17 | R6: 18 | S6: 19
A7: I | B7: Tổ chức đảng khiếu nại kỷ luật đảng | C7: =SUM(C8:C15) -> 0 | D7: =SUM(D8:D15) -> 0 | E7: =SUM(E8:E15) -> 0 | F7: =SUM(F8:F15) -> 0 | G7: =SUM(G8:G15) -> 0 | H7: =SUM(H8:H15) -> 0 | I7: =SUM(I8:I15) -> 0 | J7: =SUM(J8:J15) -> 0 | ... S7: =SUM(S8:S15) -> 0
B8: Các CQ tham mưu của cấp ủy tỉnh và tương đương | C8: =SUM(D8:G8) -> 0
B9: Đảng ủy cấp trên trực tiếp cơ sở và tương đương | C9: =SUM(D9:G9) -> 0
B10: BTV đảng ủy cấp trên trực tiếp cơ sở và tương đương | C10: =SUM(D10:G10) -> 0
B11: Các CQ tham mưu của cấp ủy cấp trên trực tiếp cơ sở và tương đương | C11: =SUM(D11:G11) -> 0
B12: Đảng uỷ cơ sở, BTV đảng ủy cơ sở | C12: =SUM(D12:G12) -> 0
B13: Đảng uỷ bộ phận | C13: =SUM(D13:G13) -> 0
B14: Chi bộ, Chi ủy | C14: =SUM(D14:G14) -> 0
B15: Khác (ban chỉ đạo, tiểu ban, hội đồng, tổ đảng,...) | C15: =SUM(D15:G15) -> 0
A16: II | B16: Kết luận | C16: =SUM(C17:C19) -> 0 | D16: =SUM(D17:D19) -> 0 | E16: =SUM(E17:E19) -> 0 | F16: =SUM(F17:F19) -> 0 | G16: =SUM(G17:G19) -> 0
B17: Cho rút đơn, không xem xét giải quyết | C17: =SUM(D17:G17) -> 0
B18: Giữ nguyên hình thức kỷ luật | C18: =SUM(D18:G18) -> 0
B19: Thay đổi hình thức kỷ luật | C19: =SUM(D19:G19) -> 0
B20: Tăng hình thức kỷ luật | C20: =SUM(D20:G20) -> 0
B21: Giảm hình thức kỷ luật | C21: =SUM(D21:G21) -> 0
B22: Xoá kỷ luật | C22: =SUM(D22:G22) -> 0
B23: GQ đúng thời gian quy định | C23: =SUM(D23:G23) -> 0

Sheet B24
A1: GIẢI QUYẾT KHIẾU NẠI KỶ LUẬT ĐẢNG VIÊN CỦA ỦY BAN KIỂM TRA CÁC CẤP | R1: Biểu 24
Q2: (ĐVT: Đảng viên)
A3: TT | B3: Đảng viên khiếu nại kỷ luật | C3: Tổng số đã giải quyết xong | D3: Cấp giải quyết | H3: Nội dung khiếu nại | K3: Kết luận
D4: UBKT Trung ương | E4: UBKT tỉnh uỷ và tương đương | F4: UBKT đảng ủy cấp trên trực tiếp cơ sở và tương đương | G4: UBKT đảng ủy cơ sở | H4: Nội dung vi phạm | I4: Hình thức kỷ luật | J4: Nguyên tắc, thủ tục, quy trình, thẩm quyền | K4: Cho rút đơn, không xem xét, giải quyết | L4: Giữ nguyên hình thức kỷ luật | M4: Thay đổi hình thức kỷ luật | N4: Trong đó | Q4: Nguyên nhân thay đổi hình thức kỷ luật
N5: Tăng hình thức kỷ luật | O5: Giảm hình thức kỷ luật | P5: Xoá kỷ luật | Q5: Vận dụng phương hướng, phương châm thi hành kỷ luật | R5: Thẩm tra, xác minh | S5: Khác
A6: 1 | B6: 2 | C6: 3 | D6: 4 | E6: 5 | F6: 6 | G6: 7 | H6: 8 | I6: 9 | J6: 10 | K6: 11 | L6: 12 | M6: 13 | N6: 14 | O6: 15 | P6: 16 | Q6: 17 | R6: 18 | S6: 19
A7: I | B7: Cấp quyết định kỷ luật | C7: =SUM(C8:C16) -> 0 | D7: =SUM(D8:D16) -> 0 | E7: =SUM(E8:E16) -> 0 | F7: =SUM(F8:F16) -> 0 | G7: =SUM(G8:G16) -> 0 | H7: =SUM(H8:H16) -> 0 | I7: =SUM(I8:I16) -> 0 | J7: =SUM(J8:J16) -> 0 | ... S7: =SUM(S8:S16) -> 0
B8: Tỉnh ủy và tương đương | C8: =SUM(D8:G8) -> 0
B9: BTV tỉnh ủy và tương đương | C9: =SUM(D9:G9) -> 0
B10: UBKT tỉnh uỷ và tương đương | C10: =SUM(D10:G10) -> 0
B11: Đảng ủy cấp trên trực tiếp cơ sở và tương đương | C11: =SUM(D11:G11) -> 0
B12: BTV ĐU cấp trên trực tiếp cơ sở và tương đương | C12: =SUM(D12:G12) -> 0
B13: UBKT đảng ủy cấp trên trực tiếp cơ sở và tương đương | C13: =SUM(D13:G13) -> 0
B14: Đảng ủy cơ sở | C14: =SUM(D14:G14) -> 0
B15: UBKT Đảng ủy cơ sở | C15: =SUM(D15:G15) -> 0
B16: Chi bộ | C16: =SUM(D16:G16) -> 0
A17: II | B17: Cấp quản lý đảng viên | C17: =SUM(C18:C21) -> 0 | D17: =SUM(D18:D21) -> 0 | E17: =SUM(E18:E21) -> 0 | F17: =SUM(F18:F21) -> 0 | G17: =SUM(G18:G21) -> 0 | H17: =SUM(H18:H21) -> 0 | I17: =SUM(I18:I21) -> 0 | J17: =SUM(J18:J21) -> 0 | ... S17: =SUM(S18:S21) -> 0
B18: Trung ương | C18: =SUM(D18:G18) -> 0
B19: Cấp tỉnh và tương đương | C19: =SUM(D19:G19) -> 0
B20: Cấp trên trực tiếp cơ sở và tương đương | C20: =SUM(D20:G20) -> 0
B21: Cấp cơ sở | C21: =SUM(D21:G21) -> 0
A22: III | B22: Kết luận | C22: =SUM(C23:C25) -> 0 | D22: =SUM(D23:D25) -> 0 | E22: =SUM(E23:E25) -> 0 | F22: =SUM(F23:F25) -> 0 | G22: =SUM(G23:G25) -> 0
B23: Cho rút đơn, không xem xét giải quyết | C23: =SUM(D23:G23) -> 0
B24: Giữ nguyên hình thức kỷ luật | C24: =SUM(D24:G24) -> 0
B25: Thay đổi hình thức kỷ luật | C25: =SUM(D25:G25) -> 0
B26: Tăng hình thức kỷ luật | C26: =SUM(D26:G26) -> 0
B27: Giảm hình thức kỷ luật | C27: =SUM(D27:G27) -> 0
B28: Xoá kỷ luật | C28: =SUM(D28:G28) -> 0
B29: GQ đúng thời gian quy định | C29: =SUM(D29:G29) -> 0

Sheet B25
A1: KIỂM TRA TÀI CHÍNH ĐẢNG (VỀ THU CHI NGÂN SÁCH VÀ SẢN XUẤT KINH DOANH) | AC1: Biểu 25
A3: TT | B3: Nội dung | C3: Tổng số tổ chức đảng được kiểm tra | D3: Cấp kiểm tra (ĐVT: TCĐ) | H3: Nội dung kiểm tra (ĐVT: TCĐ) | N3: Kết luận
N4: Số TCĐ có vi phạm | O4: Số có vi phạm nhưng chưa đến mức phải kỷ luật | P4: Số có vi phạm phải thi hành kỷ luật | Q4: Số có vi phạm đã thi hành kỷ luật | R4: Nội dung vi phạm | AB4: Đảng viên có vi phạm (ĐVT: đảng viên)
D5: UBKT Trung ương | E5: UBKT tỉnh uỷ và tương đương | F5: UBKT đảng ủy cấp trên trực tiếp cơ sở và tương đương | G5: UBKT đảng ủy cơ sở | H5: Tài chính của cấp ủy | I5: Tài chính của đơn vị hành chính | J5: Tài chính của đơn vị sự nghiệp | K5: Sản xuất kinh doanh | L5: Xây dựng cơ bản, sửa chữa, mua sắm tài sản | M5: Các nội dung khác | R5: Trong công tác tham mưu, thực hiện quy định, chính sách | S5: Trong công tác chỉ đạo, hướng dẫn, kiểm tra tài chính cấp dưới | T5: Trong chi tiêu, quản lý tài chính | U5: Trong công tác hạch toán, kế toán | V5: Trong đó | AB5: Tổng số | AC5: Có vi phạm chưa đến mức phải kỷ luật | AD5: Phải thi hành kỷ luật | AE5: Đã thi hành kỷ luật | AF5: Chuyển cơ quan pháp luật xử lý
V6: Số tiền vi phạm (ĐVT: Triệu đồng) | Y6: Đề nghị xử lý (ĐVT: Triệu đồng)
V7: Thất thoát, lãng phí | W7: Để ngoài sổ sách, sai chế độ | X7: Các vi phạm khác | Y7: Thu hồi, yêu cầu bồi thường | Z7: Xuất toán, hạch toán lại | AA7: Khác
A8: 1 | B8: 2 | C8: 3 | D8: 4 | E8: 5 | F8: 6 | G8: 7 | H8: 8 | I8: 9 | J8: 10 | K8: 11 | L8: 12 | M8: 13 | N8: 14 | O8: 15 | P8: 16 | Q8: 17 | R8: 18 | S8: 19 | T8: 20 | U8: 21 | V8: 22 | W8: 23 | X8: 24 | Y8: 25 | Z8: 26 | AA8: 27 | AB8: 28 | AC8: 29 | AD8: 30 | AE8: 31 | AF8: 32
A9: I | B9: Tổ chức đảng được kiểm tra | C9: =SUM(C10:C20) -> 0 | D9: =SUM(D11:D20) -> 0 | E9: =SUM(E10:E20) -> 0 | F9: =SUM(F10:F20) -> 0 | G9: =SUM(G10:G20) -> 0 | H9: =SUM(H10:H20) -> 0 | I9: =SUM(I10:I20) -> 0 | J9: =SUM(J10:J20) -> 0 | K9: =SUM(K10:K20) -> 0 | L9: =SUM(L10:L20) -> 0 | ... AF9: =SUM(AF10:AF20) -> 0
B10: Văn phòng Trung ương | C10: =SUM(D10:G10) -> 0 | N10: =SUM(O10:P10) -> 0 | AB10: =SUM(AC10:AD10) -> 0
B11: Đơn vị dự toán ngân sách cấp dưới trực thuộc của Trung ương | C11: =SUM(D11:G11) -> 0 | N11: =SUM(O11:P11) -> 0 | AB11: =SUM(AC11:AD11) -> 0
B12: Doanh nghiệp của Đảng ở Trung ương | C12: =SUM(D12:G12) -> 0 | N12: =SUM(O12:P12) -> 0 | AB12: =SUM(AC12:AD12) -> 0
B13: Tỉnh ủy, BTV tỉnh ủy và tương đương | C13: =SUM(D13:G13) -> 0 | N13: =SUM(O13:P13) -> 0 | AB13: =SUM(AC13:AD13) -> 0
B14: Cơ quan tài chính tỉnh ủy và tương đương | C14: =SUM(D14:G14) -> 0 | N14: =SUM(O14:P14) -> 0 | AB14: =SUM(AC14:AD14) -> 0
B15: Đơn vị dự toán ngân sách cấp dưới trực thuộc của tỉnh ủy và tương đương | C15: =SUM(D15:G15) -> 0 | N15: =SUM(O15:P15) -> 0 | AB15: =SUM(AC15:AD15) -> 0
B16: Doanh nghiệp của Đảng ở tỉnh ủy và tương đương | C16: =SUM(D16:G16) -> 0 | N16: =SUM(O16:P16) -> 0 | AB16: =SUM(AC16:AD16) -> 0
B17: Đảng ủy, BTV ĐU cấp trên trực tiếp cơ sở và tương đương | C17: =SUM(D17:G17) -> 0 | N17: =SUM(O17:P17) -> 0 | AB17: =SUM(AC17:AD17) -> 0
B18: Cơ quan tài chính cấp ủy cấp trên trực tiếp cơ sở và tương đương | C18: =SUM(D18:G18) -> 0 | N18: =SUM(O18:P18) -> 0 | AB18: =SUM(AC18:AD18) -> 0
B19: Đảng ủy cơ sở, BTV đảng ủy cơ sở | C19: =SUM(D19:G19) -> 0 | N19: =SUM(O19:P19) -> 0 | AB19: =SUM(AC19:AD19) -> 0
B20: Đảng ủy bộ phận, chi bộ trực thuộc | C20: =SUM(D20:G20) -> 0 | N20: =SUM(O20:P20) -> 0 | AB20: =SUM(AC20:AD20) -> 0
A21: II | B21: Cấp kiểm tra | O21: =SUM(O22:O25) -> 0 | P21: =SUM(P22:P25) -> 0 | Q21: =SUM(Q22:Q25) -> 0 | AC21: =SUM(AC22:AC25) -> 0 | AD21: =SUM(AD22:AD25) -> 0 | AE21: =SUM(AE22:AE25) -> 0 | AF21: =SUM(AF22:AF25) -> 0
B22: UBKT Trung ương
B23: UBKT tỉnh uỷ và tương đương
B24: UBKT đảng ủy cấp trên trực tiếp cơ sở và tương đương
B25: UBKT đảng ủy cơ sở

Sheet B26
A1: KIỂM TRA TÀI CHÍNH ĐẢNG (VỀ VIỆC THU, NỘP, QUẢN LÝ VÀ SỬ DỤNG ĐẢNG PHÍ) | Z1: Biểu 26
A3: TT | B3: Nội dung | C3: Tổng số tổ chức đảng được kiểm tra | D3: Cấp kiểm tra (ĐVT: TCĐ) | H3: Số lượng đảng viên tại TCĐ được kiểm tra theo cấp kiểm tra (ĐVT: đảng viên) | M3: Kết luận
D4: UBKT Trung ương | E4: UBKT tỉnh uỷ và tương đương | F4: UBKT đảng ủy cấp trên trực tiếp cơ sở và tương đương | G4: UBKT đảng uỷ cơ sở | H4: Tổng số đảng viên | I4: UBKT Trung ương | J4: UBKT tỉnh uỷ và tương đương | K4: UBKT đảng ủy cấp trên trực tiếp cơ sở và tương đương | L4: UBKT đảng uỷ cơ sở | M4: Số tổ chức đảng có vi phạm | N4: Phải thi hành kỷ luật | O4: Đã thi hành kỷ luật | P4: Số tiền vi phạm (ĐVT: triệu đồng) | Y4: Đảng viên có vi phạm (ĐVT: đảng viên)
P5: Tổng số | Q5: Nội dung vi phạm | U5: Đề nghị xử lý | Y5: Tổng số | Z5: Có vi phạm nhưng chưa đến mức phải kỷ luật | AA5: Phải thi hành kỷ luật | AB5: Đã thi hành kỷ luật
Q6: Thu thiếu | R6: Thu thừa | S6: Chi sai chế độ | T6: Khác | U6: Xuất toán, thu hồi | V6: Hạch toán lại | W6: Giao đơn vị xử lý | X6: Khác
A7: 1 | B7: 2 | C7: 3 | D7: 4 | E7: 5 | F7: 6 | G7: 7 | H7: 8 | I7: 9 | J7: 10 | K7: 11 | L7: 12 | M7: 13 | N7: 14 | O7: 15 | P7: 16 | Q7: 17 | R7: 18 | S7: 19 | T7: 20 | U7: 21 | V7: 22 | W7: 23 | X7: 24 | Y7: 25 | Z7: 26 | AA7: 27 | AB7: 28
A8: I | B8: Tổ chức đảng được kiểm tra | C8: =SUM(C9:C15) -> 0 | D8: =SUM(D9:D15) -> 0 | E8: =SUM(E9:E15) -> 0 | F8: =SUM(F9:F15) -> 0 | G8: =SUM(G9:G15) -> 0 | H8: =SUM(H9:H15) -> 0 | I8: =SUM(I9:I15) -> 0 | J8: =SUM(J9:J15) -> 0 | ... AB8: =SUM(AB9:AB15) -> 0
B9: Văn phòng Trung ương | C9: =SUM(D9:G9) -> 0 | H9: =SUM(I9:L9) -> 0 | P9: =SUM(Q9:T9) -> 0 | Y9: =Z9+AA9 -> 0
B10: Tỉnh ủy, BTV tỉnh ủy và tương đương | C10: =SUM(D10:G10) -> 0 | H10: =SUM(I10:L10) -> 0 | P10: =SUM(Q10:T10) -> 0 | Y10: =Z10+AA10 -> 0
B11: Cơ quan tài chính tỉnh ủy và tương đương | C11: =SUM(D11:G11) -> 0 | H11: =SUM(I11:L11) -> 0 | P11: =SUM(Q11:T11) -> 0 | Y11: =Z11+AA11 -> 0
B12: Đảng ủy, BTV ĐU cấp trên trực tiếp cơ sở và tương đương | C12: =SUM(D12:G12) -> 0 | H12: =SUM(I12:L12) -> 0 | P12: =SUM(Q12:T12) -> 0 | Y12: =Z12+AA12 -> 0
B13: Cơ quan tài chính cấp ủy cấp trên trực tiếp cơ sở và tương đương | C13: =SUM(D13:G13) -> 0 | H13: =SUM(I13:L13) -> 0 | P13: =SUM(Q13:T13) -> 0 | Y13: =Z13+AA13 -> 0
B14: Đảng ủy cơ sở, BTV đảng ủy cơ sở | C14: =SUM(D14:G14) -> 0 | H14: =SUM(I14:L14) -> 0 | P14: =SUM(Q14:T14) -> 0 | Y14: =Z14+AA14 -> 0
B15: Chi bộ, đảng bộ trực thuộc, Chi ủy | C15: =SUM(D15:G15) -> 0 | H15: =SUM(I15:L15) -> 0 | P15: =SUM(Q15:T15) -> 0 | Y15: =Z15+AA15 -> 0
A16: II | B16: Cấp kiểm tra | C16: =SUM(C17:C20) -> 0 | H16: =SUM(H17:H20) -> 0 | M16: =SUM(M17:M20) -> 0 | N16: =SUM(N17:N20) -> 0 | O16: =SUM(O17:O20) -> 0 | P16: =SUM(P17:P20) -> 0 | Q16: =SUM(Q17:Q20) -> 0 | R16: =SUM(R17:R20) -> 0 | S16: =SUM(S17:S20) -> 0 | T16: =SUM(T17:T20) -> 0 | ... AB16: =SUM(AB17:AB20) -> 0
B17: UBKT Trung ương | C17: =D8 -> 0 | H17: =I8 -> 0 | P17: =SUM(Q17:T17) -> 0 | Y17: =SUM(Z17:AA17) -> 0
B18: UBKT tỉnh uỷ và tương đương | C18: =E8 -> 0 | H18: =J8 -> 0 | P18: =SUM(Q18:T18) -> 0 | Y18: =SUM(Z18:AA18) -> 0
B19: UBKT đảng ủy cấp trên trực tiếp cơ sở và tương đương | C19: =F8 -> 0 | H19: =K8 -> 0 | P19: =SUM(Q19:T19) -> 0 | Y19: =SUM(Z19:AA19) -> 0
B20: UBKT đảng uỷ cơ sở | C20: =G8 -> 0 | H20: =L8 -> 0 | P20: =SUM(Q20:T20) -> 0 | Y20: =SUM(Z20:AA20) -> 0

Sheet B27
A1: KIỂM TRA, XÁC MINH TÀI SẢN, THU NHẬP CỦA ỦY BAN KIỂM TRA CÁC CẤP | Q1: Biểu 27
L2: (ĐVT: Đảng viên)
A3: TT | B3: Đảng viên được kiểm tra, xác minh | C3: Số đảng viên có nghĩa vụ kê khai tài sản, thu nhập thuộc thẩm quyền quản lý | D3: Tổng số đảng viên được kiểm tra, xác minh | E3: Cấp kiểm tra, xác minh | H3: Nội dung kiểm tra, xác minh | L3: Kết quả
E4: UBKT Trung ương | F4: UBKT tỉnh uỷ và tương đương | G4: UBKT đảng ủy cấp trên trực tiếp cơ sở và tương đương | H4: Tính trung thực, đầy đủ, rõ ràng của bản kê khai | I4: Về biến động tài sản, thu nhập | J4: Giải trình nguồn gốc tài sản, thu nhập tăng thêm | K4: Khác | L4: Thực hiện tốt | M4: Thực hiện chưa tốt | N4: Trong đó
N5: Có vi phạm, khuyết điểm chưa đến mức phải kỷ luật | O5: Phải thi hành kỷ luật | P5: Đã thi hành kỷ luật | Q5: Chuyển kiểm tra khi có dấu hiệu vi phạm | R5: Chuyển cơ quan có thẩm quyền xem xét
A6: 1 | B6: 2 | C6: 3 | D6: 4 | E6: 5 | F6: 6 | G6: 7 | H6: 8 | I6: 9 | J6: 10 | K6: 11 | L6: 12 | M6: 13 | N6: 14 | O6: 15 | P6: 16 | Q6: 17 | R6: 18
A7: I | B7: Cấp quản lý đảng viên | C7: =SUM(C8:C11) -> 16 | D7: =SUM(D8:D11) -> 0 | E7: =SUM(E8:E11) -> 0 | F7: =SUM(F8:F11) -> 0 | G7: =SUM(G8:G11) -> 0 | H7: =SUM(H8:H11) -> 0 | I7: =SUM(I8:I11) -> 0 | J7: =SUM(J8:J11) -> 0 | ... R7: =SUM(R8:R11) -> 0
B8: Trung ương | D8: =SUM(E8:G8) -> 0
B9: Cấp tỉnh và tương đương | D9: =SUM(E9:G9) -> 0
B10: Cấp trên trực tiếp cơ sở và tương đương | C10: 16 | D10: =SUM(E10:G10) -> 0
B11: Cấp cơ sở | D11: =SUM(E11:G11) -> 0
A12: II | B12: Cấp ủy viên các cấp | C12: =SUM(C13:C18) -> 16 | D12: =D13+D14+D15+D16+D17+D18 -> 0 | E12: =E13+E14+E15+E16+E17+E18 -> 0 | F12: =F13+F14+F15+F16+F17+F18 -> 0 | G12: =G13+G14+G15+G16+G17+G18 -> 0 | H12: =H13+H14+H15+H16+H17+H18 -> 0 | I12: =I13+I14+I15+I16+I17+I18 -> 0 | J12: =J13+J14+J15+J16+J17+J18 -> 0 | K12: =K13+K14+K15+K16+K17+K18 -> 0 | ... R12: =R13+R14+R15+R16+R17+R18 -> 0
B13: Uỷ viên Trung ương | D13: =SUM(E13:G13) -> 0
B14: Tỉnh ủy viên và tương đương | D14: =SUM(E14:G14) -> 0
B15: Đảng ủy viên ĐU cấp trên trực tiếp cơ sở và tương đương | C15: 14 | D15: =SUM(E15:G15) -> 0
B16: Đảng uỷ viên đảng ủy cơ sở | D16: =SUM(E16:G16) -> 0
B17: Đảng ủy viên đảng ủy bộ phận | D17: =SUM(E17:G17) -> 0
B18: Chi uỷ viên | C18: 2 | D18: =SUM(E18:G18) -> 0
A19: III | B19: Đảng viên ở các lĩnh vực | C19: =SUM(C20:C26) -> 16 | D19: =SUM(D20:D26) -> 0 | E19: =SUM(E20:E26) -> 0 | F19: =SUM(F20:F26) -> 0 | G19: =SUM(G20:G26) -> 0 | H19: =SUM(H20:H26) -> 0 | I19: =SUM(I20:I26) -> 0 | J19: =SUM(J20:J26) -> 0 | ... R19: =SUM(R20:R26) -> 0
B20: Đảng | C20: 3 | D20: =SUM(E20:G20) -> 0
B21: Hành chính, Nhà nước | C21: 5 | D21: =SUM(E21:G21) -> 0
B22: Đoàn thể | C22: 1 | D22: =SUM(E22:G22) -> 0
B23: Lực lượng vũ trang | D23: =SUM(E23:G23) -> 0
B24: Sự nghiệp công lập | C24: 7 | D24: =SUM(E24:G24) -> 0
B25: Sản xuất kinh doanh, dịch vụ | D25: =SUM(E25:G25) -> 0
B26: Các lĩnh vực khác | D26: =SUM(E26:G26) -> 0
A27: IV | B27: Kiểm tra, xác minh từ các nhiệm vụ | D27: =SUM(D28:D34) -> 0 | E27: =SUM(E28:E34) -> 0 | F27: =SUM(F28:F34) -> 0 | G27: =SUM(G28:G34) -> 0 | H27: =SUM(H28:H34) -> 0 | I27: =SUM(I28:I34) -> 0 | J27: =SUM(J28:J34) -> 0 | K27: =SUM(K28:K34) -> 0 | ... R27: =SUM(R28:R34) -> 0
B28: Kiểm tra khi có DHVP | D28: =SUM(E28:G28) -> 0
B29: Giải quyết tố cáo | D29: =SUM(E29:G29) -> 0
B30: Giám sát chuyên đề | D30: =SUM(E30:G30) -> 0
B31: Kiểm tra việc thực hiện nhiệm vụ KT, GS và THKL | D31: =SUM(E31:G31) -> 0
B32: Kế hoạch xác minh tài sản, thu nhập hằng năm | D32: =SUM(E32:G32) -> 0
B33: Xác minh tài sản, thu nhập theo Luật PCTN | D33: =SUM(E33:G33) -> 0
B34: Khác (từ đề nghị của TCĐ cấp dưới, từ chỉ đạo của cấp trên giao...) | D34: =SUM(E34:G34) -> 0
A35: V | B35: Kết quả
B36: Thực hiện tốt | D36: =SUM(E36:G36) -> 0
B37: Thực hiện chưa tốt | D37: =SUM(E37:G37) -> 0
B38: Có vi phạm, khuyết điểm chưa đến mức phải kỷ luật | D38: =SUM(E38:G38) -> 0
B39: Phải thi hành kỷ luật | D39: =SUM(E39:G39) -> 0
B40: Đã thi hành kỷ luật | D40: =SUM(E40:G40) -> 0
B41: Chuyển kiểm tra khi có dấu hiệu vi phạm | D41: =SUM(E41:G41) -> 0
B42: Chuyển cơ quan có thẩm quyền xem xét | D42: =SUM(E42:G42) -> 0
B43: Số đảng viên chuyển kiểm tra khi có dấu hiệu vi phạm | V43: =IF(SUM(H43:K43)>=D43,"Đúng","Sai") -> Đúng
B44: Số đảng viên chuyển cơ quan có thẩm quyền xem xét | V44: =IF(SUM(H44:K44)>=D44,"Đúng","Sai") -> Đúng

Sheet B28
A1: TIẾP NHẬN, XỬ LÝ ĐƠN CỦA ỦY BAN KIỂM TRA CÁC CẤP | AA1: Biểu 28
AA2: (ĐVT: đơn)
A3: TT | B3: Ủy ban kiểm tra các cấp xử lý đơn thư | C3: Tổng số đơn thư | D3: Phân loại đơn | H3: Phân loại xử lý | J3: Nội dung | U3: Kết quả xử lý | AC3: Tổng số lượt tiếp đảng viên và công dân
D4: Đơn tố cáo | E4: Khiếu nại kỷ luật đảng | F4: Phản ánh, kiến nghị | G4: Khác | H4: Đơn đủ điều kiện xử lý | I4: Đơn không đủ điều kiện xử lý | J4: Việc chấp hành Cương lĩnh chính trị, Điều lệ Đảng, chủ trương, nghị quyết, chỉ thị, quy định, quy chế, kết luận của Đảng | K4: Việc chấp hành nguyên tắc tập trung dân chủ, quy chế làm việc, chế độ công tác; các nguyên tắc sinh hoạt của Đảng | L4: Việc chấp hành chính sách, pháp luật của Nhà nước | M4: Việc thực hiện nhiệm vụ đảng viên, nhiệm vụ cấp ủy viên; tiêu chuẩn đảng viên, tiêu chuẩn cấp ủy viên | N4: Việc ban hành các quyết định vi phạm quy định của Đảng, chính sách, pháp luật của Nhà nước | O4: Việc giữ gìn đoàn kết nội bộ | P4: Những điều đảng viên không được làm | Q4: Tham nhũng, cố ý làm trái | R4: Thiếu trách nhiệm, buông lỏng lãnh đạo | S4: Việc kê khai tài sản, thu nhập | T4: Khác | U4: Thành lập đoàn giải quyết tố cáo | V4: Thành lập đoàn giải quyết khiếu nại kỷ luật đảng | W4: Kết thúc đơn, không giải quyết tố cáo | X4: Kết thúc đơn, không giải quyết khiếu nại kỷ luật đảng | Y4: Đơn phục vụ công tác kiểm tra, giám sát | Z4: Chuyển đơn đến cơ quan có thẩm quyền | AA4: Hướng dẫn, trả đơn; kết thúc tố cáo | AB4: Lưu đơn
A5: 1 | B5: 2 | C5: 3 | D5: 4 | E5: 5 | F5: 6 | G5: 7 | H5: 8 | I5: 9 | J5: 10 | K5: 11 | L5: 12 | M5: 13 | N5: 14 | O5: 15 | P5: 16 | Q5: 17 | R5: 18 | S5: 19 | T5: 20 | U5: 21 | V5: 22 | W5: 23 | X5: 24 | Y5: 25 | Z5: 26 | AA5: 27 | AB5: 28 | AC5: 29
B6: Trung ương | C6: =SUM(D6:G6) -> 0
B7: Cấp tỉnh | C7: =SUM(D7:G7) -> 0
B8: Cấp trên trực tiếp cơ sở và tương đương | C8: =SUM(D8:G8) -> 0
B9: Cấp cơ sở | C9: =SUM(D9:G9) -> 0
A10: I | B10: CỘNG | C10: =SUM(C6:C9) -> 0 | D10: =SUM(D6:D9) -> 0 | E10: =SUM(E6:E9) -> 0 | F10: =SUM(F6:F9) -> 0 | G10: =SUM(G6:G9) -> 0 | H10: =SUM(H6:H9) -> 0 | I10: =SUM(I6:I9) -> 0 | J10: =SUM(J6:J9) -> 0 | ... AC10: =SUM(AC6:AC9) -> 0

Sheet B29
A1: TÌNH HÌNH ĐỘI NGŨ CÁN BỘ NGÀNH KIỂM TRA CÁC CẤP | AI1: Biểu 29
AI2: (ĐVT: người)
A3: TT | B3: UBKT các cấp | C3: Tổng số | D3: Giới tính | F3: Đảng viên | G3: Độ tuổi | M3: Cơ cấu ngạch | R3: Trình độ | AE3: Luân chuyển trong kỳ1
R4: Chuyên môn | AB4: Lý luận chính trị
D5: Nam | E5: Nữ | G5: Từ 30 tuổi trở xuống | H5: từ 31 đến 40 | I5: từ 41 đến 50 | J5: Từ 51 đến 55 | K5: Từ 56 đến 60 | L5: Trên 60 tuổi | M5: KTVCC và tương đương | N5: KTVC hoặc tương đương | O5: KTV và tương đương | P5: Cán sự và tương đương | Q5: Nhân viên | R5: Học vị | U5: Lĩnh vực2 | AE5: Trong ngành | AK5: Ngoài ngành
R6: Cử nhân, kỹ sư, bác sỹ | S6: Thạc sĩ | T6: Tiến sĩ | U6: Chính trị - Hành chính | V6: Kinh tế | W6: Pháp luật | X6: Quốc phòng - An ninh | Y6: Khoa học kỹ thuật | Z6: khoa học công nghệ | AA6: Khác | AB6: Cử nhân, Cao cấp | AC6: Trung cấp | AD6: Sơ cấp | AE6: Cùng cấp | AG6: Khác cấp
AE7: Chuyển đi | AF7: Chuyển đến | AG7: Chuyển đi cấp trên | AH7: Chuyển đi cấp dưới | AI7: Cấp dưới chuyển lên | AJ7: Cấp trên chuyển xuống | AK7: Đi ngoài ngành | AL7: Ngoài ngành đến
A8: 1 | B8: 2 | C8: 3 | D8: 4 | E8: 5 | F8: 6 | G8: 7 | H8: 8 | I8: 9 | J8: 10 | K8: 11 | L8: 12 | M8: 13 | N8: 14 | O8: 15 | P8: 16 | Q8: 17 | R8: 18 | S8: 19 | T8: 20 | U8: 21 | V8: 22 | W8: 23 | X8: 24 | Y8: 25 | Z8: 26 | AA8: 27 | AB8: 28 | AC8: 29 | AD8: 30 | AE8: 31 | AF8: 32 | AG8: 33 | AH8: 34 | AI8: 35 | AJ8: 36 | AK8: 37 | AL8: 38
A9: I | B9: Trung ương | C9: =SUM(D9:E9) -> 0 | D9: =SUM(D10:D15) -> 0 | E9: =SUM(E10:E15) -> 0 | F9: =SUM(F10:F15) -> 0 | G9: =SUM(G10:G15) -> 0 | H9: =SUM(H10:H15) -> 0 | I9: =SUM(I10:I15) -> 0 | J9: =SUM(J10:J15) -> 0 | K9: =SUM(K10:K15) -> 0 | ... AL9: =SUM(AL10:AL15) -> 0
B10: Chủ nhiệm | C10: =SUM(D10:E10) -> 0
B11: Phó Chủ nhiệm | C11: =SUM(D11:E11) -> 0
B12: Ủy viên chuyên trách | C12: =SUM(D12:E12) -> 0
B13: Ủy viên kiêm chức | C13: =SUM(D13:E13) -> 0
B14: Công chức kiểm tra | C14: =SUM(D14:E14) -> 0
B15: Khác | C15: =SUM(D15:E15) -> 0
A16: II | B16: Cấp tỉnh và tương đương | C16: =SUM(D16:E16) -> 0 | D16: =SUM(D17:D22) -> 0 | E16: =SUM(E17:E22) -> 0 | F16: =SUM(F17:F22) -> 0 | G16: =SUM(G17:G22) -> 0 | H16: =SUM(H17:H22) -> 0 | I16: =SUM(I17:I22) -> 0 | J16: =SUM(J17:J22) -> 0 | K16: =SUM(K17:K22) -> 0 | ... AL16: =SUM(AL17:AL22) -> 0
B17: Chủ nhiệm | C17: =SUM(D17:E17) -> 0
B18: Phó Chủ nhiệm | C18: =SUM(D18:E18) -> 0
B19: Ủy viên chuyên trách | C19: =SUM(D19:E19) -> 0
B20: Ủy viên kiêm chức | C20: =SUM(D20:E20) -> 0
B21: Công chức kiểm tra | C21: =SUM(D21:E21) -> 0
B22: Khác | C22: =SUM(D22:E22) -> 0
A23: III | B23: Cấp trên trực tiếp cơ sở và tương đương | C23: =SUM(D23:E23) -> 5 | D23: =SUM(D24:D29) -> 5 | E23: =SUM(E24:E29) -> 0 | F23: =SUM(F24:F29) -> 5 | G23: =SUM(G24:G29) -> 0 | H23: =SUM(H24:H29) -> 2 | I23: =SUM(I24:I29) -> 3 | J23: =SUM(J24:J29) -> 0 | K23: =SUM(K24:K29) -> 0 | ... AL23: =SUM(AL24:AL29) -> 0
B24: Chủ nhiệm | C24: =SUM(D24:E24) -> 1 | D24: 1 | F24: 1 | I24: 1 | O24: 1 | R24: 1 | AA24: 1 | AB24: 1
B25: Phó Chủ nhiệm | C25: =SUM(D25:E25) -> 1 | D25: 1 | F25: 1 | I25: 1 | O25: 1 | R25: 1 | U25: 1 | AC25: 1
B26: Ủy viên chuyên trách | C26: =SUM(D26:E26) -> 3 | D26: 3 | F26: 3 | H26: 2 | I26: 1 | O26: 3 | R26: 2 | S26: 1 | V26: 1 | W26: 1 | AA26: 1 | AC26: 3
B27: Ủy viên kiêm chức | C27: =SUM(D27:E27) -> 0
B28: Công chức kiểm tra | C28: =SUM(D28:E28) -> 0
B29: Khác | C29: =SUM(D29:E29) -> 0
A30: IV | B30: Cấp cơ sở | C30: =SUM(D30:E30) -> 0 | D30: =SUM(D31:D36) -> 0 | E30: =SUM(E31:E36) -> 0 | F30: =SUM(F31:F36) -> 0 | G30: =SUM(G31:G36) -> 0 | H30: =SUM(H31:H36) -> 0 | I30: =SUM(I31:I36) -> 0 | J30: =SUM(J31:J36) -> 0 | K30: =SUM(K31:K36) -> 0 | ... AL30: =SUM(AL31:AL36) -> 0
B31: Chủ nhiệm | C31: =SUM(D31:E31) -> 0
B32: Phó Chủ nhiệm | C32: =SUM(D32:E32) -> 0
B33: Ủy viên chuyên trách | C33: =SUM(D33:E33) -> 0
B34: Ủy viên kiêm chức | C34: =SUM(D34:E34) -> 0
B35: Công chức kiểm tra | C35: =SUM(D35:E35) -> 0
B36: Khác | C36: =SUM(D36:E36) -> 0
A37: V | B37: Cộng (I + II + III + IV) | C37: =C9+C16+C23+C30 -> 5 | D37: =D9+D16+D23+D30 -> 5 | E37: =E9+E16+E23+E30 -> 0 | F37: =F9+F16+F23+F30 -> 5 | G37: =G9+G16+G23+G30 -> 0 | H37: =H9+H16+H23+H30 -> 2 | I37: =I9+I16+I23+I30 -> 3 | J37: =J9+J16+J23+J30 -> 0 | ... AL37: =AL9+AL16+AL23+AL30 -> 0
C39: 1 Theo Quy định số 65-QĐ/TW, ngày 28/4/2022 của Bộ Chính trị.
C40: 2 Lĩnh vực có học vị cao nhất, nếu có nhiều học vị tương đương, thống kê học vị được cấp đầu tiên

Sheet B30
A2: TÌNH HÌNH ĐÀO TẠO, BỒI DƯỠNG CÁN BỘ, CÔNG CHỨC LÀM CÔNG TÁC KIỂM TRA | AK2: Biểu 30
AH3: (ĐVT: Người)
A4: TT | B4: UBKT các cấp | C4: Tổng số cán bộ, công chức được đào tạo | D4: Giới tính | F4: Chức danh | L4: Kết quả đào tạo, bồi dưỡng
L5: Chuyên môn | P5: Lý luận chính trị | S5: Quản lý nhà nước | V5: Lãnh đạo quản lý các cấp | Z5: Quốc phòng và an ninh | AD5: Nghiệp vụ kiểm tra | AK5: Bồi dưỡng khác
D6: Nam | E6: Nữ | F6: Chủ nhiệm | G6: Phó Chủ nhiệm | H6: Ủy viên chuyên trách | I6: Ủy viên kiêm chức | J6: Công chức kiểm tra | K6: Khác | L6: Tiến sỹ | M6: Thạc sỹ | N6: Đại học | O6: Cao đẳng | P6: Cử nhân chính trị trở lên, cao cấp | Q6: Trung cấp | R6: Sơ cấp | S6: Ngạch CVCC | T6: Ngạch CVC | U6: Ngạch CV | V6: Cấp vụ và tương đương | W6: Cấp sở và tương đương | X6: Cấp trên trực tiếp cơ sở và tương đương | Y6: Cấp phòng và tương đương | Z6: Đối tượng 1 | AA6: Đối tượng 2 | AB6: Đối tượng 3 | AC6: Đối tượng 4 | AD6: Đại học (chuyên ngành công tác kiểm tra) | AE6: Bồi dưỡng ngạch | AH6: Bồi dưỡng chức danh CN, PCN | AI6: Bồi dưỡng NV công tác KT, GS | AJ6: Khác | AK6: Tin học | AL6: Ngoại ngữ | AM6: Khác
AE7: Ngạch KTVCC | AF7: Ngạch KTVC | AG7: Ngạch KTV
A8: 1 | B8: 2 | C8: 3 | D8: 4 | E8: 5 | F8: 6 | G8: 7 | H8: 8 | I8: 9 | J8: 10 | K8: 11 | L8: 12 | M8: 13 | N8: 14 | O8: 15 | P8: 16 | Q8: 17 | R8: 18 | S8: 19 | T8: 20 | U8: 21 | V8: 22 | W8: 23 | X8: 24 | Y8: 25 | Z8: 26 | AA8: 27 | AB8: 28 | AC8: 29 | AD8: 30 | AE8: 31 | AF8: 32 | AG8: 33 | AH8: 34 | AI8: 35 | AJ8: 36 | AK8: 37 | AL8: 38 | AM8: 39
B9: Trung ương | C9: =SUM(F9:K9) -> 0
B10: Cấp tỉnh | C10: =SUM(F10:K10) -> 0
B11: Cấp trên trực tiếp cơ sở và tương đương | C11: =SUM(F11:K11) -> 0
B12: Cấp cơ sở | C12: =SUM(F12:K12) -> 0
A13: I | B13: Cộng | C13: =SUM(C9:C12) -> 0 | D13: =SUM(D9:D12) -> 0 | E13: =SUM(E9:E12) -> 0 | F13: =SUM(F9:F12) -> 0 | G13: =SUM(G9:G12) -> 0 | H13: =SUM(H9:H12) -> 0 | I13: =SUM(I9:I12) -> 0 | J13: =SUM(J9:J12) -> 0 | ... AM13: =SUM(AM9:AM12) -> 0
